Back to Multiple platform build/check report for BioC 3.15
ABC[D]EFGHIJKLMNOPQRSTUVWXYZ

This page was generated on 2021-11-30 13:54:51 -0500 (Tue, 30 Nov 2021).

BUILD BIN results for doppelgangR on riesling1

To the developers/maintainers of the doppelgangR package:
- Please allow up to 24 hours (and sometimes 48 hours) for your latest push to git@git.bioconductor.org:packages/doppelgangR.git to
reflect on this report. See How and When does the builder pull? When will my changes propagate? here for more information.
- Make sure to use the following settings in order to reproduce any error or warning you see on this page.

raw results

Package 532/2068HostnameOS / ArchINSTALLBUILDCHECKBUILD BIN
doppelgangR 1.23.0  (landing page)
Levi Waldron
Snapshot Date: 2021-11-29 14:50:17 -0500 (Mon, 29 Nov 2021)
git_url: https://git.bioconductor.org/packages/doppelgangR
git_branch: master
git_last_commit: 8b1f509
git_last_commit_date: 2021-10-26 12:26:10 -0500 (Tue, 26 Oct 2021)
nebbiolo1Linux (Ubuntu 20.04.3 LTS) / x86_64  OK    OK    OK  UNNEEDED, same version is already published
riesling1Windows Server 2019 Standard / x64  OK    OK    OK    OK  
merida1macOS 10.14.6 Mojave / x86_64  OK    OK    OK    OK  UNNEEDED, same version is already published

Summary

Package: doppelgangR
Version: 1.23.0
Command: rm -rf doppelgangR.buildbin-libdir && mkdir doppelgangR.buildbin-libdir && D:\biocbuild\bbs-3.15-bioc\R\bin\R.exe CMD INSTALL --merge-multiarch --build --library=doppelgangR.buildbin-libdir doppelgangR_1.23.0.tar.gz
StartedAt: 2021-11-30 05:44:01 -0500 (Tue, 30 Nov 2021)
EndedAt: 2021-11-30 05:48:33 -0500 (Tue, 30 Nov 2021)
EllapsedTime: 271.7 seconds
RetCode: 0
Status:   OK  
PackageFile: doppelgangR_1.23.0.zip
PackageFileSize: 839.5 KiB

Command output

##############################################################################
##############################################################################
###
### Running command:
###
###   rm -rf doppelgangR.buildbin-libdir && mkdir doppelgangR.buildbin-libdir && D:\biocbuild\bbs-3.15-bioc\R\bin\R.exe CMD INSTALL --merge-multiarch --build --library=doppelgangR.buildbin-libdir doppelgangR_1.23.0.tar.gz
###
##############################################################################
##############################################################################


only one architecture so ignoring '--merge-multiarch'
* installing *source* package 'doppelgangR' ...
** using staged installation
** R
** inst
** byte-compile and prepare package for lazy loading
** help
*** installing help indices
  converting help for package 'doppelgangR'
    finding HTML links ... done
    DoppelGang-class                        html  
    colFinder                               html  
    corFinder                               html  
    doppelgangR-package                     html  
    doppelgangR                             html  
    dst                                     html  
    mst.mle                                 html  
    outlierFinder                           html  
    phenoDist                               html  
    phenoFinder                             html  
    plot-methods                            html  
    smokingGunFinder                        html  
    vectorHammingDist                       html  
    vectorWeightedDist                      html  
** building package indices
** installing vignettes
** testing if installed package can be loaded from temporary location
** testing if installed package can be loaded from final location
** testing if installed package keeps a record of temporary installation path
* MD5 sums
packaged installation of 'doppelgangR' as doppelgangR_1.23.0.zip
* DONE (doppelgangR)