Back to Multiple platform build/check report for BioC 3.15
ABC[D]EFGHIJKLMNOPQRSTUVWXYZ

This page was generated on 2022-01-18 11:07:10 -0500 (Tue, 18 Jan 2022).

HostnameOSArch (*)R versionInstalled pkgs
nebbiolo1Linux (Ubuntu 20.04.4 LTS)x86_64R Under development (unstable) (2022-01-05 r81451) -- "Unsuffered Consequences" 4161
riesling1Windows Server 2019 Standardx64R Under development (unstable) (2021-11-21 r81221) -- "Unsuffered Consequences" 4056
palomino3Windows Server 2022 Datacenterx64R Under development (unstable) (2021-12-21 r81400 ucrt) -- "Unsuffered Consequences" 3998
merida1macOS 10.14.6 Mojavex86_64R Under development (unstable) (2022-01-05 r81451) -- "Unsuffered Consequences" 4115
Click on any hostname to see more info about the system (e.g. compilers)      (*) as reported by 'uname -p', except on Windows and Mac OS X

BUILD BIN results for dmrseq on riesling1


To the developers/maintainers of the dmrseq package:
- Please allow up to 24 hours (and sometimes 48 hours) for your latest push to git@git.bioconductor.org:packages/dmrseq.git to
reflect on this report. See How and When does the builder pull? When will my changes propagate? here for more information.
- Make sure to use the following settings in order to reproduce any error or warning you see on this page.

raw results

Package 530/2074HostnameOS / ArchINSTALLBUILDCHECKBUILD BIN
dmrseq 1.15.1  (landing page)
Keegan Korthauer
Snapshot Date: 2022-01-17 13:55:17 -0500 (Mon, 17 Jan 2022)
git_url: https://git.bioconductor.org/packages/dmrseq
git_branch: master
git_last_commit: e64d866
git_last_commit_date: 2021-11-15 19:56:46 -0500 (Mon, 15 Nov 2021)
nebbiolo1Linux (Ubuntu 20.04.4 LTS) / x86_64  OK    OK    OK  UNNEEDED, same version is already published
riesling1Windows Server 2019 Standard / x64  OK    OK    OK    OK  
palomino3Windows Server 2022 Datacenter / x64  OK    OK    OK    OK  NO, package depends on 'bsseq' which is not available
merida1macOS 10.14.6 Mojave / x86_64  OK    OK    OK    OK  UNNEEDED, same version is already published

Summary

Package: dmrseq
Version: 1.15.1
Command: rm -rf dmrseq.buildbin-libdir && mkdir dmrseq.buildbin-libdir && D:\biocbuild\bbs-3.15-bioc\R\bin\R.exe CMD INSTALL --build --library=dmrseq.buildbin-libdir dmrseq_1.15.1.tar.gz
StartedAt: 2022-01-17 20:55:01 -0500 (Mon, 17 Jan 2022)
EndedAt: 2022-01-17 20:56:09 -0500 (Mon, 17 Jan 2022)
EllapsedTime: 68.6 seconds
RetCode: 0
Status:   OK  
PackageFile: dmrseq_1.15.1.zip
PackageFileSize: 4.679 MiB

Command output

##############################################################################
##############################################################################
###
### Running command:
###
###   rm -rf dmrseq.buildbin-libdir && mkdir dmrseq.buildbin-libdir && D:\biocbuild\bbs-3.15-bioc\R\bin\R.exe CMD INSTALL --build --library=dmrseq.buildbin-libdir dmrseq_1.15.1.tar.gz
###
##############################################################################
##############################################################################


* installing *source* package 'dmrseq' ...
** using staged installation
** R
** data
*** moving datasets to lazyload DB
** inst
** byte-compile and prepare package for lazy loading
** help
*** installing help indices
  converting help for package 'dmrseq'
    finding HTML links ... done
    BS.chr21                                html  
    annot.chr21                             html  
    dmrPlotAnnotations                      html  
    dmrs.ex                                 html  
    dmrseq                                  html  
    getAnnot                                html  
    meanDiff                                html  
    plotDMRs                                html  
    plotEmpiricalDistribution               html  
    simDMRs                                 html  
** building package indices
** installing vignettes
** testing if installed package can be loaded from temporary location
** testing if installed package can be loaded from final location
** testing if installed package keeps a record of temporary installation path
* MD5 sums
packaged installation of 'dmrseq' as dmrseq_1.15.1.zip
* DONE (dmrseq)