Name | Last modified | Size | Description | |
---|---|---|---|---|
Parent Directory | - | |||
install-summary.dcf | 18-Jul-2024 00:39 | 266 | ||
checksrc-summary.dcf | 18-Jul-2024 00:39 | 443 | ||
buildsrc-summary.dcf | 18-Jul-2024 00:39 | 450 | ||
buildbin-summary.dcf | 18-Jul-2024 00:39 | 509 | ||
buildsrc-out.txt | 18-Jul-2024 00:39 | 834 | ||
install-out.txt | 18-Jul-2024 00:39 | 1.0K | ||
buildbin-out.txt | 18-Jul-2024 00:39 | 1.1K | ||
checksrc-out.txt | 18-Jul-2024 00:39 | 3.4K | ||