Index of /checkResults/devel/bioc-LATEST/distinct/raw-results/palomino3

[ICO]NameLast modifiedSizeDescription

[DIR]Parent Directory  -  
[TXT]buildbin-out.txt23-Feb-2024 02:48 3.3K 
[   ]buildbin-summary.dcf23-Feb-2024 02:48 520  
[TXT]buildsrc-out.txt23-Feb-2024 02:48 969  
[   ]buildsrc-summary.dcf23-Feb-2024 02:48 457  
[TXT]checksrc-out.txt23-Feb-2024 02:48 5.0K 
[   ]checksrc-summary.dcf23-Feb-2024 02:48 451  
[TXT]install-out.txt23-Feb-2024 02:48 3.1K 
[   ]install-summary.dcf23-Feb-2024 02:48 270