![]() | Name | Last modified | Size | Description |
---|---|---|---|---|
![]() | Parent Directory | - | ||
![]() | buildsrc-out.txt | 24-Sep-2023 00:36 | 935 | |
![]() | buildsrc-summary.dcf | 24-Sep-2023 00:36 | 421 | |
![]() | checksrc-out.txt | 24-Sep-2023 00:36 | 4.7K | |
![]() | checksrc-summary.dcf | 24-Sep-2023 00:36 | 418 | |
![]() | install-out.txt | 24-Sep-2023 00:36 | 20K | |
![]() | install-summary.dcf | 24-Sep-2023 00:36 | 261 | |