Index of /checkResults/devel/bioc-LATEST/distinct/raw-results/merida1

[ICO]NameLast modifiedSizeDescription

[DIR]Parent Directory  -  
[TXT]buildbin-out.txt02-Mar-2024 01:38 7.3K 
[   ]buildbin-summary.dcf02-Mar-2024 01:38 537  
[TXT]buildsrc-out.txt02-Mar-2024 01:38 945  
[   ]buildsrc-summary.dcf02-Mar-2024 01:38 430  
[TXT]checksrc-out.txt02-Mar-2024 01:38 4.5K 
[   ]checksrc-summary.dcf02-Mar-2024 01:38 448  
[TXT]install-out.txt02-Mar-2024 01:38 3.7K 
[   ]install-summary.dcf02-Mar-2024 01:38 272