![]() | Name | Last modified | Size | Description |
---|---|---|---|---|
![]() | Parent Directory | - | ||
![]() | buildbin-out.txt | 24-Sep-2023 00:38 | 11K | |
![]() | buildbin-summary.dcf | 24-Sep-2023 00:38 | 536 | |
![]() | buildsrc-out.txt | 24-Sep-2023 00:38 | 945 | |
![]() | buildsrc-summary.dcf | 24-Sep-2023 00:38 | 430 | |
![]() | checksrc-out.txt | 24-Sep-2023 00:38 | 5.6K | |
![]() | checksrc-summary.dcf | 24-Sep-2023 00:38 | 454 | |
![]() | install-out.txt | 24-Sep-2023 00:38 | 7.2K | |
![]() | install-summary.dcf | 24-Sep-2023 00:38 | 271 | |