Index of /checkResults/devel/bioc-LATEST/distinct/raw-results/kunpeng2

[ICO]NameLast modifiedSizeDescription

[DIR]Parent Directory  -  
[TXT]buildsrc-out.txt30-Nov-2023 01:38 12K 
[   ]buildsrc-summary.dcf30-Nov-2023 01:38 345  
[TXT]install-out.txt30-Nov-2023 01:38 12K 
[   ]install-summary.dcf30-Nov-2023 01:38 274