Name | Last modified | Size | Description | |
---|---|---|---|---|
Parent Directory | - | |||
install-out.txt | 16-Jun-2024 01:33 | 953 | ||
install-summary.dcf | 16-Jun-2024 01:33 | 264 | ||
buildsrc-out.txt | 16-Jun-2024 01:33 | 842 | ||
buildsrc-summary.dcf | 16-Jun-2024 01:33 | 431 | ||
checksrc-out.txt | 16-Jun-2024 01:33 | 3.1K | ||
checksrc-summary.dcf | 16-Jun-2024 01:33 | 425 | ||