Name | Last modified | Size | Description | |
---|---|---|---|---|
Parent Directory | - | |||
install-summary.dcf | 16-Jun-2024 01:33 | 265 | ||
install-out.txt | 16-Jun-2024 01:33 | 2.8K | ||
checksrc-summary.dcf | 16-Jun-2024 01:33 | 425 | ||
checksrc-out.txt | 16-Jun-2024 01:33 | 4.1K | ||
buildsrc-summary.dcf | 16-Jun-2024 01:33 | 432 | ||
buildsrc-out.txt | 16-Jun-2024 01:33 | 872 | ||