Name | Last modified | Size | Description | |
---|---|---|---|---|
Parent Directory | - | |||
buildbin-out.txt | 29-Jun-2024 00:39 | 5.2K | ||
buildbin-summary.dcf | 29-Jun-2024 00:39 | 548 | ||
buildsrc-out.txt | 29-Jun-2024 00:39 | 858 | ||
buildsrc-summary.dcf | 29-Jun-2024 00:39 | 435 | ||
checksrc-out.txt | 29-Jun-2024 00:39 | 4.2K | ||
checksrc-summary.dcf | 29-Jun-2024 00:39 | 455 | ||
install-out.txt | 29-Jun-2024 00:39 | 3.1K | ||
install-summary.dcf | 29-Jun-2024 00:39 | 275 | ||