Name | Last modified | Size | Description | |
---|---|---|---|---|
Parent Directory | - | |||
install-out.txt | 12-Jun-2024 04:43 | 3.1K | ||
install-summary.dcf | 12-Jun-2024 04:43 | 275 | ||
buildsrc-out.txt | 12-Jun-2024 04:43 | 858 | ||
buildsrc-summary.dcf | 12-Jun-2024 04:43 | 436 | ||
checksrc-summary.dcf | 12-Jun-2024 04:43 | 455 | ||
checksrc-out.txt | 12-Jun-2024 04:43 | 4.2K | ||
buildbin-out.txt | 12-Jun-2024 04:43 | 5.2K | ||
buildbin-summary.dcf | 12-Jun-2024 04:43 | 548 | ||