Back to Multiple platform build/check report for BioC 3.15
ABC[D]EFGHIJKLMNOPQRSTUVWXYZ

This page was generated on 2022-01-27 11:07:05 -0500 (Thu, 27 Jan 2022).

HostnameOSArch (*)R versionInstalled pkgs
nebbiolo1Linux (Ubuntu 20.04.4 LTS)x86_64R Under development (unstable) (2022-01-05 r81451) -- "Unsuffered Consequences" 4167
riesling1Windows Server 2019 Standardx64R Under development (unstable) (2021-11-21 r81221) -- "Unsuffered Consequences" 4062
palomino3Windows Server 2022 Datacenterx64R Under development (unstable) (2021-12-21 r81400 ucrt) -- "Unsuffered Consequences" 4004
merida1macOS 10.14.6 Mojavex86_64R Under development (unstable) (2022-01-05 r81451) -- "Unsuffered Consequences" 4121
Click on any hostname to see more info about the system (e.g. compilers)      (*) as reported by 'uname -p', except on Windows and Mac OS X

INSTALL results for diffloop on riesling1


To the developers/maintainers of the diffloop package:
- Please allow up to 24 hours (and sometimes 48 hours) for your latest push to git@git.bioconductor.org:packages/diffloop.git to
reflect on this report. See How and When does the builder pull? When will my changes propagate? here for more information.
- Make sure to use the following settings in order to reproduce any error or warning you see on this page.

raw results

Package 511/2077HostnameOS / ArchINSTALLBUILDCHECKBUILD BIN
diffloop 1.23.1  (landing page)
Caleb Lareau
Snapshot Date: 2022-01-26 13:55:18 -0500 (Wed, 26 Jan 2022)
git_url: https://git.bioconductor.org/packages/diffloop
git_branch: master
git_last_commit: a71bf82
git_last_commit_date: 2021-11-20 03:59:02 -0500 (Sat, 20 Nov 2021)
nebbiolo1Linux (Ubuntu 20.04.4 LTS) / x86_64  OK    OK    OK  UNNEEDED, same version is already published
riesling1Windows Server 2019 Standard / x64  OK    OK    WARNINGS    NA  
palomino3Windows Server 2022 Datacenter / x64  OK    OK    WARNINGS    OK  NO, package depends on 'GenomicRanges' which is not available
merida1macOS 10.14.6 Mojave / x86_64  OK    OK    OK    OK  UNNEEDED, same version is already published

Summary

Package: diffloop
Version: 1.23.1
Command: D:\biocbuild\bbs-3.15-bioc\R\bin\R.exe CMD INSTALL diffloop
StartedAt: 2022-01-26 15:59:27 -0500 (Wed, 26 Jan 2022)
EndedAt: 2022-01-26 16:00:31 -0500 (Wed, 26 Jan 2022)
EllapsedTime: 64.2 seconds
RetCode: 0
Status:   OK  

Command output

##############################################################################
##############################################################################
###
### Running command:
###
###   D:\biocbuild\bbs-3.15-bioc\R\bin\R.exe CMD INSTALL diffloop
###
##############################################################################
##############################################################################


* installing to library 'D:/biocbuild/bbs-3.15-bioc/R/library'
* installing *source* package 'diffloop' ...
** using staged installation
** R
** inst
** byte-compile and prepare package for lazy loading
Warning: replacing previous import 'GenomicRanges::windows' by 'grDevices::windows' when loading 'diffloop'
** help
*** installing help indices
  converting help for package 'diffloop'
    finding HTML links ... done
    addchr                                  html  
    annotateAnchors                         html  
    annotateAnchors.bed                     html  
    annotateAnchors.bigwig                  html  
    annotateLoops                           html  
    annotateLoops.dge                       html  
    bedToGRanges                            html  
    calcLDSizeFactors                       html  
    callCCDs                                html  
    computeBoundaryScores                   html  
    diffloop                                html  
    dim-loops-method                        html  
    featureTest                             html  
    filterLoops                             html  
    filterSpanningLoops                     html  
    geneinfo                                html  
    getHumanGenes                           html  
    getHumanTSS                             html  
    getMouseGenes                           html  
    getMouseTSS                             html  
    head-loops-method                       html  
    human.genes                             html  
    interchromosomal                        html  
    intrachromosomal                        html  
    keepCTCFloops                           html  
    keepEPloops                             html  
    loopAssoc                               html  
    loopDistancePlot                        html  
    loopGenes                               html  
    loopMetrics                             html  
    loopPlot                                html  
    loopWidth                               html  
    loops-class                             html  
    loops.small                             html  
    loopsMake                               html  
    loopsMake.mango                         html  
    loopsSubset                             html  
    mangoCorrection                         html  
    manyLoopPlots                           html  
    mergeAnchors                            html  
    numAnchors                              html  
    numLoops                                html  
    padGRanges                              html  
    pcaPlot                                 html  
    plotTopLoops                            html  
    quickAssoc                              html  
    quickAssocVoom                          html  
    removeRegion                            html  
    removeSelfLoops                         html  
    rmchr                                   html  
    sampleNames-loops-method                html  
    slidingWindowTest                       html  
    splitSamples                            html  
    sub-loops-numeric-numeric-missing-method
                                            html  
    subsetLoops                             html  
    subsetRegion                            html  
    subsetRegionAB                          html  
    summary-loops-method                    html  
    tail-loops-method                       html  
    topLoops                                html  
    union-loops-loops-method                html  
    updateLDGroups                          html  
** building package indices
** installing vignettes
** testing if installed package can be loaded from temporary location
Warning: replacing previous import 'GenomicRanges::windows' by 'grDevices::windows' when loading 'diffloop'
** testing if installed package can be loaded from final location
Warning: replacing previous import 'GenomicRanges::windows' by 'grDevices::windows' when loading 'diffloop'
** testing if installed package keeps a record of temporary installation path
* DONE (diffloop)
Making 'packages.html' ... done