Back to Multiple platform build/check report for BioC 3.14
ABC[D]EFGHIJKLMNOPQRSTUVWXYZ

This page was generated on 2021-10-18 12:03:40 -0400 (Mon, 18 Oct 2021).

INSTALL results for diffloop on nebbiolo2

To the developers/maintainers of the diffloop package:
- Please allow up to 24 hours (and sometimes 48 hours) for your latest push to git@git.bioconductor.org:packages/diffloop.git to
reflect on this report. See How and When does the builder pull? When will my changes propagate? here for more information.
- Make sure to use the following settings in order to reproduce any error or warning you see on this page.

raw results

Package 501/2060HostnameOS / ArchINSTALLBUILDCHECKBUILD BIN
diffloop 1.21.0  (landing page)
Caleb Lareau
Snapshot Date: 2021-10-17 14:50:03 -0400 (Sun, 17 Oct 2021)
git_url: https://git.bioconductor.org/packages/diffloop
git_branch: master
git_last_commit: 496ff39
git_last_commit_date: 2021-05-19 12:20:17 -0400 (Wed, 19 May 2021)
nebbiolo2Linux (Ubuntu 20.04.2 LTS) / x86_64  OK    OK    OK  UNNEEDED, same version is already published
riesling1Windows Server 2019 Standard / x64  OK    OK    WARNINGS    OK  UNNEEDED, same version is already published
merida1macOS 10.14.6 Mojave / x86_64  OK    OK    OK    OK  UNNEEDED, same version is already published

Summary

Package: diffloop
Version: 1.21.0
Command: /home/biocbuild/bbs-3.14-bioc/R/bin/R CMD INSTALL diffloop
StartedAt: 2021-10-17 16:24:57 -0400 (Sun, 17 Oct 2021)
EndedAt: 2021-10-17 16:25:35 -0400 (Sun, 17 Oct 2021)
EllapsedTime: 38.1 seconds
RetCode: 0
Status:   OK  

Command output

##############################################################################
##############################################################################
###
### Running command:
###
###   /home/biocbuild/bbs-3.14-bioc/R/bin/R CMD INSTALL diffloop
###
##############################################################################
##############################################################################


* installing to library ‘/home/biocbuild/bbs-3.14-bioc/R/library’
* installing *source* package ‘diffloop’ ...
** using staged installation
** R
** inst
** byte-compile and prepare package for lazy loading
** help
*** installing help indices
** building package indices
** installing vignettes
** testing if installed package can be loaded from temporary location
** testing if installed package can be loaded from final location
** testing if installed package keeps a record of temporary installation path
* DONE (diffloop)