Back to Multiple platform build/check report for BioC 3.14
ABC[D]EFGHIJKLMNOPQRSTUVWXYZ

This page was generated on 2021-10-14 12:06:03 -0400 (Thu, 14 Oct 2021).

BUILD results for diffloop on merida1

To the developers/maintainers of the diffloop package:
- Please allow up to 24 hours (and sometimes 48 hours) for your latest push to git@git.bioconductor.org:packages/diffloop.git to
reflect on this report. See How and When does the builder pull? When will my changes propagate? here for more information.
- Make sure to use the following settings in order to reproduce any error or warning you see on this page.

raw results

Package 498/2056HostnameOS / ArchINSTALLBUILDCHECKBUILD BIN
diffloop 1.21.0  (landing page)
Caleb Lareau
Snapshot Date: 2021-10-13 14:50:09 -0400 (Wed, 13 Oct 2021)
git_url: https://git.bioconductor.org/packages/diffloop
git_branch: master
git_last_commit: 496ff39
git_last_commit_date: 2021-05-19 12:20:17 -0400 (Wed, 19 May 2021)
nebbiolo2Linux (Ubuntu 20.04.2 LTS) / x86_64  OK    OK    OK  UNNEEDED, same version is already published
riesling1Windows Server 2019 Standard / x64  OK    OK    WARNINGS    OK  UNNEEDED, same version is already published
merida1macOS 10.14.6 Mojave / x86_64  OK    OK    OK    OK  UNNEEDED, same version is already published

Summary

Package: diffloop
Version: 1.21.0
Command: /Library/Frameworks/R.framework/Resources/bin/R CMD build --keep-empty-dirs --no-resave-data diffloop
StartedAt: 2021-10-13 19:26:33 -0400 (Wed, 13 Oct 2021)
EndedAt: 2021-10-13 19:27:39 -0400 (Wed, 13 Oct 2021)
EllapsedTime: 65.4 seconds
RetCode: 0
Status:   OK  
PackageFile: diffloop_1.21.0.tar.gz
PackageFileSize: 1.125 MiB

Command output

##############################################################################
##############################################################################
###
### Running command:
###
###   /Library/Frameworks/R.framework/Resources/bin/R CMD build --keep-empty-dirs --no-resave-data diffloop
###
##############################################################################
##############################################################################


* checking for file ‘diffloop/DESCRIPTION’ ... OK
* preparing ‘diffloop’:
* checking DESCRIPTION meta-information ... OK
* installing the package to build vignettes
* creating vignettes ... OK
* checking for LF line-endings in source and make files and shell scripts
* checking for empty or unneeded directories
Omitted ‘LazyData’ from DESCRIPTION
* building ‘diffloop_1.21.0.tar.gz’