Index of /checkResults/devel/bioc-LATEST/diffUTR/raw-results
Name
Last modified
Size
Description
Parent Directory
-
info.dcf
14-Aug-2022 00:07
281
kjohnson/
12-Jul-2022 00:06
-
lconway/
14-Aug-2022 00:07
-
nebbiolo2/
14-Aug-2022 00:05
-
palomino4/
14-Aug-2022 00:06
-