Index of /checkResults/devel/bioc-LATEST/diffHic/raw-results

[ICO]NameLast modifiedSizeDescription

[DIR]Parent Directory  -  
[   ]info.dcf19-Mar-2023 00:05 283  
[DIR]merida1/19-Mar-2023 00:05 -  
[DIR]nebbiolo1/19-Mar-2023 00:04 -  
[DIR]palomino3/19-Mar-2023 00:05 -