Index of /checkResults/devel/bioc-LATEST/derfinder/raw-results

[ICO]NameLast modifiedSizeDescription

[DIR]Parent Directory  -  
[   ]info.dcf25-Mar-2023 00:06 280  
[DIR]merida1/25-Mar-2023 00:06 -  
[DIR]nebbiolo1/25-Mar-2023 00:05 -  
[DIR]palomino3/25-Mar-2023 00:05 -