Back to Multiple platform build/check report for BioC 3.15
ABC[D]EFGHIJKLMNOPQRSTUVWXYZ

This page was generated on 2022-01-20 11:07:07 -0500 (Thu, 20 Jan 2022).

HostnameOSArch (*)R versionInstalled pkgs
nebbiolo1Linux (Ubuntu 20.04.4 LTS)x86_64R Under development (unstable) (2022-01-05 r81451) -- "Unsuffered Consequences" 4162
riesling1Windows Server 2019 Standardx64R Under development (unstable) (2021-11-21 r81221) -- "Unsuffered Consequences" 4057
palomino3Windows Server 2022 Datacenterx64R Under development (unstable) (2021-12-21 r81400 ucrt) -- "Unsuffered Consequences" 3999
merida1macOS 10.14.6 Mojavex86_64R Under development (unstable) (2022-01-05 r81451) -- "Unsuffered Consequences" 4116
Click on any hostname to see more info about the system (e.g. compilers)      (*) as reported by 'uname -p', except on Windows and Mac OS X

INSTALL results for deltaCaptureC on riesling1


To the developers/maintainers of the deltaCaptureC package:
- Please allow up to 24 hours (and sometimes 48 hours) for your latest push to git@git.bioconductor.org:packages/deltaCaptureC.git to
reflect on this report. See How and When does the builder pull? When will my changes propagate? here for more information.
- Make sure to use the following settings in order to reproduce any error or warning you see on this page.

raw results

Package 484/2074HostnameOS / ArchINSTALLBUILDCHECKBUILD BIN
deltaCaptureC 1.9.1  (landing page)
Michael Shapiro
Snapshot Date: 2022-01-19 13:55:26 -0500 (Wed, 19 Jan 2022)
git_url: https://git.bioconductor.org/packages/deltaCaptureC
git_branch: master
git_last_commit: f4f8bdc
git_last_commit_date: 2021-11-20 23:31:46 -0500 (Sat, 20 Nov 2021)
nebbiolo1Linux (Ubuntu 20.04.4 LTS) / x86_64  OK    OK    OK  UNNEEDED, same version is already published
riesling1Windows Server 2019 Standard / x64  OK    OK    OK    OK  
palomino3Windows Server 2022 Datacenter / x64  OK    OK    OK    OK  NO, package depends on 'IRanges' which is not available
merida1macOS 10.14.6 Mojave / x86_64  OK    OK    OK    OK  UNNEEDED, same version is already published

Summary

Package: deltaCaptureC
Version: 1.9.1
Command: D:\biocbuild\bbs-3.15-bioc\R\bin\R.exe CMD INSTALL deltaCaptureC
StartedAt: 2022-01-19 15:54:20 -0500 (Wed, 19 Jan 2022)
EndedAt: 2022-01-19 15:55:20 -0500 (Wed, 19 Jan 2022)
EllapsedTime: 60.3 seconds
RetCode: 0
Status:   OK  

Command output

##############################################################################
##############################################################################
###
### Running command:
###
###   D:\biocbuild\bbs-3.15-bioc\R\bin\R.exe CMD INSTALL deltaCaptureC
###
##############################################################################
##############################################################################


* installing to library 'D:/biocbuild/bbs-3.15-bioc/R/library'
* installing *source* package 'deltaCaptureC' ...
** using staged installation
** R
** data
*** moving datasets to lazyload DB
** inst
** byte-compile and prepare package for lazy loading
** help
*** installing help indices
  converting help for package 'deltaCaptureC'
    finding HTML links ... done
    bigBinSize                              html  
    binSummarizedExperiment                 html  
    binnedDeltaPlot                         html  
    binnedDeltaSE                           html  
    binnedSummarizedExperiment              html  
    deltaSE                                 html  
    dot-getRunsAndTotals                    html  
    downshiftDFtoMatrix                     html  
    generatePermutation                     html  
    getDeltaSE                              html  
    getLopsidedness                         html  
    getMeanNormalizedCountsSE               html  
    getNormalizedCountsSE                   html  
    getOverlapWeights                       html  
    getPValueCutoff                         html  
    getRunAndLopsidednessStatistics         html  
    getRunStatistics                        html  
    getRunStatisticsDist                    html  
    getRunTotals                            html  
    getSignificantRegions                   html  
    getSizeFactorsDF                        html  
    getSizeFactorsSE                        html  
    miniDeltaSE                             html  
    miniSE                                  html  
    miniSEDF                                html  
    numPermutations                         html  
    pValue                                  html  
    plotSignificantRegions                  html  
    plotTitle                               html  
    rebinToMultiple                         html  
    regionOfInterest                        html  
    significanceType                        html  
    significantRegions                      html  
    significantRegionsPlot                  html  
    smallBinSize                            html  
    smallBins                               html  
    smallSetOfSmallBins                     html  
    smallerDeltaSE                          html  
    viewpointRegion                         html  
    weightsExampleBins                      html  
    weightsExampleGr                        html  
** building package indices
** installing vignettes
** testing if installed package can be loaded from temporary location
** testing if installed package can be loaded from final location
** testing if installed package keeps a record of temporary installation path
* DONE (deltaCaptureC)
Making 'packages.html' ... done