Back to Multiple platform build/check report for BioC 3.15
ABC[D]EFGHIJKLMNOPQRSTUVWXYZ

This page was generated on 2022-01-28 11:07:36 -0500 (Fri, 28 Jan 2022).

HostnameOSArch (*)R versionInstalled pkgs
nebbiolo1Linux (Ubuntu 20.04.4 LTS)x86_64R Under development (unstable) (2022-01-05 r81451) -- "Unsuffered Consequences" 4167
riesling1Windows Server 2019 Standardx64R Under development (unstable) (2021-11-21 r81221) -- "Unsuffered Consequences" 4062
palomino3Windows Server 2022 Datacenterx64R Under development (unstable) (2021-12-21 r81400 ucrt) -- "Unsuffered Consequences" 4004
merida1macOS 10.14.6 Mojavex86_64R Under development (unstable) (2022-01-05 r81451) -- "Unsuffered Consequences" 4121
Click on any hostname to see more info about the system (e.g. compilers)      (*) as reported by 'uname -p', except on Windows and Mac OS X

CHECK results for deltaCaptureC on riesling1


To the developers/maintainers of the deltaCaptureC package:
- Please allow up to 24 hours (and sometimes 48 hours) for your latest push to git@git.bioconductor.org:packages/deltaCaptureC.git to
reflect on this report. See How and When does the builder pull? When will my changes propagate? here for more information.
- Make sure to use the following settings in order to reproduce any error or warning you see on this page.

raw results

Package 485/2077HostnameOS / ArchINSTALLBUILDCHECKBUILD BIN
deltaCaptureC 1.9.1  (landing page)
Michael Shapiro
Snapshot Date: 2022-01-27 13:55:17 -0500 (Thu, 27 Jan 2022)
git_url: https://git.bioconductor.org/packages/deltaCaptureC
git_branch: master
git_last_commit: f4f8bdc
git_last_commit_date: 2021-11-20 23:31:46 -0500 (Sat, 20 Nov 2021)
nebbiolo1Linux (Ubuntu 20.04.4 LTS) / x86_64  OK    OK    OK  UNNEEDED, same version is already published
riesling1Windows Server 2019 Standard / x64  OK    OK    OK    OK  
palomino3Windows Server 2022 Datacenter / x64  OK    OK    OK    OK  NO, package depends on 'IRanges' which is not available
merida1macOS 10.14.6 Mojave / x86_64  OK    OK    OK    OK  UNNEEDED, same version is already published

Summary

Package: deltaCaptureC
Version: 1.9.1
Command: D:\biocbuild\bbs-3.15-bioc\R\bin\R.exe CMD check --no-multiarch --install=check:deltaCaptureC.install-out.txt --library=D:\biocbuild\bbs-3.15-bioc\R\library --no-vignettes --timings deltaCaptureC_1.9.1.tar.gz
StartedAt: 2022-01-27 18:43:50 -0500 (Thu, 27 Jan 2022)
EndedAt: 2022-01-27 18:47:59 -0500 (Thu, 27 Jan 2022)
EllapsedTime: 249.1 seconds
RetCode: 0
Status:   OK  
CheckDir: deltaCaptureC.Rcheck
Warnings: 0

Command output

##############################################################################
##############################################################################
###
### Running command:
###
###   D:\biocbuild\bbs-3.15-bioc\R\bin\R.exe CMD check --no-multiarch --install=check:deltaCaptureC.install-out.txt --library=D:\biocbuild\bbs-3.15-bioc\R\library --no-vignettes --timings deltaCaptureC_1.9.1.tar.gz
###
##############################################################################
##############################################################################


* using log directory 'D:/biocbuild/bbs-3.15-bioc/meat/deltaCaptureC.Rcheck'
* using R Under development (unstable) (2021-11-21 r81221)
* using platform: x86_64-w64-mingw32 (64-bit)
* using session charset: ISO8859-1
* using option '--no-vignettes'
* checking for file 'deltaCaptureC/DESCRIPTION' ... OK
* this is package 'deltaCaptureC' version '1.9.1'
* package encoding: UTF-8
* checking package namespace information ... OK
* checking package dependencies ... OK
* checking if this is a source package ... OK
* checking if there is a namespace ... OK
* checking for hidden files and directories ... OK
* checking for portable file names ... OK
* checking whether package 'deltaCaptureC' can be installed ... OK
* checking installed package size ... OK
* checking package directory ... OK
* checking 'build' directory ... OK
* checking DESCRIPTION meta-information ... OK
* checking top-level files ... OK
* checking for left-over files ... OK
* checking index information ... OK
* checking package subdirectories ... OK
* checking R files for non-ASCII characters ... OK
* checking R files for syntax errors ... OK
* checking whether the package can be loaded ... OK
* checking whether the package can be loaded with stated dependencies ... OK
* checking whether the package can be unloaded cleanly ... OK
* checking whether the namespace can be loaded with stated dependencies ... OK
* checking whether the namespace can be unloaded cleanly ... OK
* checking dependencies in R code ... NOTE
Namespace in Imports field not imported from: 'tictoc'
  All declared Imports should be used.
* checking S3 generic/method consistency ... OK
* checking replacement functions ... OK
* checking foreign function calls ... OK
* checking R code for possible problems ... NOTE
getDeltaSE: warning in SummarizedExperiment(assay = list(delta =
  delta), colData = colData): partial argument match of 'assay' to
  'assays'
plotSignificantRegions: no visible binding for global variable 'ctr'
plotSignificantRegions: no visible binding for global variable 'delta'
plotSignificantRegions: no visible binding for global variable
  'significance'
Undefined global functions or variables:
  ctr delta significance
* checking Rd files ... OK
* checking Rd metadata ... OK
* checking Rd cross-references ... OK
* checking for missing documentation entries ... OK
* checking for code/documentation mismatches ... OK
* checking Rd \usage sections ... OK
* checking Rd contents ... OK
* checking for unstated dependencies in examples ... OK
* checking contents of 'data' directory ... OK
* checking data for non-ASCII characters ... OK
* checking LazyData ... OK
* checking data for ASCII and uncompressed saves ... OK
* checking files in 'vignettes' ... OK
* checking examples ... OK
Examples with CPU (user + system) or elapsed time > 5s
                         user system elapsed
binSummarizedExperiment 65.17   0.21   70.70
getOverlapWeights        7.36   0.00    7.36
* checking for unstated dependencies in vignettes ... OK
* checking package vignettes in 'inst/doc' ... OK
* checking running R code from vignettes ... SKIPPED
* checking re-building of vignette outputs ... SKIPPED
* checking PDF version of manual ... OK
* DONE

Status: 2 NOTEs
See
  'D:/biocbuild/bbs-3.15-bioc/meat/deltaCaptureC.Rcheck/00check.log'
for details.



Installation output

deltaCaptureC.Rcheck/00install.out

##############################################################################
##############################################################################
###
### Running command:
###
###   D:\biocbuild\bbs-3.15-bioc\R\bin\R.exe CMD INSTALL deltaCaptureC
###
##############################################################################
##############################################################################


* installing to library 'D:/biocbuild/bbs-3.15-bioc/R/library'
* installing *source* package 'deltaCaptureC' ...
** using staged installation
** R
** data
*** moving datasets to lazyload DB
** inst
** byte-compile and prepare package for lazy loading
** help
*** installing help indices
  converting help for package 'deltaCaptureC'
    finding HTML links ... done
    bigBinSize                              html  
    binSummarizedExperiment                 html  
    binnedDeltaPlot                         html  
    binnedDeltaSE                           html  
    binnedSummarizedExperiment              html  
    deltaSE                                 html  
    dot-getRunsAndTotals                    html  
    downshiftDFtoMatrix                     html  
    generatePermutation                     html  
    getDeltaSE                              html  
    getLopsidedness                         html  
    getMeanNormalizedCountsSE               html  
    getNormalizedCountsSE                   html  
    getOverlapWeights                       html  
    getPValueCutoff                         html  
    getRunAndLopsidednessStatistics         html  
    getRunStatistics                        html  
    getRunStatisticsDist                    html  
    getRunTotals                            html  
    getSignificantRegions                   html  
    getSizeFactorsDF                        html  
    getSizeFactorsSE                        html  
    miniDeltaSE                             html  
    miniSE                                  html  
    miniSEDF                                html  
    numPermutations                         html  
    pValue                                  html  
    plotSignificantRegions                  html  
    plotTitle                               html  
    rebinToMultiple                         html  
    regionOfInterest                        html  
    significanceType                        html  
    significantRegions                      html  
    significantRegionsPlot                  html  
    smallBinSize                            html  
    smallBins                               html  
    smallSetOfSmallBins                     html  
    smallerDeltaSE                          html  
    viewpointRegion                         html  
    weightsExampleBins                      html  
    weightsExampleGr                        html  
** building package indices
** installing vignettes
** testing if installed package can be loaded from temporary location
** testing if installed package can be loaded from final location
** testing if installed package keeps a record of temporary installation path
* DONE (deltaCaptureC)
Making 'packages.html' ... done

Tests output


Example timings

deltaCaptureC.Rcheck/deltaCaptureC-Ex.timings

nameusersystemelapsed
binSummarizedExperiment65.17 0.2170.70
downshiftDFtoMatrix000
generatePermutation0.020.000.01
getDeltaSE0.210.000.20
getLopsidedness0.060.000.07
getMeanNormalizedCountsSE0.090.010.11
getNormalizedCountsSE0.100.000.09
getOverlapWeights7.360.007.36
getPValueCutoff000
getRunTotals0.10.00.1
getSizeFactorsDF000
getSizeFactorsSE0.010.000.01
plotSignificantRegions0.030.000.03
rebinToMultiple0.350.000.35