Index of /checkResults/devel/bioc-LATEST/deltaCaptureC/raw-results/lconway
Name
Last modified
Size
Description
Parent Directory
-
buildsrc-out.txt
29-Mar-2024 00:39
1.1K
buildsrc-summary.dcf
29-Mar-2024 00:39
355
install-out.txt
29-Mar-2024 00:39
1.0K
install-summary.dcf
29-Mar-2024 00:39
281