Back to Multiple platform build/check report for BioC 3.15
ABC[D]EFGHIJKLMNOPQRSTUVWXYZ

This page was generated on 2022-01-25 11:07:04 -0500 (Tue, 25 Jan 2022).

HostnameOSArch (*)R versionInstalled pkgs
nebbiolo1Linux (Ubuntu 20.04.4 LTS)x86_64R Under development (unstable) (2022-01-05 r81451) -- "Unsuffered Consequences" 4164
riesling1Windows Server 2019 Standardx64R Under development (unstable) (2021-11-21 r81221) -- "Unsuffered Consequences" 4059
palomino3Windows Server 2022 Datacenterx64R Under development (unstable) (2021-12-21 r81400 ucrt) -- "Unsuffered Consequences" 4001
merida1macOS 10.14.6 Mojavex86_64R Under development (unstable) (2022-01-05 r81451) -- "Unsuffered Consequences" 4118
Click on any hostname to see more info about the system (e.g. compilers)      (*) as reported by 'uname -p', except on Windows and Mac OS X

CHECK results for deepSNV on riesling1


To the developers/maintainers of the deepSNV package:
- Please allow up to 24 hours (and sometimes 48 hours) for your latest push to git@git.bioconductor.org:packages/deepSNV.git to
reflect on this report. See How and When does the builder pull? When will my changes propagate? here for more information.
- Make sure to use the following settings in order to reproduce any error or warning you see on this page.

raw results

Package 473/2075HostnameOS / ArchINSTALLBUILDCHECKBUILD BIN
deepSNV 1.41.0  (landing page)
Moritz Gerstung
Snapshot Date: 2022-01-24 13:55:18 -0500 (Mon, 24 Jan 2022)
git_url: https://git.bioconductor.org/packages/deepSNV
git_branch: master
git_last_commit: e79bce8
git_last_commit_date: 2021-10-26 12:01:57 -0500 (Tue, 26 Oct 2021)
nebbiolo1Linux (Ubuntu 20.04.4 LTS) / x86_64  OK    OK    OK  UNNEEDED, same version is already published
riesling1Windows Server 2019 Standard / x64  OK    OK    OK    OK  
palomino3Windows Server 2022 Datacenter / x64  OK    OK    OK    OK  NO, package depends on 'IRanges' which is not available
merida1macOS 10.14.6 Mojave / x86_64  OK    OK    OK    OK  UNNEEDED, same version is already published

Summary

Package: deepSNV
Version: 1.41.0
Command: D:\biocbuild\bbs-3.15-bioc\R\bin\R.exe CMD check --no-multiarch --install=check:deepSNV.install-out.txt --library=D:\biocbuild\bbs-3.15-bioc\R\library --no-vignettes --timings deepSNV_1.41.0.tar.gz
StartedAt: 2022-01-24 18:41:10 -0500 (Mon, 24 Jan 2022)
EndedAt: 2022-01-24 18:45:58 -0500 (Mon, 24 Jan 2022)
EllapsedTime: 287.2 seconds
RetCode: 0
Status:   OK  
CheckDir: deepSNV.Rcheck
Warnings: 0

Command output

##############################################################################
##############################################################################
###
### Running command:
###
###   D:\biocbuild\bbs-3.15-bioc\R\bin\R.exe CMD check --no-multiarch --install=check:deepSNV.install-out.txt --library=D:\biocbuild\bbs-3.15-bioc\R\library --no-vignettes --timings deepSNV_1.41.0.tar.gz
###
##############################################################################
##############################################################################


* using log directory 'D:/biocbuild/bbs-3.15-bioc/meat/deepSNV.Rcheck'
* using R Under development (unstable) (2021-11-21 r81221)
* using platform: x86_64-w64-mingw32 (64-bit)
* using session charset: ISO8859-1
* using option '--no-vignettes'
* checking for file 'deepSNV/DESCRIPTION' ... OK
* checking extension type ... Package
* this is package 'deepSNV' version '1.41.0'
* checking package namespace information ... OK
* checking package dependencies ... NOTE
Depends: includes the non-default packages:
  'parallel', 'IRanges', 'GenomicRanges', 'SummarizedExperiment',
  'Biostrings', 'VGAM', 'VariantAnnotation'
Adding so many packages to the search path is excessive and importing
selectively is preferable.
* checking if this is a source package ... OK
* checking if there is a namespace ... OK
* checking for hidden files and directories ... OK
* checking for portable file names ... OK
* checking whether package 'deepSNV' can be installed ... OK
* checking installed package size ... OK
* checking package directory ... OK
* checking 'build' directory ... OK
* checking DESCRIPTION meta-information ... NOTE
Malformed Title field: should not end in a period.
Versioned 'LinkingTo' value for 'Rhtslib' is only usable in R >= 3.0.2
* checking top-level files ... OK
* checking for left-over files ... OK
* checking index information ... OK
* checking package subdirectories ... OK
* checking R files for non-ASCII characters ... OK
* checking R files for syntax errors ... OK
* checking whether the package can be loaded ... OK
* checking whether the package can be loaded with stated dependencies ... OK
* checking whether the package can be unloaded cleanly ... OK
* checking whether the namespace can be loaded with stated dependencies ... OK
* checking whether the namespace can be unloaded cleanly ... OK
* checking dependencies in R code ... NOTE
Packages in Depends field not imported from:
  'GenomicRanges' 'SummarizedExperiment' 'VariantAnnotation' 'parallel'
  These packages need to be imported from (in the NAMESPACE file)
  for when this namespace is loaded but not attached.
There are ::: calls to the package's namespace in its code. A package
  almost never needs to use ::: for its own objects:
  'estimateRho' 'logbb'
* checking S3 generic/method consistency ... OK
* checking replacement functions ... OK
* checking foreign function calls ... OK
* checking R code for possible problems ... NOTE
.deepSNVsingle: no visible global function definition for 'pchisq'
.estimateDispersion: no visible global function definition for
  'optimize'
.significantSNV: no visible global function definition for 'p.adjust'
.significantSNV: no visible global function definition for 'VCF'
.significantSNV: no visible global function definition for 'GRanges'
.significantSNV: no visible global function definition for 'IRanges'
.significantSNV: no visible global function definition for 'DataFrame'
.significantSNV: no visible global function definition for 'SimpleList'
.significantSNV: no visible global function definition for
  'scanVcfHeader'
.significantSNV: no visible global function definition for 'metadata'
.significantSNV: no visible global function definition for 'metadata<-'
bbb: no visible global function definition for 'na.omit'
betabinLRT: no visible global function definition for 'pchisq'
betabinLRT: no visible global function definition for 'p.adjust'
bf2Vcf: no visible global function definition for 'VCF'
bf2Vcf: no visible global function definition for 'GRanges'
bf2Vcf: no visible global function definition for 'IRanges'
bf2Vcf: no visible global function definition for 'DataFrame'
bf2Vcf: no visible global function definition for 'scanVcfHeader'
bf2Vcf: no visible global function definition for 'SimpleList'
bf2Vcf: no visible global function definition for 'metadata'
bf2Vcf: no visible global function definition for 'metadata<-'
bf2Vcf: no visible global function definition for 'meta'
bf2Vcf: no visible global function definition for 'meta<-'
loadAllData: no visible global function definition for 'mclapply'
makePrior: no visible global function definition for 'info'
manhattanPlot: no visible global function definition for 'legend'
mcChunk: no visible global function definition for 'mclapply'
mutID: no visible global function definition for 'seqnames'
p.combine: no visible global function definition for 'pgamma'
plot.deepSNV: no visible global function definition for 'legend'
plot.deepSNV: no visible global function definition for 'par'
plot.deepSNV: no visible global function definition for 'abline'
qvals2Vcf: no visible global function definition for 'VCF'
qvals2Vcf: no visible global function definition for 'GRanges'
qvals2Vcf: no visible global function definition for 'IRanges'
qvals2Vcf: no visible global function definition for 'DataFrame'
qvals2Vcf: no visible global function definition for 'scanVcfHeader'
qvals2Vcf: no visible global function definition for 'SimpleList'
qvals2Vcf: no visible global function definition for 'metadata'
qvals2Vcf: no visible global function definition for 'metadata<-'
qvals2Vcf: no visible global function definition for 'meta'
qvals2Vcf: no visible global function definition for 'meta<-'
PCRTest,matrix-matrix: no visible global function definition for
  'pnorm'
estimateDirichlet,matrix: no visible binding for global variable
  'dirichlet'
estimateDirichlet,matrix: no visible global function definition for
  'coefficients'
normalize,matrix-matrix : <anonymous>: no visible global function
  definition for 'loess'
overDispersion,matrix-matrix: no visible global function definition for
  'optimize'
overDispersion,matrix-matrix : <anonymous>: no visible global function
  definition for 'na.omit'
Undefined global functions or variables:
  DataFrame GRanges IRanges SimpleList VCF abline coefficients
  dirichlet info legend loess mclapply meta meta<- metadata metadata<-
  na.omit optimize p.adjust par pchisq pgamma pnorm scanVcfHeader
  seqnames
Consider adding
  importFrom("graphics", "abline", "legend", "par")
  importFrom("stats", "coefficients", "loess", "na.omit", "optimize",
             "p.adjust", "pchisq", "pgamma", "pnorm")
to your NAMESPACE file.
* checking Rd files ... OK
* checking Rd metadata ... OK
* checking Rd cross-references ... OK
* checking for missing documentation entries ... OK
* checking for code/documentation mismatches ... OK
* checking Rd \usage sections ... OK
* checking Rd contents ... OK
* checking for unstated dependencies in examples ... OK
* checking contents of 'data' directory ... OK
* checking data for non-ASCII characters ... OK
* checking data for ASCII and uncompressed saves ... OK
* checking line endings in C/C++/Fortran sources/headers ... OK
* checking line endings in Makefiles ... OK
* checking compilation flags in Makevars ... OK
* checking for GNU extensions in Makefiles ... NOTE
GNU make is a SystemRequirements.
* checking for portable use of $(BLAS_LIBS) and $(LAPACK_LIBS) ... OK
* checking use of PKG_*FLAGS in Makefiles ... OK
* checking compiled code ... NOTE
Note: information on .o files for x64 is not available
File 'D:/biocbuild/bbs-3.15-bioc/R/library/deepSNV/libs/x64/deepSNV.dll':
  Found '_exit', possibly from '_exit' (C)
  Found 'abort', possibly from 'abort' (C), 'runtime' (Fortran)
  Found 'exit', possibly from 'exit' (C), 'stop' (Fortran)
  Found 'printf', possibly from 'printf' (C)
  Found 'putchar', possibly from 'putchar' (C)
  Found 'puts', possibly from 'printf' (C), 'puts' (C)
  Found 'rand', possibly from 'rand' (C)

Compiled code should not call entry points which might terminate R nor
write to stdout/stderr instead of to the console, nor use Fortran I/O
nor system RNGs. The detected symbols are linked into the code but
might come from libraries and not actually be called.

See 'Writing portable packages' in the 'Writing R Extensions' manual.
* checking files in 'vignettes' ... OK
* checking examples ... OK
Examples with CPU (user + system) or elapsed time > 5s
                           user system elapsed
RCC                        7.69   0.25    7.98
estimateDispersion-methods 5.75   0.25    6.00
* checking for unstated dependencies in vignettes ... OK
* checking package vignettes in 'inst/doc' ... OK
* checking running R code from vignettes ... SKIPPED
* checking re-building of vignette outputs ... SKIPPED
* checking PDF version of manual ... OK
* DONE

Status: 6 NOTEs
See
  'D:/biocbuild/bbs-3.15-bioc/meat/deepSNV.Rcheck/00check.log'
for details.



Installation output

deepSNV.Rcheck/00install.out

##############################################################################
##############################################################################
###
### Running command:
###
###   D:\biocbuild\bbs-3.15-bioc\R\bin\R.exe CMD INSTALL deepSNV
###
##############################################################################
##############################################################################


* installing to library 'D:/biocbuild/bbs-3.15-bioc/R/library'
* installing *source* package 'deepSNV' ...
** using staged installation
** libs
"C:/rtools40/mingw64/bin/"g++ -std=gnu++11  -I"D:/biocbuild/bbs-3.15-bioc/R/include" -DNDEBUG -D_FILE_OFFSET_BITS=64 -I'D:/biocbuild/bbs-3.15-bioc/R/library/Rhtslib/include'   -I"C:/extsoft/include"     -O2 -Wall  -mfpmath=sse -msse2 -mstackrealign -fno-reorder-blocks-and-partition  -c bam2R.cpp -o bam2R.o
bam2R.cpp: In function 'int bam2R(char**, char**, int*, int*, int*, int*, int*, int*, int*, int*, int*, int*, int*, int*)':
bam2R.cpp:97:13: warning: unused variable 'iter' [-Wunused-variable]
  hts_itr_t *iter = NULL;
             ^~~~
bam2R.cpp:100:6: warning: unused variable 'c' [-Wunused-variable]
  int c = 0;
      ^
"C:/rtools40/mingw64/bin/"gcc  -I"D:/biocbuild/bbs-3.15-bioc/R/include" -DNDEBUG -D_FILE_OFFSET_BITS=64 -I'D:/biocbuild/bbs-3.15-bioc/R/library/Rhtslib/include'   -I"C:/extsoft/include"     -O2 -Wall  -std=gnu99 -mfpmath=sse -msse2 -mstackrealign -fno-reorder-blocks-and-partition  -c betabinom.c -o betabinom.o
betabinom.c: In function 'pbb':
betabinom.c:27:9: warning: unused variable 'log' [-Wunused-variable]
  int i, log=0;
         ^~~
C:/rtools40/mingw64/bin/g++ -std=gnu++11 -shared -s -static-libgcc -o deepSNV.dll tmp.def bam2R.o betabinom.o D:/biocbuild/bbs-3.15-bioc/R/library/Rhtslib/usrlib/x64/libhts.a -LC:/extsoft/lib/x64 -lcurl -lrtmp -lssl -lssh2 -lcrypto -lgdi32 -lz -lws2_32 -lwldap32 -lwinmm -LC:/extsoft/lib/x64 -LC:/extsoft/lib -LD:/biocbuild/bbs-3.15-bioc/R/bin/x64 -lR
installing to D:/biocbuild/bbs-3.15-bioc/R/library/00LOCK-deepSNV/00new/deepSNV/libs/x64
** R
** data
** inst
** byte-compile and prepare package for lazy loading
** help
*** installing help indices
  converting help for package 'deepSNV'
    finding HTML links ... done
    Extract-methods                         html  
    RCC                                     html  
    RF                                      html  
    bam2R                                   html  
    betabinLRT                              html  
    bf2Vcf                                  html  
    finding level-2 HTML links ... done

    consensusSequence-methods               html  
    control-methods                         html  
    coordinates-methods                     html  
    counts                                  html  
    dbetabinom                              html  
    deepSNV-class                           html  
    deepSNV-methods                         html  
    deepSNV-package                         html  
    estimateDirichlet-methods               html  
    estimateDispersion-methods              html  
    estimateRho                             html  
    loadAllData                             html  
    makePrior                               html  
    manhattanPlot                           html  
    mcChunk                                 html  
    normalize-methods                       html  
    p.combine                               html  
    p.val-methods                           html  
    pbetabinom                              html  
    phiX                                    html  
    pi                                      html  
    plot.deepSNV                            html  
    qvals2Vcf                               html  
    repeatMask-methods                      html  
    shearwater                              html  
    show-deepSNV-method                     html  
    summary-methods                         html  
    test-methods                            html  
    trueSNVs                                html  
** building package indices
** installing vignettes
** testing if installed package can be loaded from temporary location
** testing if installed package can be loaded from final location
** testing if installed package keeps a record of temporary installation path
* DONE (deepSNV)
Making 'packages.html' ... done

Tests output


Example timings

deepSNV.Rcheck/deepSNV-Ex.timings

nameusersystemelapsed
Extract-methods0.000.010.01
RCC7.690.257.98
RF000
bam2R0.010.000.01
betabinLRT000
consensusSequence-methods0.020.020.03
control-methods000
coordinates-methods0.010.000.02
counts000
deepSNV-class1.520.031.55
deepSNV-methods0.530.000.53
deepSNV-package0.470.020.48
estimateDirichlet-methods4.080.484.57
estimateDispersion-methods5.750.256.00
makePrior000
manhattanPlot1.280.021.29
normalize-methods3.220.093.31
p.combine0.820.020.85
p.val-methods000
phiX3.580.063.65
pi0.500.010.55
plot.deepSNV0.300.020.31
repeatMask-methods1.050.161.21
shearwater0.860.030.89
show-deepSNV-method0.290.010.31
summary-methods0.410.000.41
test-methods000
trueSNVs0.010.020.03