Back to Multiple platform build/check report for BioC 3.15
ABC[D]EFGHIJKLMNOPQRSTUVWXYZ

This page was generated on 2022-01-15 11:07:23 -0500 (Sat, 15 Jan 2022).

HostnameOSArch (*)R versionInstalled pkgs
nebbiolo1Linux (Ubuntu 20.04.4 LTS)x86_64R Under development (unstable) (2022-01-05 r81451) -- "Unsuffered Consequences" 4160
riesling1Windows Server 2019 Standardx64R Under development (unstable) (2021-11-21 r81221) -- "Unsuffered Consequences" 4055
palomino3Windows Server 2022 Datacenterx64R Under development (unstable) (2021-12-21 r81400 ucrt) -- "Unsuffered Consequences" 3997
merida1macOS 10.14.6 Mojavex86_64R Under development (unstable) (2022-01-05 r81451) -- "Unsuffered Consequences" 4114
Click on any hostname to see more info about the system (e.g. compilers)      (*) as reported by 'uname -p', except on Windows and Mac OS X

BUILD BIN results for deconvR on riesling1


To the developers/maintainers of the deconvR package:
- Please allow up to 24 hours (and sometimes 48 hours) for your latest push to git@git.bioconductor.org:packages/deconvR.git to
reflect on this report. See How and When does the builder pull? When will my changes propagate? here for more information.
- Make sure to use the following settings in order to reproduce any error or warning you see on this page.

raw results

Package 469/2074HostnameOS / ArchINSTALLBUILDCHECKBUILD BIN
deconvR 1.1.1  (landing page)
İrem B. Gündüz
Snapshot Date: 2022-01-14 13:55:18 -0500 (Fri, 14 Jan 2022)
git_url: https://git.bioconductor.org/packages/deconvR
git_branch: master
git_last_commit: 7cf3911
git_last_commit_date: 2021-10-28 04:16:08 -0500 (Thu, 28 Oct 2021)
nebbiolo1Linux (Ubuntu 20.04.4 LTS) / x86_64  OK    OK    OK  UNNEEDED, same version is already published
riesling1Windows Server 2019 Standard / x64  OK    OK    OK    OK  
palomino3Windows Server 2022 Datacenter / x64  OK    OK    OK    OK  NO, package depends on 'S4Vectors' which is not available
merida1macOS 10.14.6 Mojave / x86_64  OK    OK    OK    OK  UNNEEDED, same version is already published

Summary

Package: deconvR
Version: 1.1.1
Command: rm -rf deconvR.buildbin-libdir && mkdir deconvR.buildbin-libdir && D:\biocbuild\bbs-3.15-bioc\R\bin\R.exe CMD INSTALL --build --library=deconvR.buildbin-libdir deconvR_1.1.1.tar.gz
StartedAt: 2022-01-14 20:53:06 -0500 (Fri, 14 Jan 2022)
EndedAt: 2022-01-14 20:54:16 -0500 (Fri, 14 Jan 2022)
EllapsedTime: 69.7 seconds
RetCode: 0
Status:   OK  
PackageFile: deconvR_1.1.1.zip
PackageFileSize: 3.806 MiB

Command output

##############################################################################
##############################################################################
###
### Running command:
###
###   rm -rf deconvR.buildbin-libdir && mkdir deconvR.buildbin-libdir && D:\biocbuild\bbs-3.15-bioc\R\bin\R.exe CMD INSTALL --build --library=deconvR.buildbin-libdir deconvR_1.1.1.tar.gz
###
##############################################################################
##############################################################################


* installing *source* package 'deconvR' ...
** using staged installation
** R
** data
** inst
** byte-compile and prepare package for lazy loading
** help
*** installing help indices
  converting help for package 'deconvR'
    finding HTML links ... done
    BSmeth2Probe                            html  
    HumanCellTypeMethAtlas                  html  
    IlluminaMethEpicB5ProbeIDs              html  
    deconvolute                             html  
    findSignatures                          html  
    simulateCellMix                         html  
** building package indices
** installing vignettes
** testing if installed package can be loaded from temporary location
** testing if installed package can be loaded from final location
** testing if installed package keeps a record of temporary installation path
* MD5 sums
packaged installation of 'deconvR' as deconvR_1.1.1.zip
* DONE (deconvR)