Index of /checkResults/devel/bioc-LATEST/deconvR/raw-results/palomino4

[ICO]NameLast modifiedSizeDescription

[DIR]Parent Directory  -  
[   ]install-summary.dcf14-Aug-2022 00:06 622  
[TXT]install-out.txt14-Aug-2022 00:06 1.9K 
[   ]checksrc-summary.dcf14-Aug-2022 00:06 448  
[TXT]checksrc-out.txt14-Aug-2022 00:06 3.1K 
[   ]buildsrc-summary.dcf14-Aug-2022 00:06 450  
[TXT]buildsrc-out.txt14-Aug-2022 00:06 898  
[   ]buildbin-summary.dcf14-Aug-2022 00:06 530  
[TXT]buildbin-out.txt14-Aug-2022 00:06 1.1K