Index of /checkResults/devel/bioc-LATEST/deconvR/raw-results/lconway

[ICO]NameLast modifiedSizeDescription

[DIR]Parent Directory  -  
[TXT]buildbin-out.txt07-Jul-2022 00:08 1.1K 
[   ]buildbin-summary.dcf07-Jul-2022 00:08 526  
[TXT]buildsrc-out.txt07-Jul-2022 00:08 878  
[   ]buildsrc-summary.dcf07-Jul-2022 00:08 424  
[TXT]checksrc-out.txt07-Jul-2022 00:08 3.2K 
[   ]checksrc-summary.dcf07-Jul-2022 00:08 442  
[TXT]install-out.txt07-Jul-2022 00:08 1.0K 
[   ]install-summary.dcf07-Jul-2022 00:08 268