Index of /checkResults/devel/bioc-LATEST/deconvR/raw-results
Name
Last modified
Size
Description
Parent Directory
-
info.dcf
28-Jun-2022 00:05
270
lconway/
25-Jun-2022 00:07
-
nebbiolo2/
28-Jun-2022 00:05
-
palomino4/
25-Jun-2022 00:06
-