Name | Last modified | Size | Description | |
---|---|---|---|---|
Parent Directory | - | |||
install-summary.dcf | 20-Jun-2024 01:10 | 269 | ||
buildsrc-summary.dcf | 20-Jun-2024 01:10 | 426 | ||
checksrc-summary.dcf | 20-Jun-2024 01:10 | 442 | ||
buildbin-summary.dcf | 20-Jun-2024 01:10 | 528 | ||
buildsrc-out.txt | 20-Jun-2024 01:10 | 845 | ||
checksrc-out.txt | 20-Jun-2024 01:10 | 4.3K | ||
install-out.txt | 20-Jun-2024 01:10 | 17K | ||
buildbin-out.txt | 20-Jun-2024 01:10 | 19K | ||