Name | Last modified | Size | Description | |
---|---|---|---|---|
Parent Directory | - | |||
buildbin-out.txt | 20-Jun-2024 01:11 | 34K | ||
buildbin-summary.dcf | 20-Jun-2024 01:11 | 526 | ||
checksrc-out.txt | 20-Jun-2024 01:11 | 4.5K | ||
checksrc-summary.dcf | 20-Jun-2024 01:11 | 448 | ||
buildsrc-out.txt | 20-Jun-2024 01:11 | 845 | ||
buildsrc-summary.dcf | 20-Jun-2024 01:11 | 426 | ||
install-summary.dcf | 20-Jun-2024 01:11 | 268 | ||
install-out.txt | 20-Jun-2024 01:11 | 32K | ||