Back to Multiple platform build/check report for BioC 3.15
ABC[D]EFGHIJKLMNOPQRSTUVWXYZ

This page was generated on 2022-01-19 11:07:31 -0500 (Wed, 19 Jan 2022).

HostnameOSArch (*)R versionInstalled pkgs
nebbiolo1Linux (Ubuntu 20.04.4 LTS)x86_64R Under development (unstable) (2022-01-05 r81451) -- "Unsuffered Consequences" 4161
riesling1Windows Server 2019 Standardx64R Under development (unstable) (2021-11-21 r81221) -- "Unsuffered Consequences" 4056
palomino3Windows Server 2022 Datacenterx64R Under development (unstable) (2021-12-21 r81400 ucrt) -- "Unsuffered Consequences" 3998
merida1macOS 10.14.6 Mojavex86_64R Under development (unstable) (2022-01-05 r81451) -- "Unsuffered Consequences" 4115
Click on any hostname to see more info about the system (e.g. compilers)      (*) as reported by 'uname -p', except on Windows and Mac OS X

CHECK results for decompTumor2Sig on riesling1


To the developers/maintainers of the decompTumor2Sig package:
- Please allow up to 24 hours (and sometimes 48 hours) for your latest push to git@git.bioconductor.org:packages/decompTumor2Sig.git to
reflect on this report. See How and When does the builder pull? When will my changes propagate? here for more information.
- Make sure to use the following settings in order to reproduce any error or warning you see on this page.

raw results

Package 466/2074HostnameOS / ArchINSTALLBUILDCHECKBUILD BIN
decompTumor2Sig 2.11.0  (landing page)
Rosario M. Piro
Snapshot Date: 2022-01-18 13:55:18 -0500 (Tue, 18 Jan 2022)
git_url: https://git.bioconductor.org/packages/decompTumor2Sig
git_branch: master
git_last_commit: 218491c
git_last_commit_date: 2021-10-26 12:48:26 -0500 (Tue, 26 Oct 2021)
nebbiolo1Linux (Ubuntu 20.04.4 LTS) / x86_64  OK    OK    OK  UNNEEDED, same version is already published
riesling1Windows Server 2019 Standard / x64  OK    OK    OK    OK  
palomino3Windows Server 2022 Datacenter / x64  OK    OK    OK    OK  NO, package depends on 'GenomicRanges' which is not available
merida1macOS 10.14.6 Mojave / x86_64  OK    OK    OK    OK  UNNEEDED, same version is already published

Summary

Package: decompTumor2Sig
Version: 2.11.0
Command: D:\biocbuild\bbs-3.15-bioc\R\bin\R.exe CMD check --no-multiarch --install=check:decompTumor2Sig.install-out.txt --library=D:\biocbuild\bbs-3.15-bioc\R\library --no-vignettes --timings decompTumor2Sig_2.11.0.tar.gz
StartedAt: 2022-01-18 18:38:34 -0500 (Tue, 18 Jan 2022)
EndedAt: 2022-01-18 18:43:59 -0500 (Tue, 18 Jan 2022)
EllapsedTime: 324.8 seconds
RetCode: 0
Status:   OK  
CheckDir: decompTumor2Sig.Rcheck
Warnings: 0

Command output

##############################################################################
##############################################################################
###
### Running command:
###
###   D:\biocbuild\bbs-3.15-bioc\R\bin\R.exe CMD check --no-multiarch --install=check:decompTumor2Sig.install-out.txt --library=D:\biocbuild\bbs-3.15-bioc\R\library --no-vignettes --timings decompTumor2Sig_2.11.0.tar.gz
###
##############################################################################
##############################################################################


* using log directory 'D:/biocbuild/bbs-3.15-bioc/meat/decompTumor2Sig.Rcheck'
* using R Under development (unstable) (2021-11-21 r81221)
* using platform: x86_64-w64-mingw32 (64-bit)
* using session charset: ISO8859-1
* using option '--no-vignettes'
* checking for file 'decompTumor2Sig/DESCRIPTION' ... OK
* checking extension type ... Package
* this is package 'decompTumor2Sig' version '2.11.0'
* package encoding: UTF-8
* checking package namespace information ... OK
* checking package dependencies ... OK
* checking if this is a source package ... OK
* checking if there is a namespace ... OK
* checking for hidden files and directories ... OK
* checking for portable file names ... OK
* checking whether package 'decompTumor2Sig' can be installed ... OK
* checking installed package size ... OK
* checking package directory ... OK
* checking 'build' directory ... OK
* checking DESCRIPTION meta-information ... OK
* checking top-level files ... NOTE
File
  inst/LICENSE
will install at top-level and is not mentioned in the DESCRIPTION file.
* checking for left-over files ... OK
* checking index information ... OK
* checking package subdirectories ... OK
* checking R files for non-ASCII characters ... OK
* checking R files for syntax errors ... OK
* checking whether the package can be loaded ... OK
* checking whether the package can be loaded with stated dependencies ... OK
* checking whether the package can be unloaded cleanly ... OK
* checking whether the namespace can be loaded with stated dependencies ... OK
* checking whether the namespace can be unloaded cleanly ... OK
* checking dependencies in R code ... OK
* checking S3 generic/method consistency ... OK
* checking replacement functions ... OK
* checking foreign function calls ... OK
* checking R code for possible problems ... OK
* checking Rd files ... OK
* checking Rd metadata ... OK
* checking Rd cross-references ... OK
* checking for missing documentation entries ... OK
* checking for code/documentation mismatches ... OK
* checking Rd \usage sections ... OK
* checking Rd contents ... OK
* checking for unstated dependencies in examples ... OK
* checking files in 'vignettes' ... OK
* checking examples ... OK
Examples with CPU (user + system) or elapsed time > 5s
                           user system elapsed
plotExplainedVariance     57.85   0.06   65.11
convertGenomesFromVRanges  6.58   0.53    7.11
decomposeTumorGenomes      4.16   0.44    5.41
* checking for unstated dependencies in vignettes ... OK
* checking package vignettes in 'inst/doc' ... OK
* checking running R code from vignettes ... SKIPPED
* checking re-building of vignette outputs ... SKIPPED
* checking PDF version of manual ... OK
* DONE

Status: 1 NOTE
See
  'D:/biocbuild/bbs-3.15-bioc/meat/decompTumor2Sig.Rcheck/00check.log'
for details.



Installation output

decompTumor2Sig.Rcheck/00install.out

##############################################################################
##############################################################################
###
### Running command:
###
###   D:\biocbuild\bbs-3.15-bioc\R\bin\R.exe CMD INSTALL decompTumor2Sig
###
##############################################################################
##############################################################################


* installing to library 'D:/biocbuild/bbs-3.15-bioc/R/library'
* installing *source* package 'decompTumor2Sig' ...
** using staged installation
** R
** inst
** byte-compile and prepare package for lazy loading
** help
*** installing help indices
  converting help for package 'decompTumor2Sig'
    finding HTML links ... done
    QPforSig                                html  
    addBestSignatureToSubset                html  
    adjustAlexandrovSignature               html  
    adjustShiraishiSignature                html  
    adjustSignaturesForRegionSet            html  
    buildGenomesFromMutationData            html  
    buildSortedAlexandrovSignaturePatternList
                                            html  
    compNucFreq                             html  
    composeGenomesFromExposures             html  
    computeExplainedVariance                html  
    computeFrobeniusNorm                    html  
    computeRSS                              html  
    convAlx2Shi                             html  
    convertAlexandrov2Shiraishi             html  
    convertGenomesFromVRanges               html  
    convertSeqFreqToBaseFreq                html  
    decompTumor2Sig-package                 html  
    decomposeTumorGenomes                   html  
    determineSignatureDistances             html  
    determineTypeNumBasesAndTrDir           html  
    downgradeShiraishiSignatures            html  
    evaluateDecompositionQuality            html  
    getBestDecomp4Ksignatures               html  
    getCountData                            html  
    getFeatVectList                         html  
    getGenomesFromMutFeatData               html  
    getNumFlankingBases                     html  
    getNumSignatures                        html  
    getSampleList                           html  
    getSigFeatDist                          html  
    getSigFromEstParam                      html  
    getSigType                              html  
    getSignaturesFromEstParam               html  
    haveTrDir                               html  
    is.probability.data.frame               html  
    is.probability.data.frame.list          html  
    is.probability.matrix                   html  
    is.probability.matrix.list              html  
    is.probability.object                   html  
    is.probability.vector                   html  
    is.probability.vector.list              html  
    isAlexandrovSet                         html  
    isBackGround                            html  
    isEstParamObject                        html  
    isExposureSet                           html  
    isMutFeatDataObject                     html  
    isShiraishiSet                          html  
    isSignatureSet                          html  
    mapSignatureSets                        html  
    plotAlexandrovModel                     html  
    plotDecomposedContribution              html  
    plotExplainedVariance                   html  
    plotMutationDistribution                html  
    plotShiraishiModel                      html  
    processMultipleSigSets                  html  
    readAlexandrovSignatures                html  
    readGenomesFromMPF                      html  
    readGenomesFromVCF                      html  
    readShiraishiSignatures                 html  
    roundIntegerSum                         html  
    sameSignatureFormat                     html  
    setNames4ShiraishiTable                 html  
    setNumFlankingBases                     html  
    setSigFeatDist                          html  
    setSigType                              html  
    setTrDir                                html  
** building package indices
** installing vignettes
** testing if installed package can be loaded from temporary location
** testing if installed package can be loaded from final location
** testing if installed package keeps a record of temporary installation path
* DONE (decompTumor2Sig)
Making 'packages.html' ...Warning in packageDescription(i, lib.loc = lib, fields = "Title", encoding = "UTF-8") :
  DESCRIPTION file of package 'scanMiRApp' is missing or broken
 done

Tests output


Example timings

decompTumor2Sig.Rcheck/decompTumor2Sig-Ex.timings

nameusersystemelapsed
adjustSignaturesForRegionSet2.750.193.72
composeGenomesFromExposures0.210.000.98
computeExplainedVariance0.160.030.95
convertAlexandrov2Shiraishi0.040.000.84
convertGenomesFromVRanges6.580.537.11
decomposeTumorGenomes4.160.445.41
determineSignatureDistances0.050.000.84
downgradeShiraishiSignatures000
evaluateDecompositionQuality0.170.000.95
getGenomesFromMutFeatData0.460.000.45
getSignaturesFromEstParam0.090.000.09
isAlexandrovSet0.020.000.83
isExposureSet2.600.423.92
isShiraishiSet0.100.000.88
isSignatureSet0.030.000.81
mapSignatureSets0.110.000.89
plotDecomposedContribution0.250.041.08
plotExplainedVariance57.85 0.0665.11
plotMutationDistribution1.760.002.55
readAlexandrovSignatures0.020.000.79
readGenomesFromMPF2.680.443.13
readGenomesFromVCF3.100.323.42
readShiraishiSignatures000
sameSignatureFormat0.030.020.81