Back to Multiple platform build/check report for BioC 3.15
ABC[D]EFGHIJKLMNOPQRSTUVWXYZ

This page was generated on 2022-01-21 11:07:21 -0500 (Fri, 21 Jan 2022).

HostnameOSArch (*)R versionInstalled pkgs
nebbiolo1Linux (Ubuntu 20.04.4 LTS)x86_64R Under development (unstable) (2022-01-05 r81451) -- "Unsuffered Consequences" 4163
riesling1Windows Server 2019 Standardx64R Under development (unstable) (2021-11-21 r81221) -- "Unsuffered Consequences" 4058
palomino3Windows Server 2022 Datacenterx64R Under development (unstable) (2021-12-21 r81400 ucrt) -- "Unsuffered Consequences" 4000
merida1macOS 10.14.6 Mojavex86_64R Under development (unstable) (2022-01-05 r81451) -- "Unsuffered Consequences" 4117
Click on any hostname to see more info about the system (e.g. compilers)      (*) as reported by 'uname -p', except on Windows and Mac OS X

BUILD BIN results for decompTumor2Sig on riesling1


To the developers/maintainers of the decompTumor2Sig package:
- Please allow up to 24 hours (and sometimes 48 hours) for your latest push to git@git.bioconductor.org:packages/decompTumor2Sig.git to
reflect on this report. See How and When does the builder pull? When will my changes propagate? here for more information.
- Make sure to use the following settings in order to reproduce any error or warning you see on this page.

raw results

Package 466/2075HostnameOS / ArchINSTALLBUILDCHECKBUILD BIN
decompTumor2Sig 2.11.0  (landing page)
Rosario M. Piro
Snapshot Date: 2022-01-20 13:55:17 -0500 (Thu, 20 Jan 2022)
git_url: https://git.bioconductor.org/packages/decompTumor2Sig
git_branch: master
git_last_commit: 218491c
git_last_commit_date: 2021-10-26 12:48:26 -0500 (Tue, 26 Oct 2021)
nebbiolo1Linux (Ubuntu 20.04.4 LTS) / x86_64  OK    OK    OK  UNNEEDED, same version is already published
riesling1Windows Server 2019 Standard / x64  OK    OK    OK    OK  
palomino3Windows Server 2022 Datacenter / x64  OK    OK    OK    OK  NO, package depends on 'GenomicRanges' which is not available
merida1macOS 10.14.6 Mojave / x86_64  OK    OK    OK    OK  UNNEEDED, same version is already published

Summary

Package: decompTumor2Sig
Version: 2.11.0
Command: rm -rf decompTumor2Sig.buildbin-libdir && mkdir decompTumor2Sig.buildbin-libdir && D:\biocbuild\bbs-3.15-bioc\R\bin\R.exe CMD INSTALL --build --library=decompTumor2Sig.buildbin-libdir decompTumor2Sig_2.11.0.tar.gz
StartedAt: 2022-01-20 20:49:15 -0500 (Thu, 20 Jan 2022)
EndedAt: 2022-01-20 20:50:22 -0500 (Thu, 20 Jan 2022)
EllapsedTime: 66.4 seconds
RetCode: 0
Status:   OK  
PackageFile: decompTumor2Sig_2.11.0.zip
PackageFileSize: 2.54 MiB

Command output

##############################################################################
##############################################################################
###
### Running command:
###
###   rm -rf decompTumor2Sig.buildbin-libdir && mkdir decompTumor2Sig.buildbin-libdir && D:\biocbuild\bbs-3.15-bioc\R\bin\R.exe CMD INSTALL --build --library=decompTumor2Sig.buildbin-libdir decompTumor2Sig_2.11.0.tar.gz
###
##############################################################################
##############################################################################


* installing *source* package 'decompTumor2Sig' ...
** using staged installation
** R
** inst
** byte-compile and prepare package for lazy loading
** help
*** installing help indices
  converting help for package 'decompTumor2Sig'
    finding HTML links ... done
    QPforSig                                html  
    addBestSignatureToSubset                html  
    adjustAlexandrovSignature               html  
    adjustShiraishiSignature                html  
    adjustSignaturesForRegionSet            html  
    buildGenomesFromMutationData            html  
    buildSortedAlexandrovSignaturePatternList
                                            html  
    compNucFreq                             html  
    composeGenomesFromExposures             html  
    computeExplainedVariance                html  
    computeFrobeniusNorm                    html  
    computeRSS                              html  
    convAlx2Shi                             html  
    convertAlexandrov2Shiraishi             html  
    convertGenomesFromVRanges               html  
    convertSeqFreqToBaseFreq                html  
    decompTumor2Sig-package                 html  
    decomposeTumorGenomes                   html  
    determineSignatureDistances             html  
    determineTypeNumBasesAndTrDir           html  
    downgradeShiraishiSignatures            html  
    evaluateDecompositionQuality            html  
    getBestDecomp4Ksignatures               html  
    getCountData                            html  
    getFeatVectList                         html  
    getGenomesFromMutFeatData               html  
    getNumFlankingBases                     html  
    getNumSignatures                        html  
    getSampleList                           html  
    getSigFeatDist                          html  
    getSigFromEstParam                      html  
    getSigType                              html  
    getSignaturesFromEstParam               html  
    haveTrDir                               html  
    is.probability.data.frame               html  
    is.probability.data.frame.list          html  
    is.probability.matrix                   html  
    is.probability.matrix.list              html  
    is.probability.object                   html  
    is.probability.vector                   html  
    is.probability.vector.list              html  
    isAlexandrovSet                         html  
    isBackGround                            html  
    isEstParamObject                        html  
    isExposureSet                           html  
    isMutFeatDataObject                     html  
    isShiraishiSet                          html  
    isSignatureSet                          html  
    mapSignatureSets                        html  
    plotAlexandrovModel                     html  
    plotDecomposedContribution              html  
    plotExplainedVariance                   html  
    plotMutationDistribution                html  
    plotShiraishiModel                      html  
    processMultipleSigSets                  html  
    readAlexandrovSignatures                html  
    readGenomesFromMPF                      html  
    readGenomesFromVCF                      html  
    readShiraishiSignatures                 html  
    roundIntegerSum                         html  
    sameSignatureFormat                     html  
    setNames4ShiraishiTable                 html  
    setNumFlankingBases                     html  
    setSigFeatDist                          html  
    setSigType                              html  
    setTrDir                                html  
** building package indices
** installing vignettes
** testing if installed package can be loaded from temporary location
** testing if installed package can be loaded from final location
** testing if installed package keeps a record of temporary installation path
* MD5 sums
packaged installation of 'decompTumor2Sig' as decompTumor2Sig_2.11.0.zip
* DONE (decompTumor2Sig)