############################################################################## ############################################################################## ### ### Running command: ### ### C:\cygwin\bin\curl.exe -O http://155.52.207.166/BBS/3.16/bioc/src/contrib/decompTumor2Sig_2.13.1.tar.gz && rm -rf decompTumor2Sig.buildbin-libdir && mkdir decompTumor2Sig.buildbin-libdir && F:\biocbuild\bbs-3.16-bioc\R\bin\R.exe CMD INSTALL --merge-multiarch --build --library=decompTumor2Sig.buildbin-libdir decompTumor2Sig_2.13.1.tar.gz && F:\biocbuild\bbs-3.16-bioc\R\bin\R.exe CMD INSTALL decompTumor2Sig_2.13.1.zip && rm decompTumor2Sig_2.13.1.tar.gz decompTumor2Sig_2.13.1.zip ### ############################################################################## ############################################################################## % Total % Received % Xferd Average Speed Time Time Time Current Dload Upload Total Spent Left Speed 0 0 0 0 0 0 0 0 --:--:-- --:--:-- --:--:-- 0 30 2036k 30 623k 0 0 3487k 0 --:--:-- --:--:-- --:--:-- 3483k 100 2036k 100 2036k 0 0 5062k 0 --:--:-- --:--:-- --:--:-- 5067k only one architecture so ignoring '--merge-multiarch' * installing *source* package 'decompTumor2Sig' ... ** using staged installation ** R ** inst ** byte-compile and prepare package for lazy loading ** help *** installing help indices ** building package indices ** installing vignettes ** testing if installed package can be loaded from temporary location ** testing if installed package can be loaded from final location ** testing if installed package keeps a record of temporary installation path * MD5 sums packaged installation of 'decompTumor2Sig' as decompTumor2Sig_2.13.1.zip * DONE (decompTumor2Sig) * installing to library 'F:/biocbuild/bbs-3.16-bioc/R/library' package 'decompTumor2Sig' successfully unpacked and MD5 sums checked