![]() | Name | Last modified | Size | Description |
---|---|---|---|---|
![]() | Parent Directory | - | ||
![]() | install-out.txt | 19-Aug-2022 00:06 | 2.0K | |
![]() | install-summary.dcf | 19-Aug-2022 00:06 | 700 | |
![]() | buildsrc-out.txt | 19-Aug-2022 00:06 | 879 | |
![]() | buildsrc-summary.dcf | 19-Aug-2022 00:06 | 485 | |
![]() | checksrc-out.txt | 19-Aug-2022 00:06 | 3.4K | |
![]() | checksrc-summary.dcf | 19-Aug-2022 00:06 | 482 | |
![]() | buildbin-summary.dcf | 19-Aug-2022 00:06 | 581 | |
![]() | buildbin-out.txt | 19-Aug-2022 00:06 | 1.2K | |