Back to Multiple platform build/check report for BioC 3.15
ABC[D]EFGHIJKLMNOPQRSTUVWXYZ

This page was generated on 2022-01-15 11:07:23 -0500 (Sat, 15 Jan 2022).

HostnameOSArch (*)R versionInstalled pkgs
nebbiolo1Linux (Ubuntu 20.04.4 LTS)x86_64R Under development (unstable) (2022-01-05 r81451) -- "Unsuffered Consequences" 4160
riesling1Windows Server 2019 Standardx64R Under development (unstable) (2021-11-21 r81221) -- "Unsuffered Consequences" 4055
palomino3Windows Server 2022 Datacenterx64R Under development (unstable) (2021-12-21 r81400 ucrt) -- "Unsuffered Consequences" 3997
merida1macOS 10.14.6 Mojavex86_64R Under development (unstable) (2022-01-05 r81451) -- "Unsuffered Consequences" 4114
Click on any hostname to see more info about the system (e.g. compilers)      (*) as reported by 'uname -p', except on Windows and Mac OS X

BUILD BIN results for deco on riesling1


To the developers/maintainers of the deco package:
- Please allow up to 24 hours (and sometimes 48 hours) for your latest push to git@git.bioconductor.org:packages/deco.git to
reflect on this report. See How and When does the builder pull? When will my changes propagate? here for more information.
- Make sure to use the following settings in order to reproduce any error or warning you see on this page.

raw results

Package 464/2074HostnameOS / ArchINSTALLBUILDCHECKBUILD BIN
deco 1.11.1  (landing page)
Francisco Jose Campos Laborie
Snapshot Date: 2022-01-14 13:55:18 -0500 (Fri, 14 Jan 2022)
git_url: https://git.bioconductor.org/packages/deco
git_branch: master
git_last_commit: 97cb195
git_last_commit_date: 2021-11-20 23:30:43 -0500 (Sat, 20 Nov 2021)
nebbiolo1Linux (Ubuntu 20.04.4 LTS) / x86_64  OK    OK    OK  UNNEEDED, same version is already published
riesling1Windows Server 2019 Standard / x64  OK    OK    OK    OK  
palomino3Windows Server 2022 Datacenter / x64  OK    OK    OK    OK  NO, package depends on 'AnnotationDbi' which is not available
merida1macOS 10.14.6 Mojave / x86_64  OK    OK    OK    OK  UNNEEDED, same version is already published

Summary

Package: deco
Version: 1.11.1
Command: rm -rf deco.buildbin-libdir && mkdir deco.buildbin-libdir && D:\biocbuild\bbs-3.15-bioc\R\bin\R.exe CMD INSTALL --build --library=deco.buildbin-libdir deco_1.11.1.tar.gz
StartedAt: 2022-01-14 20:52:59 -0500 (Fri, 14 Jan 2022)
EndedAt: 2022-01-14 20:54:10 -0500 (Fri, 14 Jan 2022)
EllapsedTime: 70.2 seconds
RetCode: 0
Status:   OK  
PackageFile: deco_1.11.1.zip
PackageFileSize: 3.396 MiB

Command output

##############################################################################
##############################################################################
###
### Running command:
###
###   rm -rf deco.buildbin-libdir && mkdir deco.buildbin-libdir && D:\biocbuild\bbs-3.15-bioc\R\bin\R.exe CMD INSTALL --build --library=deco.buildbin-libdir deco_1.11.1.tar.gz
###
##############################################################################
##############################################################################


* installing *source* package 'deco' ...
** using staged installation
** R
** data
** inst
** byte-compile and prepare package for lazy loading
** help
*** installing help indices
  converting help for package 'deco'
    finding HTML links ... done
    ALCLdata                                html  
    AnnotateDECO                            html  
    NSCAcluster                             html  
    deco-class                              html  
    deco-package                            html  
    decoNSCA                                html  
    decoRDA                                 html  
    decoReport                              html  
    featureTable                            html  
    plotAssociationH                        html  
    plotDECOProfile                         html  
    plotGainingH                            html  
    plotHeatmapH                            html  
** building package indices
** installing vignettes
** testing if installed package can be loaded from temporary location
** testing if installed package can be loaded from final location
** testing if installed package keeps a record of temporary installation path
* MD5 sums
packaged installation of 'deco' as deco_1.11.1.zip
* DONE (deco)