Index of /checkResults/devel/bioc-LATEST/deco/raw-results/palomino4
Name
Last modified
Size
Description
Parent Directory
-
buildsrc-out.txt
28-Sep-2023 00:37
1.0K
buildsrc-summary.dcf
28-Sep-2023 00:37
359
install-out.txt
28-Sep-2023 00:37
1.1K
install-summary.dcf
28-Sep-2023 00:37
262