Index of /checkResults/devel/bioc-LATEST/deco/raw-results/nebbiolo2

[ICO]NameLast modifiedSizeDescription

[DIR]Parent Directory  -  
[TXT]buildsrc-out.txt28-Sep-2023 00:36 1.0K 
[   ]buildsrc-summary.dcf28-Sep-2023 00:36 327  
[TXT]install-out.txt28-Sep-2023 00:36 1.1K 
[   ]install-summary.dcf28-Sep-2023 00:36 253