Index of /checkResults/devel/bioc-LATEST/deco/raw-results
Name
Last modified
Size
Description
Parent Directory
-
palomino4/
05-Oct-2023 00:37
-
nebbiolo2/
05-Oct-2023 00:36
-
lconway/
05-Oct-2023 00:39
-
kunpeng2/
05-Oct-2023 00:40
-
info.dcf
05-Oct-2023 00:40
273