Back to Multiple platform build/check report for BioC 3.14
ABC[D]EFGHIJKLMNOPQRSTUVWXYZ

This page was generated on 2021-10-22 12:04:22 -0400 (Fri, 22 Oct 2021).

BUILD results for debrowser on riesling1

To the developers/maintainers of the debrowser package:
- Please allow up to 24 hours (and sometimes 48 hours) for your latest push to git@git.bioconductor.org:packages/debrowser.git to
reflect on this report. See How and When does the builder pull? When will my changes propagate? here for more information.
- Make sure to use the following settings in order to reproduce any error or warning you see on this page.

raw results

Package 457/2075HostnameOS / ArchINSTALLBUILDCHECKBUILD BIN
debrowser 1.21.1  (landing page)
Alper Kucukural
Snapshot Date: 2021-10-21 14:50:08 -0400 (Thu, 21 Oct 2021)
git_url: https://git.bioconductor.org/packages/debrowser
git_branch: master
git_last_commit: 7496da1
git_last_commit_date: 2021-08-11 22:13:55 -0400 (Wed, 11 Aug 2021)
nebbiolo2Linux (Ubuntu 20.04.2 LTS) / x86_64  OK    OK    OK  UNNEEDED, same version is already published
riesling1Windows Server 2019 Standard / x64  OK    OK    OK    OK  UNNEEDED, same version is already published
merida1macOS 10.14.6 Mojave / x86_64  OK    OK    OK    OK  UNNEEDED, same version is already published

Summary

Package: debrowser
Version: 1.21.1
Command: chmod a+r debrowser -R && D:\biocbuild\bbs-3.14-bioc\R\bin\R.exe CMD build --keep-empty-dirs --no-resave-data debrowser
StartedAt: 2021-10-21 20:28:27 -0400 (Thu, 21 Oct 2021)
EndedAt: 2021-10-21 20:33:02 -0400 (Thu, 21 Oct 2021)
EllapsedTime: 274.8 seconds
RetCode: 0
Status:   OK  
PackageFile: debrowser_1.21.1.tar.gz
PackageFileSize: 18.22 MiB

Command output

##############################################################################
##############################################################################
###
### Running command:
###
###   chmod a+r debrowser -R && D:\biocbuild\bbs-3.14-bioc\R\bin\R.exe CMD build --keep-empty-dirs --no-resave-data debrowser
###
##############################################################################
##############################################################################


* checking for file 'debrowser/DESCRIPTION' ... OK
* preparing 'debrowser':
* checking DESCRIPTION meta-information ... OK
* installing the package to build vignettes
* creating vignettes ... OK
* checking for LF line-endings in source and make files and shell scripts
* checking for empty or unneeded directories
Omitted 'LazyData' from DESCRIPTION
* building 'debrowser_1.21.1.tar.gz'