Back to Multiple platform build/check report for BioC 3.14
ABC[D]EFGHIJKLMNOPQRSTUVWXYZ

This page was generated on 2021-10-21 12:04:43 -0400 (Thu, 21 Oct 2021).

BUILD BIN results for debrowser on riesling1

To the developers/maintainers of the debrowser package:
- Please allow up to 24 hours (and sometimes 48 hours) for your latest push to git@git.bioconductor.org:packages/debrowser.git to
reflect on this report. See How and When does the builder pull? When will my changes propagate? here for more information.
- Make sure to use the following settings in order to reproduce any error or warning you see on this page.

raw results

Package 457/2075HostnameOS / ArchINSTALLBUILDCHECKBUILD BIN
debrowser 1.21.1  (landing page)
Alper Kucukural
Snapshot Date: 2021-10-20 14:50:05 -0400 (Wed, 20 Oct 2021)
git_url: https://git.bioconductor.org/packages/debrowser
git_branch: master
git_last_commit: 7496da1
git_last_commit_date: 2021-08-11 22:13:55 -0400 (Wed, 11 Aug 2021)
nebbiolo2Linux (Ubuntu 20.04.2 LTS) / x86_64  OK    OK    OK  UNNEEDED, same version is already published
riesling1Windows Server 2019 Standard / x64  OK    OK    OK    OK  UNNEEDED, same version is already published
merida1macOS 10.14.6 Mojave / x86_64  OK    OK    OK    OK  UNNEEDED, same version is already published

Summary

Package: debrowser
Version: 1.21.1
Command: rm -rf debrowser.buildbin-libdir && mkdir debrowser.buildbin-libdir && D:\biocbuild\bbs-3.14-bioc\R\bin\R.exe CMD INSTALL --merge-multiarch --build --library=debrowser.buildbin-libdir debrowser_1.21.1.tar.gz
StartedAt: 2021-10-21 05:50:26 -0400 (Thu, 21 Oct 2021)
EndedAt: 2021-10-21 05:54:20 -0400 (Thu, 21 Oct 2021)
EllapsedTime: 234.3 seconds
RetCode: 0
Status:   OK  
PackageFile: debrowser_1.21.1.zip
PackageFileSize: 18.83 MiB

Command output

##############################################################################
##############################################################################
###
### Running command:
###
###   rm -rf debrowser.buildbin-libdir && mkdir debrowser.buildbin-libdir && D:\biocbuild\bbs-3.14-bioc\R\bin\R.exe CMD INSTALL --merge-multiarch --build --library=debrowser.buildbin-libdir debrowser_1.21.1.tar.gz
###
##############################################################################
##############################################################################



install for i386

* installing *source* package 'debrowser' ...
** using staged installation
** R
** inst
** byte-compile and prepare package for lazy loading
** help
*** installing help indices
  converting help for package 'debrowser'
    finding HTML links ... done
    BoxMainPlotControlsUI                   html  
    IQRPlotControlsUI                       html  
    actionButtonDE                          html  
    addDataCols                             html  
    addID                                   html  
    all2all                                 html  
    all2allControlsUI                       html  
    applyFilters                            html  
    applyFiltersNew                         html  
    applyFiltersToMergedComparison          html  
    barMainPlotControlsUI                   html  
    batchEffectUI                           html  
    batchMethod                             html  
    changeClusterOrder                      html  
    checkCountData                          html  
    checkMetaData                           html  
    clustFunParamsUI                        html  
    clusterData                             html  
    compareClust                            html  
    condSelectUI                            html  
    correctCombat                           html  
    correctHarman                           html  
    customColorsUI                          html  
    cutOffSelectionUI                       html  
    dataLCFUI                               html  
    dataLoadUI                              html  
    deServer                                html  
    deUI                                    html  
    debrowserIQRplot                        html  
    debrowserall2all                        html  
    debrowserbarmainplot                    html  
    debrowserbatcheffect                    html  
    debrowserboxmainplot                    html  
    debrowsercondselect                     html  
    debrowserdataload                       html  
    debrowserdeanalysis                     html  
    debrowserdensityplot                    html  
    debrowserheatmap                        html  
    debrowserhistogram                      html  
    debrowserlowcountfilter                 html  
    debrowsermainplot                       html  
    debrowserpcaplot                        html  
    dendControlsUI                          html  
    densityPlotControlsUI                   html  
    distFunParamsUI                         html  
    drawKEGG                                html  
    drawPCAExplained                        html  
    fileTypes                               html  
    fileUploadBox                           html  
    generateTestData                        html  
    getAfterLoadMsg                         html  
    getAll2AllPlotUI                        html  
    getBSTableUI                            html  
    getBarMainPlot                          html  
    getBarMainPlotUI                        html  
    getBoxMainPlot                          html  
    getBoxMainPlotUI                        html  
    getColorShapeSelection                  html  
    getColors                               html  
    getCompSelection                        html  
    getCondMsg                              html  
    getConditionSelector                    html  
    getConditionSelectorFromMeta            html  
    getCutOffSelection                      html  
    getDEAnalysisText                       html  
    getDEResultsUI                          html  
    getDataAssesmentText                    html  
    getDataForTables                        html  
    getDataPreparationText                  html  
    getDensityPlot                          html  
    getDensityPlotUI                        html  
    getDomains                              html  
    getDown                                 html  
    getDownloadSection                      html  
    getEnrichDO                             html  
    getEnrichGO                             html  
    getEnrichKEGG                           html  
    getEntrezIds                            html  
    getEntrezTable                          html  
    getGOLeftMenu                           html  
    getGOPlots                              html  
    getGSEA                                 html  
    getGeneList                             html  
    getGeneSetData                          html  
    getGoPanel                              html  
    getHeatmapUI                            html  
    getHelpButton                           html  
    getHideLegendOnOff                      html  
    getHistogramUI                          html  
    getIQRPlot                              html  
    getIQRPlotUI                            html  
    getIntroText                            html  
    getJSLine                               html  
    getKEGGModal                            html  
    getLeftMenu                             html  
    getLegendColors                         html  
    getLegendRadio                          html  
    getLegendSelect                         html  
    getLevelOrder                           html  
    getLoadingMsg                           html  
    getLogo                                 html  
    getMainPanel                            html  
    getMainPlotUI                           html  
    getMainPlotsLeftMenu                    html  
    getMean                                 html  
    getMergedComparison                     html  
    getMetaSelector                         html  
    getMethodDetails                        html  
    getMostVariedList                       html  
    getNormalizedMatrix                     html  
    getOrganism                             html  
    getOrganismBox                          html  
    getOrganismPathway                      html  
    getPCAPlotUI                            html  
    getPCAcontolUpdatesJS                   html  
    getPCAexplained                         html  
    getPCselection                          html  
    getPlotArea                             html  
    getProgramTitle                         html  
    getQAText                               html  
    getQCLeftMenu                           html  
    getQCPanel                              html  
    getSampleDetails                        html  
    getSampleNames                          html  
    getSamples                              html  
    getSearchData                           html  
    getSelHeat                              html  
    getSelectInputBox                       html  
    getSelectedCols                         html  
    getSelectedDatasetInput                 html  
    getShapeColor                           html  
    getStartPlotsMsg                        html  
    getStartupMsg                           html  
    getTabUpdateJS                          html  
    getTableDetails                         html  
    getTableModal                           html  
    getTableStyle                           html  
    getTextOnOff                            html  
    getUp                                   html  
    getUpDown                               html  
    getVariationData                        html  
    get_conditions_given_selection          html  
    heatmapControlsUI                       html  
    heatmapJScode                           html  
    heatmapServer                           html  
    heatmapUI                               html  
    hideObj                                 html  
    histogramControlsUI                     html  
    installpack                             html  
    kmeansControlsUI                        html  
    lcfMetRadio                             html  
    loadpack                                html  
    mainPlotControlsUI                      html  
    mainScatterNew                          html  
    niceKmeans                              html  
    normalizationMethods                    html  
    palUI                                   html  
    panel.cor                               html  
    panel.hist                              html  
    pcaPlotControlsUI                       html  
    plotData                                html  
    plotMarginsUI                           html  
    plotSizeMarginsUI                       html  
    plotSizeUI                              html  
    plotTypeUI                              html  
    plot_pca                                html  
    prepDEOutput                            html  
    prepDataContainer                       html  
    prepGroup                               html  
    prepHeatData                            html  
    prepPCADat                              html  
    push                                    html  
    removeCols                              html  
    removeExtraCols                         html  
    round_vals                              html  
    runDE                                   html  
    runDESeq2                               html  
    runEdgeR                                html  
    runHeatmap                              html  
    runHeatmap2                             html  
    runLimma                                html  
    run_pca                                 html  
    selectConditions                        html  
    selectGroupInfo                         html  
    selectedInput                           html  
    sepRadio                                html  
    setBatch                                html  
    showObj                                 html  
    startDEBrowser                          html  
    startHeatmap                            html  
    textareaInput                           html  
    togglePanels                            html  
** building package indices
** installing vignettes
** testing if installed package can be loaded from temporary location
** testing if installed package can be loaded from final location
** testing if installed package keeps a record of temporary installation path

install for x64

* installing *source* package 'debrowser' ...
** testing if installed package can be loaded
* MD5 sums
packaged installation of 'debrowser' as debrowser_1.21.1.zip
* DONE (debrowser)