Index of /checkResults/devel/bioc-LATEST/debrowser/raw-results
Name
Last modified
Size
Description
Parent Directory
-
info.dcf
29-Mar-2024 00:34
279
kunpeng2/
29-Mar-2024 00:40
-
lconway/
29-Mar-2024 00:39
-
merida1/
05-Mar-2024 01:39
-
nebbiolo1/
29-Mar-2024 00:36
-
palomino3/
29-Mar-2024 00:37
-