Name | Last modified | Size | Description | |
---|---|---|---|---|
Parent Directory | - | |||
install-summary.dcf | 28-Jul-2024 00:38 | 253 | ||
install-out.txt | 28-Jul-2024 00:38 | 943 | ||
checksrc-summary.dcf | 28-Jul-2024 00:38 | 407 | ||
checksrc-out.txt | 28-Jul-2024 00:38 | 5.5K | ||
buildsrc-summary.dcf | 28-Jul-2024 00:38 | 414 | ||
buildsrc-out.txt | 28-Jul-2024 00:38 | 818 | ||