Name | Last modified | Size | Description | |
---|---|---|---|---|
Parent Directory | - | |||
buildbin-out.txt | 12-Jun-2024 04:41 | 1.1K | ||
buildbin-summary.dcf | 12-Jun-2024 04:41 | 512 | ||
buildsrc-out.txt | 12-Jun-2024 04:41 | 804 | ||
buildsrc-summary.dcf | 12-Jun-2024 04:41 | 418 | ||
checksrc-out.txt | 12-Jun-2024 04:41 | 5.6K | ||
checksrc-summary.dcf | 12-Jun-2024 04:41 | 437 | ||
install-out.txt | 12-Jun-2024 04:41 | 1.0K | ||
install-summary.dcf | 12-Jun-2024 04:41 | 263 | ||