Index of /checkResults/devel/bioc-LATEST/ddCt/raw-results/merida1

[ICO]NameLast modifiedSizeDescription

[DIR]Parent Directory  -  
[TXT]buildbin-out.txt05-Mar-2024 01:39 1.1K 
[   ]buildbin-summary.dcf05-Mar-2024 01:39 512  
[TXT]buildsrc-out.txt05-Mar-2024 01:39 804  
[   ]buildsrc-summary.dcf05-Mar-2024 01:39 418  
[TXT]checksrc-out.txt05-Mar-2024 01:39 5.4K 
[   ]checksrc-summary.dcf05-Mar-2024 01:39 437  
[TXT]install-out.txt05-Mar-2024 01:39 1.0K 
[   ]install-summary.dcf05-Mar-2024 01:39 263