Index of /checkResults/devel/bioc-LATEST/ddCt/raw-results/kunpeng2

[ICO]NameLast modifiedSizeDescription

[DIR]Parent Directory  -  
[TXT]buildsrc-out.txt29-Mar-2024 00:40 803  
[   ]buildsrc-summary.dcf29-Mar-2024 00:40 417  
[TXT]checksrc-out.txt29-Mar-2024 00:40 5.6K 
[   ]checksrc-summary.dcf29-Mar-2024 00:40 440  
[TXT]install-out.txt29-Mar-2024 00:40 961  
[   ]install-summary.dcf29-Mar-2024 00:40 262