Name | Last modified | Size | Description | |
---|---|---|---|---|
Parent Directory | - | |||
install-out.txt | 27-Jul-2024 00:39 | 1.0K | ||
install-summary.dcf | 27-Jul-2024 00:39 | 260 | ||
buildsrc-out.txt | 27-Jul-2024 00:39 | 819 | ||
buildsrc-summary.dcf | 27-Jul-2024 00:39 | 437 | ||
checksrc-out.txt | 27-Jul-2024 00:39 | 3.5K | ||
checksrc-summary.dcf | 27-Jul-2024 00:39 | 431 | ||
buildbin-out.txt | 27-Jul-2024 00:39 | 1.1K | ||
buildbin-summary.dcf | 27-Jul-2024 00:39 | 491 | ||