Name | Last modified | Size | Description | |
---|---|---|---|---|
Parent Directory | - | |||
install-summary.dcf | 17-Jul-2024 00:40 | 266 | ||
install-out.txt | 17-Jul-2024 00:40 | 1.0K | ||
checksrc-summary.dcf | 17-Jul-2024 00:40 | 443 | ||
checksrc-out.txt | 17-Jul-2024 00:40 | 3.5K | ||
buildsrc-summary.dcf | 17-Jul-2024 00:40 | 443 | ||
buildsrc-out.txt | 17-Jul-2024 00:40 | 825 | ||
buildbin-summary.dcf | 17-Jul-2024 00:40 | 497 | ||
buildbin-out.txt | 17-Jul-2024 00:40 | 1.1K | ||