![]() | Name | Last modified | Size | Description |
---|---|---|---|---|
![]() | Parent Directory | - | ||
![]() | buildbin-out.txt | 24-Sep-2023 00:37 | 1.1K | |
![]() | buildbin-summary.dcf | 24-Sep-2023 00:37 | 488 | |
![]() | buildsrc-out.txt | 24-Sep-2023 00:37 | 818 | |
![]() | buildsrc-summary.dcf | 24-Sep-2023 00:37 | 435 | |
![]() | checksrc-out.txt | 24-Sep-2023 00:37 | 3.5K | |
![]() | checksrc-summary.dcf | 24-Sep-2023 00:37 | 429 | |
![]() | install-out.txt | 24-Sep-2023 00:37 | 1.0K | |
![]() | install-summary.dcf | 24-Sep-2023 00:37 | 259 | |