Index of /checkResults/devel/bioc-LATEST/dce/raw-results/kunpeng2

[ICO]NameLast modifiedSizeDescription

[DIR]Parent Directory  -  
[TXT]buildsrc-out.txt24-Sep-2023 00:39 783  
[   ]buildsrc-summary.dcf24-Sep-2023 00:39 397  
[TXT]checksrc-out.txt24-Sep-2023 00:39 3.7K 
[   ]checksrc-summary.dcf24-Sep-2023 00:39 384  
[TXT]install-out.txt24-Sep-2023 00:39 1.0K 
[   ]install-summary.dcf24-Sep-2023 00:39 244