Back to Multiple platform build/check report for BioC 3.15
ABC[D]EFGHIJKLMNOPQRSTUVWXYZ

This page was generated on 2022-01-26 11:11:19 -0500 (Wed, 26 Jan 2022).

HostnameOSArch (*)R versionInstalled pkgs
nebbiolo1Linux (Ubuntu 20.04.4 LTS)x86_64R Under development (unstable) (2022-01-05 r81451) -- "Unsuffered Consequences" 4164
riesling1Windows Server 2019 Standardx64R Under development (unstable) (2021-11-21 r81221) -- "Unsuffered Consequences" 4059
palomino3Windows Server 2022 Datacenterx64R Under development (unstable) (2021-12-21 r81400 ucrt) -- "Unsuffered Consequences" 4001
merida1macOS 10.14.6 Mojavex86_64R Under development (unstable) (2022-01-05 r81451) -- "Unsuffered Consequences" 4118
Click on any hostname to see more info about the system (e.g. compilers)      (*) as reported by 'uname -p', except on Windows and Mac OS X

BUILD BIN results for dasper on merida1


To the developers/maintainers of the dasper package:
- Please allow up to 24 hours (and sometimes 48 hours) for your latest push to git@git.bioconductor.org:packages/dasper.git to
reflect on this report. See How and When does the builder pull? When will my changes propagate? here for more information.
- Make sure to use the following settings in order to reproduce any error or warning you see on this page.

raw results

Package 454/2075HostnameOS / ArchINSTALLBUILDCHECKBUILD BIN
dasper 1.5.1  (landing page)
David Zhang
Snapshot Date: 2022-01-25 13:55:17 -0500 (Tue, 25 Jan 2022)
git_url: https://git.bioconductor.org/packages/dasper
git_branch: master
git_last_commit: 0b93fe2
git_last_commit_date: 2022-01-10 17:26:37 -0500 (Mon, 10 Jan 2022)
nebbiolo1Linux (Ubuntu 20.04.4 LTS) / x86_64  OK    OK    OK  UNNEEDED, same version is already published
riesling1Windows Server 2019 Standard / x64  OK    OK    OK    OK  
palomino3Windows Server 2022 Datacenter / x64  OK    OK    OK    OK  NO, package depends on 'GenomeInfoDb' which is not available
merida1macOS 10.14.6 Mojave / x86_64  OK    OK    OK    OK  UNNEEDED, same version is already published

Summary

Package: dasper
Version: 1.5.1
Command: rm -rf dasper.buildbin-libdir && mkdir dasper.buildbin-libdir && /Users/biocbuild/BBS/utils/build-universal.sh dasper_1.5.1.tar.gz /Library/Frameworks/R.framework/Resources/bin/R dasper.buildbin-libdir
StartedAt: 2022-01-26 07:46:22 -0500 (Wed, 26 Jan 2022)
EndedAt: 2022-01-26 07:46:53 -0500 (Wed, 26 Jan 2022)
EllapsedTime: 31.4 seconds
RetCode: 0
Status:   OK  
PackageFile: dasper_1.5.1.tgz
PackageFileSize: 1.695 MiB

Command output

##############################################################################
##############################################################################
###
### Running command:
###
###   rm -rf dasper.buildbin-libdir && mkdir dasper.buildbin-libdir && /Users/biocbuild/BBS/utils/build-universal.sh dasper_1.5.1.tar.gz /Library/Frameworks/R.framework/Resources/bin/R dasper.buildbin-libdir
###
##############################################################################
##############################################################################


>>>>>>> 
>>>>>>> INSTALLATION WITH 'R CMD INSTALL --preclean --no-multiarch --library=dasper.buildbin-libdir dasper_1.5.1.tar.gz'
>>>>>>> 

* installing *source* package ‘dasper’ ...
** using non-staged installation via StagedInstall field
** R
** data
*** moving datasets to lazyload DB
** inst
** byte-compile and prepare package for lazy loading
** help
*** installing help indices
** building package indices
** installing vignettes
** testing if installed package can be loaded
* DONE (dasper)