Back to Multiple platform build/check report for BioC 3.15
AB[C]DEFGHIJKLMNOPQRSTUVWXYZ

This page was generated on 2022-01-21 11:07:19 -0500 (Fri, 21 Jan 2022).

HostnameOSArch (*)R versionInstalled pkgs
nebbiolo1Linux (Ubuntu 20.04.4 LTS)x86_64R Under development (unstable) (2022-01-05 r81451) -- "Unsuffered Consequences" 4163
riesling1Windows Server 2019 Standardx64R Under development (unstable) (2021-11-21 r81221) -- "Unsuffered Consequences" 4058
palomino3Windows Server 2022 Datacenterx64R Under development (unstable) (2021-12-21 r81400 ucrt) -- "Unsuffered Consequences" 4000
merida1macOS 10.14.6 Mojavex86_64R Under development (unstable) (2022-01-05 r81451) -- "Unsuffered Consequences" 4117
Click on any hostname to see more info about the system (e.g. compilers)      (*) as reported by 'uname -p', except on Windows and Mac OS X

CHECK results for cytolib on riesling1


To the developers/maintainers of the cytolib package:
- Please allow up to 24 hours (and sometimes 48 hours) for your latest push to git@git.bioconductor.org:packages/cytolib.git to
reflect on this report. See How and When does the builder pull? When will my changes propagate? here for more information.
- Make sure to use the following settings in order to reproduce any error or warning you see on this page.

raw results

Package 443/2075HostnameOS / ArchINSTALLBUILDCHECKBUILD BIN
cytolib 2.7.1  (landing page)
Mike Jiang
Snapshot Date: 2022-01-20 13:55:17 -0500 (Thu, 20 Jan 2022)
git_url: https://git.bioconductor.org/packages/cytolib
git_branch: master
git_last_commit: 34ef000
git_last_commit_date: 2021-12-18 18:54:56 -0500 (Sat, 18 Dec 2021)
nebbiolo1Linux (Ubuntu 20.04.4 LTS) / x86_64  OK    OK    OK  UNNEEDED, same version is already published
riesling1Windows Server 2019 Standard / x64  OK    OK    OK    OK  
palomino3Windows Server 2022 Datacenter / x64  ERROR    ERROR  skippedskipped
merida1macOS 10.14.6 Mojave / x86_64  OK    OK    OK    OK  UNNEEDED, same version is already published

Summary

Package: cytolib
Version: 2.7.1
Command: D:\biocbuild\bbs-3.15-bioc\R\bin\R.exe CMD check --no-multiarch --install=check:cytolib.install-out.txt --library=D:\biocbuild\bbs-3.15-bioc\R\library --no-vignettes --timings cytolib_2.7.1.tar.gz
StartedAt: 2022-01-20 18:38:53 -0500 (Thu, 20 Jan 2022)
EndedAt: 2022-01-20 18:39:55 -0500 (Thu, 20 Jan 2022)
EllapsedTime: 62.0 seconds
RetCode: 0
Status:   OK  
CheckDir: cytolib.Rcheck
Warnings: 0

Command output

##############################################################################
##############################################################################
###
### Running command:
###
###   D:\biocbuild\bbs-3.15-bioc\R\bin\R.exe CMD check --no-multiarch --install=check:cytolib.install-out.txt --library=D:\biocbuild\bbs-3.15-bioc\R\library --no-vignettes --timings cytolib_2.7.1.tar.gz
###
##############################################################################
##############################################################################


* using log directory 'D:/biocbuild/bbs-3.15-bioc/meat/cytolib.Rcheck'
* using R Under development (unstable) (2021-11-21 r81221)
* using platform: x86_64-w64-mingw32 (64-bit)
* using session charset: ISO8859-1
* using option '--no-vignettes'
* checking for file 'cytolib/DESCRIPTION' ... OK
* checking extension type ... Package
* this is package 'cytolib' version '2.7.1'
* checking package namespace information ... OK
* checking package dependencies ... OK
* checking if this is a source package ... OK
* checking if there is a namespace ... OK
* checking for hidden files and directories ... OK
* checking for portable file names ... OK
* checking whether package 'cytolib' can be installed ... OK
* checking installed package size ... NOTE
  installed size is 12.2Mb
  sub-directories of 1Mb or more:
    lib    4.9Mb
    libs   7.0Mb
* checking package directory ... OK
* checking 'build' directory ... OK
* checking DESCRIPTION meta-information ... OK
* checking top-level files ... OK
* checking for left-over files ... OK
* checking index information ... OK
* checking package subdirectories ... OK
* checking R files for non-ASCII characters ... OK
* checking R files for syntax errors ... OK
* checking whether the package can be loaded ... OK
* checking whether the package can be loaded with stated dependencies ... OK
* checking whether the package can be unloaded cleanly ... OK
* checking whether the namespace can be loaded with stated dependencies ... OK
* checking whether the namespace can be unloaded cleanly ... OK
* checking dependencies in R code ... OK
* checking S3 generic/method consistency ... OK
* checking replacement functions ... OK
* checking foreign function calls ... OK
* checking R code for possible problems ... NOTE
CxxFlags: no visible global function definition for 'cytolibCxxFlags'
Undefined global functions or variables:
  cytolibCxxFlags
* checking Rd files ... OK
* checking Rd metadata ... OK
* checking Rd cross-references ... OK
* checking for missing documentation entries ... OK
* checking for code/documentation mismatches ... OK
* checking Rd \usage sections ... OK
* checking Rd contents ... OK
* checking for unstated dependencies in examples ... OK
* checking line endings in shell scripts ... OK
* checking line endings in C/C++/Fortran sources/headers ... OK
* checking line endings in Makefiles ... OK
* checking compilation flags in Makevars ... OK
* checking for GNU extensions in Makefiles ... NOTE
GNU make is a SystemRequirements.
* checking for portable use of $(BLAS_LIBS) and $(LAPACK_LIBS) ... OK
* checking use of PKG_*FLAGS in Makefiles ... OK
* checking compiled code ... NOTE
Note: information on .o files for x64 is not available
File 'D:/biocbuild/bbs-3.15-bioc/R/library/cytolib/libs/x64/cytolib.dll':
  Found 'abort', possibly from 'abort' (C), 'runtime' (Fortran)
  Found 'exit', possibly from 'exit' (C), 'stop' (Fortran)
  Found 'printf', possibly from 'printf' (C)
  Found 'rand', possibly from 'rand' (C)
  Found 'srand', possibly from 'srand' (C)

Compiled code should not call entry points which might terminate R nor
write to stdout/stderr instead of to the console, nor use Fortran I/O
nor system RNGs. The detected symbols are linked into the code but
might come from libraries and not actually be called.

See 'Writing portable packages' in the 'Writing R Extensions' manual.
* checking files in 'vignettes' ... OK
* checking examples ... NONE
* checking for unstated dependencies in vignettes ... OK
* checking package vignettes in 'inst/doc' ... OK
* checking running R code from vignettes ... SKIPPED
* checking re-building of vignette outputs ... SKIPPED
* checking PDF version of manual ... OK
* DONE

Status: 4 NOTEs
See
  'D:/biocbuild/bbs-3.15-bioc/meat/cytolib.Rcheck/00check.log'
for details.



Installation output

cytolib.Rcheck/00install.out

##############################################################################
##############################################################################
###
### Running command:
###
###   D:\biocbuild\bbs-3.15-bioc\R\bin\R.exe CMD INSTALL cytolib
###
##############################################################################
##############################################################################


* installing to library 'D:/biocbuild/bbs-3.15-bioc/R/library'
* installing *source* package 'cytolib' ...
** using staged installation
** preparing to configure package 'cytolib' ...
*** configured file: 'cytolibConfig.h.in' => 'inst/include/cytolib/cytolibConfig.h'
*** configured file: 'src/Makevars.in' => 'src/Makevars'
** finished configure for package 'cytolib'
** libs
"C:/rtools40/mingw64/bin/"g++  -std=gnu++11 -I"D:/biocbuild/bbs-3.15-bioc/R/include" -DNDEBUG -DROUT -I../inst/include -DRCPP_PARALLEL_USE_TBB=1 -fpermissive -DBOOST_NO_AUTO_PTR  -DBOOST_FILESYSTEM_NO_CXX20_ATOMIC_REF -DBOOST_FILESYSTEM_SINGLE_THREADED -I'D:/biocbuild/bbs-3.15-bioc/R/library/Rcpp/include' -I'D:/biocbuild/bbs-3.15-bioc/R/library/BH/include' -I'D:/biocbuild/bbs-3.15-bioc/R/library/RProtoBufLib/include' -I'D:/biocbuild/bbs-3.15-bioc/R/library/Rhdf5lib/include' -I'D:/biocbuild/bbs-3.15-bioc/R/library/RcppArmadillo/include' -I'D:/biocbuild/bbs-3.15-bioc/R/library/RcppParallel/include'   -I"C:/extsoft/include"     -O2 -Wall  -mfpmath=sse -msse2 -mstackrealign -fno-reorder-blocks-and-partition  -c boost/libs/system/src/error_code.cpp -o boost/libs/system/src/error_code.o
"C:/rtools40/mingw64/bin/"g++  -std=gnu++11 -I"D:/biocbuild/bbs-3.15-bioc/R/include" -DNDEBUG -DROUT -I../inst/include -DRCPP_PARALLEL_USE_TBB=1 -fpermissive -DBOOST_NO_AUTO_PTR  -DBOOST_FILESYSTEM_NO_CXX20_ATOMIC_REF -DBOOST_FILESYSTEM_SINGLE_THREADED -I'D:/biocbuild/bbs-3.15-bioc/R/library/Rcpp/include' -I'D:/biocbuild/bbs-3.15-bioc/R/library/BH/include' -I'D:/biocbuild/bbs-3.15-bioc/R/library/RProtoBufLib/include' -I'D:/biocbuild/bbs-3.15-bioc/R/library/Rhdf5lib/include' -I'D:/biocbuild/bbs-3.15-bioc/R/library/RcppArmadillo/include' -I'D:/biocbuild/bbs-3.15-bioc/R/library/RcppParallel/include'   -I"C:/extsoft/include"     -O2 -Wall  -mfpmath=sse -msse2 -mstackrealign -fno-reorder-blocks-and-partition  -c boost/libs/filesystem/src/portability.cpp -o boost/libs/filesystem/src/portability.o
In file included from D:/biocbuild/bbs-3.15-bioc/R/library/BH/include/boost/mpl/aux_/na_assert.hpp:23,
                 from D:/biocbuild/bbs-3.15-bioc/R/library/BH/include/boost/mpl/arg.hpp:25,
                 from D:/biocbuild/bbs-3.15-bioc/R/library/BH/include/boost/mpl/placeholders.hpp:24,
                 from D:/biocbuild/bbs-3.15-bioc/R/library/BH/include/boost/iterator/iterator_categories.hpp:16,
                 from D:/biocbuild/bbs-3.15-bioc/R/library/BH/include/boost/iterator/iterator_facade.hpp:13,
                 from D:/biocbuild/bbs-3.15-bioc/R/library/BH/include/boost/filesystem/path.hpp:22,
                 from boost/libs/filesystem/src/portability.cpp:15:
D:/biocbuild/bbs-3.15-bioc/R/library/BH/include/boost/mpl/assert.hpp:194:21: warning: unnecessary parentheses in declaration of 'assert_arg' [-Wparentheses]
 failed ************ (Pred::************
                     ^
D:/biocbuild/bbs-3.15-bioc/R/library/BH/include/boost/mpl/assert.hpp:199:21: warning: unnecessary parentheses in declaration of 'assert_not_arg' [-Wparentheses]
 failed ************ (boost::mpl::not_<Pred>::************
                     ^
"C:/rtools40/mingw64/bin/"g++  -std=gnu++11 -I"D:/biocbuild/bbs-3.15-bioc/R/include" -DNDEBUG -DROUT -I../inst/include -DRCPP_PARALLEL_USE_TBB=1 -fpermissive -DBOOST_NO_AUTO_PTR  -DBOOST_FILESYSTEM_NO_CXX20_ATOMIC_REF -DBOOST_FILESYSTEM_SINGLE_THREADED -I'D:/biocbuild/bbs-3.15-bioc/R/library/Rcpp/include' -I'D:/biocbuild/bbs-3.15-bioc/R/library/BH/include' -I'D:/biocbuild/bbs-3.15-bioc/R/library/RProtoBufLib/include' -I'D:/biocbuild/bbs-3.15-bioc/R/library/Rhdf5lib/include' -I'D:/biocbuild/bbs-3.15-bioc/R/library/RcppArmadillo/include' -I'D:/biocbuild/bbs-3.15-bioc/R/library/RcppParallel/include'   -I"C:/extsoft/include"     -O2 -Wall  -mfpmath=sse -msse2 -mstackrealign -fno-reorder-blocks-and-partition  -c boost/libs/filesystem/src/unique_path.cpp -o boost/libs/filesystem/src/unique_path.o
In file included from D:/biocbuild/bbs-3.15-bioc/R/library/BH/include/boost/mpl/aux_/na_assert.hpp:23,
                 from D:/biocbuild/bbs-3.15-bioc/R/library/BH/include/boost/mpl/arg.hpp:25,
                 from D:/biocbuild/bbs-3.15-bioc/R/library/BH/include/boost/mpl/placeholders.hpp:24,
                 from D:/biocbuild/bbs-3.15-bioc/R/library/BH/include/boost/iterator/iterator_categories.hpp:16,
                 from D:/biocbuild/bbs-3.15-bioc/R/library/BH/include/boost/iterator/iterator_facade.hpp:13,
                 from D:/biocbuild/bbs-3.15-bioc/R/library/BH/include/boost/filesystem/path.hpp:22,
                 from D:/biocbuild/bbs-3.15-bioc/R/library/BH/include/boost/filesystem/operations.hpp:20,
                 from boost/libs/filesystem/src/unique_path.cpp:93:
D:/biocbuild/bbs-3.15-bioc/R/library/BH/include/boost/mpl/assert.hpp:194:21: warning: unnecessary parentheses in declaration of 'assert_arg' [-Wparentheses]
 failed ************ (Pred::************
                     ^
D:/biocbuild/bbs-3.15-bioc/R/library/BH/include/boost/mpl/assert.hpp:199:21: warning: unnecessary parentheses in declaration of 'assert_not_arg' [-Wparentheses]
 failed ************ (boost::mpl::not_<Pred>::************
                     ^
"C:/rtools40/mingw64/bin/"g++  -std=gnu++11 -I"D:/biocbuild/bbs-3.15-bioc/R/include" -DNDEBUG -DROUT -I../inst/include -DRCPP_PARALLEL_USE_TBB=1 -fpermissive -DBOOST_NO_AUTO_PTR  -DBOOST_FILESYSTEM_NO_CXX20_ATOMIC_REF -DBOOST_FILESYSTEM_SINGLE_THREADED -I'D:/biocbuild/bbs-3.15-bioc/R/library/Rcpp/include' -I'D:/biocbuild/bbs-3.15-bioc/R/library/BH/include' -I'D:/biocbuild/bbs-3.15-bioc/R/library/RProtoBufLib/include' -I'D:/biocbuild/bbs-3.15-bioc/R/library/Rhdf5lib/include' -I'D:/biocbuild/bbs-3.15-bioc/R/library/RcppArmadillo/include' -I'D:/biocbuild/bbs-3.15-bioc/R/library/RcppParallel/include'   -I"C:/extsoft/include"     -O2 -Wall  -mfpmath=sse -msse2 -mstackrealign -fno-reorder-blocks-and-partition  -c boost/libs/filesystem/src/operations.cpp -o boost/libs/filesystem/src/operations.o
In file included from D:/biocbuild/bbs-3.15-bioc/R/library/BH/include/boost/mpl/aux_/na_assert.hpp:23,
                 from D:/biocbuild/bbs-3.15-bioc/R/library/BH/include/boost/mpl/arg.hpp:25,
                 from D:/biocbuild/bbs-3.15-bioc/R/library/BH/include/boost/mpl/placeholders.hpp:24,
                 from D:/biocbuild/bbs-3.15-bioc/R/library/BH/include/boost/iterator/iterator_categories.hpp:16,
                 from D:/biocbuild/bbs-3.15-bioc/R/library/BH/include/boost/iterator/iterator_facade.hpp:13,
                 from D:/biocbuild/bbs-3.15-bioc/R/library/BH/include/boost/filesystem/path.hpp:22,
                 from D:/biocbuild/bbs-3.15-bioc/R/library/BH/include/boost/filesystem/operations.hpp:20,
                 from boost/libs/filesystem/src/operations.cpp:18:
D:/biocbuild/bbs-3.15-bioc/R/library/BH/include/boost/mpl/assert.hpp:194:21: warning: unnecessary parentheses in declaration of 'assert_arg' [-Wparentheses]
 failed ************ (Pred::************
                     ^
D:/biocbuild/bbs-3.15-bioc/R/library/BH/include/boost/mpl/assert.hpp:199:21: warning: unnecessary parentheses in declaration of 'assert_not_arg' [-Wparentheses]
 failed ************ (boost::mpl::not_<Pred>::************
                     ^
"C:/rtools40/mingw64/bin/"g++  -std=gnu++11 -I"D:/biocbuild/bbs-3.15-bioc/R/include" -DNDEBUG -DROUT -I../inst/include -DRCPP_PARALLEL_USE_TBB=1 -fpermissive -DBOOST_NO_AUTO_PTR  -DBOOST_FILESYSTEM_NO_CXX20_ATOMIC_REF -DBOOST_FILESYSTEM_SINGLE_THREADED -I'D:/biocbuild/bbs-3.15-bioc/R/library/Rcpp/include' -I'D:/biocbuild/bbs-3.15-bioc/R/library/BH/include' -I'D:/biocbuild/bbs-3.15-bioc/R/library/RProtoBufLib/include' -I'D:/biocbuild/bbs-3.15-bioc/R/library/Rhdf5lib/include' -I'D:/biocbuild/bbs-3.15-bioc/R/library/RcppArmadillo/include' -I'D:/biocbuild/bbs-3.15-bioc/R/library/RcppParallel/include'   -I"C:/extsoft/include"     -O2 -Wall  -mfpmath=sse -msse2 -mstackrealign -fno-reorder-blocks-and-partition  -c boost/libs/filesystem/src/path.cpp -o boost/libs/filesystem/src/path.o
In file included from D:/biocbuild/bbs-3.15-bioc/R/library/BH/include/boost/mpl/aux_/na_assert.hpp:23,
                 from D:/biocbuild/bbs-3.15-bioc/R/library/BH/include/boost/mpl/arg.hpp:25,
                 from D:/biocbuild/bbs-3.15-bioc/R/library/BH/include/boost/mpl/placeholders.hpp:24,
                 from D:/biocbuild/bbs-3.15-bioc/R/library/BH/include/boost/iterator/iterator_categories.hpp:16,
                 from D:/biocbuild/bbs-3.15-bioc/R/library/BH/include/boost/iterator/iterator_facade.hpp:13,
                 from D:/biocbuild/bbs-3.15-bioc/R/library/BH/include/boost/filesystem/path.hpp:22,
                 from boost/libs/filesystem/src/path.cpp:14:
D:/biocbuild/bbs-3.15-bioc/R/library/BH/include/boost/mpl/assert.hpp:194:21: warning: unnecessary parentheses in declaration of 'assert_arg' [-Wparentheses]
 failed ************ (Pred::************
                     ^
D:/biocbuild/bbs-3.15-bioc/R/library/BH/include/boost/mpl/assert.hpp:199:21: warning: unnecessary parentheses in declaration of 'assert_not_arg' [-Wparentheses]
 failed ************ (boost::mpl::not_<Pred>::************
                     ^
"C:/rtools40/mingw64/bin/"g++  -std=gnu++11 -I"D:/biocbuild/bbs-3.15-bioc/R/include" -DNDEBUG -DROUT -I../inst/include -DRCPP_PARALLEL_USE_TBB=1 -fpermissive -DBOOST_NO_AUTO_PTR  -DBOOST_FILESYSTEM_NO_CXX20_ATOMIC_REF -DBOOST_FILESYSTEM_SINGLE_THREADED -I'D:/biocbuild/bbs-3.15-bioc/R/library/Rcpp/include' -I'D:/biocbuild/bbs-3.15-bioc/R/library/BH/include' -I'D:/biocbuild/bbs-3.15-bioc/R/library/RProtoBufLib/include' -I'D:/biocbuild/bbs-3.15-bioc/R/library/Rhdf5lib/include' -I'D:/biocbuild/bbs-3.15-bioc/R/library/RcppArmadillo/include' -I'D:/biocbuild/bbs-3.15-bioc/R/library/RcppParallel/include'   -I"C:/extsoft/include"     -O2 -Wall  -mfpmath=sse -msse2 -mstackrealign -fno-reorder-blocks-and-partition  -c boost/libs/filesystem/src/directory.cpp -o boost/libs/filesystem/src/directory.o
In file included from D:/biocbuild/bbs-3.15-bioc/R/library/BH/include/boost/mpl/aux_/na_assert.hpp:23,
                 from D:/biocbuild/bbs-3.15-bioc/R/library/BH/include/boost/mpl/arg.hpp:25,
                 from D:/biocbuild/bbs-3.15-bioc/R/library/BH/include/boost/mpl/placeholders.hpp:24,
                 from D:/biocbuild/bbs-3.15-bioc/R/library/BH/include/boost/iterator/iterator_categories.hpp:16,
                 from D:/biocbuild/bbs-3.15-bioc/R/library/BH/include/boost/iterator/iterator_facade.hpp:13,
                 from D:/biocbuild/bbs-3.15-bioc/R/library/BH/include/boost/filesystem/path.hpp:22,
                 from D:/biocbuild/bbs-3.15-bioc/R/library/BH/include/boost/filesystem/directory.hpp:20,
                 from boost/libs/filesystem/src/directory.cpp:17:
D:/biocbuild/bbs-3.15-bioc/R/library/BH/include/boost/mpl/assert.hpp:194:21: warning: unnecessary parentheses in declaration of 'assert_arg' [-Wparentheses]
 failed ************ (Pred::************
                     ^
D:/biocbuild/bbs-3.15-bioc/R/library/BH/include/boost/mpl/assert.hpp:199:21: warning: unnecessary parentheses in declaration of 'assert_not_arg' [-Wparentheses]
 failed ************ (boost::mpl::not_<Pred>::************
                     ^
"C:/rtools40/mingw64/bin/"g++  -std=gnu++11 -I"D:/biocbuild/bbs-3.15-bioc/R/include" -DNDEBUG -DROUT -I../inst/include -DRCPP_PARALLEL_USE_TBB=1 -fpermissive -DBOOST_NO_AUTO_PTR  -DBOOST_FILESYSTEM_NO_CXX20_ATOMIC_REF -DBOOST_FILESYSTEM_SINGLE_THREADED -I'D:/biocbuild/bbs-3.15-bioc/R/library/Rcpp/include' -I'D:/biocbuild/bbs-3.15-bioc/R/library/BH/include' -I'D:/biocbuild/bbs-3.15-bioc/R/library/RProtoBufLib/include' -I'D:/biocbuild/bbs-3.15-bioc/R/library/Rhdf5lib/include' -I'D:/biocbuild/bbs-3.15-bioc/R/library/RcppArmadillo/include' -I'D:/biocbuild/bbs-3.15-bioc/R/library/RcppParallel/include'   -I"C:/extsoft/include"     -O2 -Wall  -mfpmath=sse -msse2 -mstackrealign -fno-reorder-blocks-and-partition  -c boost/libs/filesystem/src/exception.cpp -o boost/libs/filesystem/src/exception.o
In file included from D:/biocbuild/bbs-3.15-bioc/R/library/BH/include/boost/mpl/aux_/na_assert.hpp:23,
                 from D:/biocbuild/bbs-3.15-bioc/R/library/BH/include/boost/mpl/arg.hpp:25,
                 from D:/biocbuild/bbs-3.15-bioc/R/library/BH/include/boost/mpl/placeholders.hpp:24,
                 from D:/biocbuild/bbs-3.15-bioc/R/library/BH/include/boost/iterator/iterator_categories.hpp:16,
                 from D:/biocbuild/bbs-3.15-bioc/R/library/BH/include/boost/iterator/iterator_facade.hpp:13,
                 from D:/biocbuild/bbs-3.15-bioc/R/library/BH/include/boost/filesystem/path.hpp:22,
                 from boost/libs/filesystem/src/exception.cpp:17:
D:/biocbuild/bbs-3.15-bioc/R/library/BH/include/boost/mpl/assert.hpp:194:21: warning: unnecessary parentheses in declaration of 'assert_arg' [-Wparentheses]
 failed ************ (Pred::************
                     ^
D:/biocbuild/bbs-3.15-bioc/R/library/BH/include/boost/mpl/assert.hpp:199:21: warning: unnecessary parentheses in declaration of 'assert_not_arg' [-Wparentheses]
 failed ************ (boost::mpl::not_<Pred>::************
                     ^
"C:/rtools40/mingw64/bin/"g++  -std=gnu++11 -I"D:/biocbuild/bbs-3.15-bioc/R/include" -DNDEBUG -DROUT -I../inst/include -DRCPP_PARALLEL_USE_TBB=1 -fpermissive -DBOOST_NO_AUTO_PTR  -DBOOST_FILESYSTEM_NO_CXX20_ATOMIC_REF -DBOOST_FILESYSTEM_SINGLE_THREADED -I'D:/biocbuild/bbs-3.15-bioc/R/library/Rcpp/include' -I'D:/biocbuild/bbs-3.15-bioc/R/library/BH/include' -I'D:/biocbuild/bbs-3.15-bioc/R/library/RProtoBufLib/include' -I'D:/biocbuild/bbs-3.15-bioc/R/library/Rhdf5lib/include' -I'D:/biocbuild/bbs-3.15-bioc/R/library/RcppArmadillo/include' -I'D:/biocbuild/bbs-3.15-bioc/R/library/RcppParallel/include'   -I"C:/extsoft/include"     -O2 -Wall  -mfpmath=sse -msse2 -mstackrealign -fno-reorder-blocks-and-partition  -c boost/libs/filesystem/src/windows_file_codecvt.cpp -o boost/libs/filesystem/src/windows_file_codecvt.o
"C:/rtools40/mingw64/bin/"g++  -std=gnu++11 -I"D:/biocbuild/bbs-3.15-bioc/R/include" -DNDEBUG -DROUT -I../inst/include -DRCPP_PARALLEL_USE_TBB=1 -fpermissive -DBOOST_NO_AUTO_PTR  -DBOOST_FILESYSTEM_NO_CXX20_ATOMIC_REF -DBOOST_FILESYSTEM_SINGLE_THREADED -I'D:/biocbuild/bbs-3.15-bioc/R/library/Rcpp/include' -I'D:/biocbuild/bbs-3.15-bioc/R/library/BH/include' -I'D:/biocbuild/bbs-3.15-bioc/R/library/RProtoBufLib/include' -I'D:/biocbuild/bbs-3.15-bioc/R/library/Rhdf5lib/include' -I'D:/biocbuild/bbs-3.15-bioc/R/library/RcppArmadillo/include' -I'D:/biocbuild/bbs-3.15-bioc/R/library/RcppParallel/include'   -I"C:/extsoft/include"     -O2 -Wall  -mfpmath=sse -msse2 -mstackrealign -fno-reorder-blocks-and-partition  -c boost/libs/filesystem/src/utf8_codecvt_facet.cpp -o boost/libs/filesystem/src/utf8_codecvt_facet.o
"C:/rtools40/mingw64/bin/"g++  -std=gnu++11 -I"D:/biocbuild/bbs-3.15-bioc/R/include" -DNDEBUG -DROUT -I../inst/include -DRCPP_PARALLEL_USE_TBB=1 -fpermissive -DBOOST_NO_AUTO_PTR  -DBOOST_FILESYSTEM_NO_CXX20_ATOMIC_REF -DBOOST_FILESYSTEM_SINGLE_THREADED -I'D:/biocbuild/bbs-3.15-bioc/R/library/Rcpp/include' -I'D:/biocbuild/bbs-3.15-bioc/R/library/BH/include' -I'D:/biocbuild/bbs-3.15-bioc/R/library/RProtoBufLib/include' -I'D:/biocbuild/bbs-3.15-bioc/R/library/Rhdf5lib/include' -I'D:/biocbuild/bbs-3.15-bioc/R/library/RcppArmadillo/include' -I'D:/biocbuild/bbs-3.15-bioc/R/library/RcppParallel/include'   -I"C:/extsoft/include"     -O2 -Wall  -mfpmath=sse -msse2 -mstackrealign -fno-reorder-blocks-and-partition  -c boost/libs/filesystem/src/codecvt_error_category.cpp -o boost/libs/filesystem/src/codecvt_error_category.o
"C:/rtools40/mingw64/bin/"g++  -std=gnu++11 -I"D:/biocbuild/bbs-3.15-bioc/R/include" -DNDEBUG -DROUT -I../inst/include -DRCPP_PARALLEL_USE_TBB=1 -fpermissive -DBOOST_NO_AUTO_PTR  -DBOOST_FILESYSTEM_NO_CXX20_ATOMIC_REF -DBOOST_FILESYSTEM_SINGLE_THREADED -I'D:/biocbuild/bbs-3.15-bioc/R/library/Rcpp/include' -I'D:/biocbuild/bbs-3.15-bioc/R/library/BH/include' -I'D:/biocbuild/bbs-3.15-bioc/R/library/RProtoBufLib/include' -I'D:/biocbuild/bbs-3.15-bioc/R/library/Rhdf5lib/include' -I'D:/biocbuild/bbs-3.15-bioc/R/library/RcppArmadillo/include' -I'D:/biocbuild/bbs-3.15-bioc/R/library/RcppParallel/include'   -I"C:/extsoft/include"     -O2 -Wall  -mfpmath=sse -msse2 -mstackrealign -fno-reorder-blocks-and-partition  -c boost/libs/filesystem/src/path_traits.cpp -o boost/libs/filesystem/src/path_traits.o
"C:/rtools40/mingw64/bin/"g++  -std=gnu++11 -I"D:/biocbuild/bbs-3.15-bioc/R/include" -DNDEBUG -DROUT -I../inst/include -DRCPP_PARALLEL_USE_TBB=1 -fpermissive -DBOOST_NO_AUTO_PTR  -DBOOST_FILESYSTEM_NO_CXX20_ATOMIC_REF -DBOOST_FILESYSTEM_SINGLE_THREADED -I'D:/biocbuild/bbs-3.15-bioc/R/library/Rcpp/include' -I'D:/biocbuild/bbs-3.15-bioc/R/library/BH/include' -I'D:/biocbuild/bbs-3.15-bioc/R/library/RProtoBufLib/include' -I'D:/biocbuild/bbs-3.15-bioc/R/library/Rhdf5lib/include' -I'D:/biocbuild/bbs-3.15-bioc/R/library/RcppArmadillo/include' -I'D:/biocbuild/bbs-3.15-bioc/R/library/RcppParallel/include'   -I"C:/extsoft/include"     -O2 -Wall  -mfpmath=sse -msse2 -mstackrealign -fno-reorder-blocks-and-partition  -c CytoFrame.cpp -o CytoFrame.o
In file included from D:/biocbuild/bbs-3.15-bioc/R/library/BH/include/boost/mpl/aux_/na_assert.hpp:23,
                 from D:/biocbuild/bbs-3.15-bioc/R/library/BH/include/boost/mpl/arg.hpp:25,
                 from D:/biocbuild/bbs-3.15-bioc/R/library/BH/include/boost/mpl/placeholders.hpp:24,
                 from D:/biocbuild/bbs-3.15-bioc/R/library/BH/include/boost/iterator/iterator_categories.hpp:16,
                 from D:/biocbuild/bbs-3.15-bioc/R/library/BH/include/boost/iterator/iterator_facade.hpp:13,
                 from D:/biocbuild/bbs-3.15-bioc/R/library/BH/include/boost/range/iterator_range_core.hpp:27,
                 from D:/biocbuild/bbs-3.15-bioc/R/library/BH/include/boost/range/iterator_range.hpp:13,
                 from D:/biocbuild/bbs-3.15-bioc/R/library/BH/include/boost/range/as_literal.hpp:18,
                 from D:/biocbuild/bbs-3.15-bioc/R/library/BH/include/boost/algorithm/string/trim.hpp:19,
                 from D:/biocbuild/bbs-3.15-bioc/R/library/BH/include/boost/algorithm/string.hpp:19,
                 from ../inst/include/cytolib/transformation.hpp:18,
                 from ../inst/include/cytolib/compensation.hpp:15,
                 from ../inst/include/cytolib/CytoFrame.hpp:16,
                 from CytoFrame.cpp:3:
D:/biocbuild/bbs-3.15-bioc/R/library/BH/include/boost/mpl/assert.hpp:194:21: warning: unnecessary parentheses in declaration of 'assert_arg' [-Wparentheses]
 failed ************ (Pred::************
                     ^
D:/biocbuild/bbs-3.15-bioc/R/library/BH/include/boost/mpl/assert.hpp:199:21: warning: unnecessary parentheses in declaration of 'assert_not_arg' [-Wparentheses]
 failed ************ (boost::mpl::not_<Pred>::************
                     ^
In file included from ../inst/include/cytolib/CytoFrame.hpp:16,
                 from CytoFrame.cpp:3:
../inst/include/cytolib/compensation.hpp: In constructor 'cytolib::compensation::compensation(const string&)':
../inst/include/cytolib/compensation.hpp:58:20: warning: comparison of integer expressions of different signedness: 'std::vector<std::__cxx11::basic_string<char>, std::allocator<std::__cxx11::basic_string<char> > >::size_type' {aka 'long long unsigned int'} and 'int' [-Wsign-compare]
   if(valVec.size() != 1+n+n*n){
      ~~~~~~~~~~~~~~^~~~~~~~~~
../inst/include/cytolib/compensation.hpp:62:21: warning: comparison of integer expressions of different signedness: 'std::vector<std::__cxx11::basic_string<char>, std::allocator<std::__cxx11::basic_string<char> > >::size_type' {aka 'long long unsigned int'} and 'int' [-Wsign-compare]
    if(valVec.size() == 1+n+2*n*n){
       ~~~~~~~~~~~~~~^~~~~~~~~~~~
../inst/include/cytolib/compensation.hpp:68:33: warning: comparison of integer expressions of different signedness: 'int' and 'std::vector<std::__cxx11::basic_string<char>, std::allocator<std::__cxx11::basic_string<char> > >::size_type' {aka 'long long unsigned int'} [-Wsign-compare]
     for(int i = 1+n, j = 1+n; i < valVec_fixed.size(); i++, j+=2)
                               ~~^~~~~~~~~~~~~~~~~~~~~
"C:/rtools40/mingw64/bin/"g++  -std=gnu++11 -I"D:/biocbuild/bbs-3.15-bioc/R/include" -DNDEBUG -DROUT -I../inst/include -DRCPP_PARALLEL_USE_TBB=1 -fpermissive -DBOOST_NO_AUTO_PTR  -DBOOST_FILESYSTEM_NO_CXX20_ATOMIC_REF -DBOOST_FILESYSTEM_SINGLE_THREADED -I'D:/biocbuild/bbs-3.15-bioc/R/library/Rcpp/include' -I'D:/biocbuild/bbs-3.15-bioc/R/library/BH/include' -I'D:/biocbuild/bbs-3.15-bioc/R/library/RProtoBufLib/include' -I'D:/biocbuild/bbs-3.15-bioc/R/library/Rhdf5lib/include' -I'D:/biocbuild/bbs-3.15-bioc/R/library/RcppArmadillo/include' -I'D:/biocbuild/bbs-3.15-bioc/R/library/RcppParallel/include'   -I"C:/extsoft/include"     -O2 -Wall  -mfpmath=sse -msse2 -mstackrealign -fno-reorder-blocks-and-partition  -c CytoFrameView.cpp -o CytoFrameView.o
In file included from D:/biocbuild/bbs-3.15-bioc/R/library/BH/include/boost/mpl/aux_/na_assert.hpp:23,
                 from D:/biocbuild/bbs-3.15-bioc/R/library/BH/include/boost/mpl/arg.hpp:25,
                 from D:/biocbuild/bbs-3.15-bioc/R/library/BH/include/boost/mpl/placeholders.hpp:24,
                 from D:/biocbuild/bbs-3.15-bioc/R/library/BH/include/boost/iterator/iterator_categories.hpp:16,
                 from D:/biocbuild/bbs-3.15-bioc/R/library/BH/include/boost/iterator/iterator_facade.hpp:13,
                 from D:/biocbuild/bbs-3.15-bioc/R/library/BH/include/boost/range/iterator_range_core.hpp:27,
                 from D:/biocbuild/bbs-3.15-bioc/R/library/BH/include/boost/range/iterator_range.hpp:13,
                 from D:/biocbuild/bbs-3.15-bioc/R/library/BH/include/boost/range/as_literal.hpp:18,
                 from D:/biocbuild/bbs-3.15-bioc/R/library/BH/include/boost/algorithm/string/trim.hpp:19,
                 from D:/biocbuild/bbs-3.15-bioc/R/library/BH/include/boost/algorithm/string.hpp:19,
                 from ../inst/include/cytolib/transformation.hpp:18,
                 from ../inst/include/cytolib/compensation.hpp:15,
                 from ../inst/include/cytolib/CytoFrame.hpp:16,
                 from ../inst/include/cytolib/MemCytoFrame.hpp:12,
                 from ../inst/include/cytolib/CytoFrameView.hpp:12,
                 from CytoFrameView.cpp:3:
D:/biocbuild/bbs-3.15-bioc/R/library/BH/include/boost/mpl/assert.hpp:194:21: warning: unnecessary parentheses in declaration of 'assert_arg' [-Wparentheses]
 failed ************ (Pred::************
                     ^
D:/biocbuild/bbs-3.15-bioc/R/library/BH/include/boost/mpl/assert.hpp:199:21: warning: unnecessary parentheses in declaration of 'assert_not_arg' [-Wparentheses]
 failed ************ (boost::mpl::not_<Pred>::************
                     ^
In file included from ../inst/include/cytolib/CytoFrame.hpp:16,
                 from ../inst/include/cytolib/MemCytoFrame.hpp:12,
                 from ../inst/include/cytolib/CytoFrameView.hpp:12,
                 from CytoFrameView.cpp:3:
../inst/include/cytolib/compensation.hpp: In constructor 'cytolib::compensation::compensation(const string&)':
../inst/include/cytolib/compensation.hpp:58:20: warning: comparison of integer expressions of different signedness: 'std::vector<std::__cxx11::basic_string<char>, std::allocator<std::__cxx11::basic_string<char> > >::size_type' {aka 'long long unsigned int'} and 'int' [-Wsign-compare]
   if(valVec.size() != 1+n+n*n){
      ~~~~~~~~~~~~~~^~~~~~~~~~
../inst/include/cytolib/compensation.hpp:62:21: warning: comparison of integer expressions of different signedness: 'std::vector<std::__cxx11::basic_string<char>, std::allocator<std::__cxx11::basic_string<char> > >::size_type' {aka 'long long unsigned int'} and 'int' [-Wsign-compare]
    if(valVec.size() == 1+n+2*n*n){
       ~~~~~~~~~~~~~~^~~~~~~~~~~~
../inst/include/cytolib/compensation.hpp:68:33: warning: comparison of integer expressions of different signedness: 'int' and 'std::vector<std::__cxx11::basic_string<char>, std::allocator<std::__cxx11::basic_string<char> > >::size_type' {aka 'long long unsigned int'} [-Wsign-compare]
     for(int i = 1+n, j = 1+n; i < valVec_fixed.size(); i++, j+=2)
                               ~~^~~~~~~~~~~~~~~~~~~~~
"C:/rtools40/mingw64/bin/"g++  -std=gnu++11 -I"D:/biocbuild/bbs-3.15-bioc/R/include" -DNDEBUG -DROUT -I../inst/include -DRCPP_PARALLEL_USE_TBB=1 -fpermissive -DBOOST_NO_AUTO_PTR  -DBOOST_FILESYSTEM_NO_CXX20_ATOMIC_REF -DBOOST_FILESYSTEM_SINGLE_THREADED -I'D:/biocbuild/bbs-3.15-bioc/R/library/Rcpp/include' -I'D:/biocbuild/bbs-3.15-bioc/R/library/BH/include' -I'D:/biocbuild/bbs-3.15-bioc/R/library/RProtoBufLib/include' -I'D:/biocbuild/bbs-3.15-bioc/R/library/Rhdf5lib/include' -I'D:/biocbuild/bbs-3.15-bioc/R/library/RcppArmadillo/include' -I'D:/biocbuild/bbs-3.15-bioc/R/library/RcppParallel/include'   -I"C:/extsoft/include"     -O2 -Wall  -mfpmath=sse -msse2 -mstackrealign -fno-reorder-blocks-and-partition  -c CytoVFS.cpp -o CytoVFS.o
In file included from D:/biocbuild/bbs-3.15-bioc/R/library/BH/include/boost/mpl/aux_/na_assert.hpp:23,
                 from D:/biocbuild/bbs-3.15-bioc/R/library/BH/include/boost/mpl/arg.hpp:25,
                 from D:/biocbuild/bbs-3.15-bioc/R/library/BH/include/boost/mpl/placeholders.hpp:24,
                 from D:/biocbuild/bbs-3.15-bioc/R/library/BH/include/boost/iterator/iterator_categories.hpp:16,
                 from D:/biocbuild/bbs-3.15-bioc/R/library/BH/include/boost/iterator/iterator_facade.hpp:13,
                 from D:/biocbuild/bbs-3.15-bioc/R/library/BH/include/boost/filesystem/path.hpp:22,
                 from D:/biocbuild/bbs-3.15-bioc/R/library/BH/include/boost/filesystem.hpp:16,
                 from ../inst/include/cytolib/CytoVFS.hpp:17,
                 from CytoVFS.cpp:8:
D:/biocbuild/bbs-3.15-bioc/R/library/BH/include/boost/mpl/assert.hpp:194:21: warning: unnecessary parentheses in declaration of 'assert_arg' [-Wparentheses]
 failed ************ (Pred::************
                     ^
D:/biocbuild/bbs-3.15-bioc/R/library/BH/include/boost/mpl/assert.hpp:199:21: warning: unnecessary parentheses in declaration of 'assert_not_arg' [-Wparentheses]
 failed ************ (boost::mpl::not_<Pred>::************
                     ^
"C:/rtools40/mingw64/bin/"g++  -std=gnu++11 -I"D:/biocbuild/bbs-3.15-bioc/R/include" -DNDEBUG -DROUT -I../inst/include -DRCPP_PARALLEL_USE_TBB=1 -fpermissive -DBOOST_NO_AUTO_PTR  -DBOOST_FILESYSTEM_NO_CXX20_ATOMIC_REF -DBOOST_FILESYSTEM_SINGLE_THREADED -I'D:/biocbuild/bbs-3.15-bioc/R/library/Rcpp/include' -I'D:/biocbuild/bbs-3.15-bioc/R/library/BH/include' -I'D:/biocbuild/bbs-3.15-bioc/R/library/RProtoBufLib/include' -I'D:/biocbuild/bbs-3.15-bioc/R/library/Rhdf5lib/include' -I'D:/biocbuild/bbs-3.15-bioc/R/library/RcppArmadillo/include' -I'D:/biocbuild/bbs-3.15-bioc/R/library/RcppParallel/include'   -I"C:/extsoft/include"     -O2 -Wall  -mfpmath=sse -msse2 -mstackrealign -fno-reorder-blocks-and-partition  -c GatingHierarchy.cpp -o GatingHierarchy.o
In file included from D:/biocbuild/bbs-3.15-bioc/R/library/BH/include/boost/mpl/aux_/na_assert.hpp:23,
                 from D:/biocbuild/bbs-3.15-bioc/R/library/BH/include/boost/mpl/arg.hpp:25,
                 from D:/biocbuild/bbs-3.15-bioc/R/library/BH/include/boost/mpl/placeholders.hpp:24,
                 from D:/biocbuild/bbs-3.15-bioc/R/library/BH/include/boost/iterator/iterator_categories.hpp:16,
                 from D:/biocbuild/bbs-3.15-bioc/R/library/BH/include/boost/iterator/iterator_facade.hpp:13,
                 from D:/biocbuild/bbs-3.15-bioc/R/library/BH/include/boost/range/iterator_range_core.hpp:27,
                 from D:/biocbuild/bbs-3.15-bioc/R/library/BH/include/boost/range/iterator_range.hpp:13,
                 from D:/biocbuild/bbs-3.15-bioc/R/library/BH/include/boost/range/as_literal.hpp:18,
                 from D:/biocbuild/bbs-3.15-bioc/R/library/BH/include/boost/algorithm/string/trim.hpp:19,
                 from D:/biocbuild/bbs-3.15-bioc/R/library/BH/include/boost/algorithm/string.hpp:19,
                 from ../inst/include/cytolib/transformation.hpp:18,
                 from ../inst/include/cytolib/compensation.hpp:15,
                 from ../inst/include/cytolib/CytoFrame.hpp:16,
                 from ../inst/include/cytolib/MemCytoFrame.hpp:12,
                 from ../inst/include/cytolib/gate.hpp:12,
                 from ../inst/include/cytolib/POPINDICES.hpp:14,
                 from ../inst/include/cytolib/nodeProperties.hpp:13,
                 from ../inst/include/cytolib/populationTree.hpp:13,
                 from ../inst/include/cytolib/GatingHierarchy.hpp:17,
                 from GatingHierarchy.cpp:3:
D:/biocbuild/bbs-3.15-bioc/R/library/BH/include/boost/mpl/assert.hpp:194:21: warning: unnecessary parentheses in declaration of 'assert_arg' [-Wparentheses]
 failed ************ (Pred::************
                     ^
D:/biocbuild/bbs-3.15-bioc/R/library/BH/include/boost/mpl/assert.hpp:199:21: warning: unnecessary parentheses in declaration of 'assert_not_arg' [-Wparentheses]
 failed ************ (boost::mpl::not_<Pred>::************
                     ^
In file included from ../inst/include/cytolib/CytoFrame.hpp:16,
                 from ../inst/include/cytolib/MemCytoFrame.hpp:12,
                 from ../inst/include/cytolib/gate.hpp:12,
                 from ../inst/include/cytolib/POPINDICES.hpp:14,
                 from ../inst/include/cytolib/nodeProperties.hpp:13,
                 from ../inst/include/cytolib/populationTree.hpp:13,
                 from ../inst/include/cytolib/GatingHierarchy.hpp:17,
                 from GatingHierarchy.cpp:3:
../inst/include/cytolib/compensation.hpp: In constructor 'cytolib::compensation::compensation(const string&)':
../inst/include/cytolib/compensation.hpp:58:20: warning: comparison of integer expressions of different signedness: 'std::vector<std::__cxx11::basic_string<char>, std::allocator<std::__cxx11::basic_string<char> > >::size_type' {aka 'long long unsigned int'} and 'int' [-Wsign-compare]
   if(valVec.size() != 1+n+n*n){
      ~~~~~~~~~~~~~~^~~~~~~~~~
../inst/include/cytolib/compensation.hpp:62:21: warning: comparison of integer expressions of different signedness: 'std::vector<std::__cxx11::basic_string<char>, std::allocator<std::__cxx11::basic_string<char> > >::size_type' {aka 'long long unsigned int'} and 'int' [-Wsign-compare]
    if(valVec.size() == 1+n+2*n*n){
       ~~~~~~~~~~~~~~^~~~~~~~~~~~
../inst/include/cytolib/compensation.hpp:68:33: warning: comparison of integer expressions of different signedness: 'int' and 'std::vector<std::__cxx11::basic_string<char>, std::allocator<std::__cxx11::basic_string<char> > >::size_type' {aka 'long long unsigned int'} [-Wsign-compare]
     for(int i = 1+n, j = 1+n; i < valVec_fixed.size(); i++, j+=2)
                               ~~^~~~~~~~~~~~~~~~~~~~~
"C:/rtools40/mingw64/bin/"g++  -std=gnu++11 -I"D:/biocbuild/bbs-3.15-bioc/R/include" -DNDEBUG -DROUT -I../inst/include -DRCPP_PARALLEL_USE_TBB=1 -fpermissive -DBOOST_NO_AUTO_PTR  -DBOOST_FILESYSTEM_NO_CXX20_ATOMIC_REF -DBOOST_FILESYSTEM_SINGLE_THREADED -I'D:/biocbuild/bbs-3.15-bioc/R/library/Rcpp/include' -I'D:/biocbuild/bbs-3.15-bioc/R/library/BH/include' -I'D:/biocbuild/bbs-3.15-bioc/R/library/RProtoBufLib/include' -I'D:/biocbuild/bbs-3.15-bioc/R/library/Rhdf5lib/include' -I'D:/biocbuild/bbs-3.15-bioc/R/library/RcppArmadillo/include' -I'D:/biocbuild/bbs-3.15-bioc/R/library/RcppParallel/include'   -I"C:/extsoft/include"     -O2 -Wall  -mfpmath=sse -msse2 -mstackrealign -fno-reorder-blocks-and-partition  -c GatingSet.cpp -o GatingSet.o
In file included from D:/biocbuild/bbs-3.15-bioc/R/library/BH/include/boost/mpl/aux_/na_assert.hpp:23,
                 from D:/biocbuild/bbs-3.15-bioc/R/library/BH/include/boost/mpl/arg.hpp:25,
                 from D:/biocbuild/bbs-3.15-bioc/R/library/BH/include/boost/mpl/placeholders.hpp:24,
                 from D:/biocbuild/bbs-3.15-bioc/R/library/BH/include/boost/iterator/iterator_categories.hpp:16,
                 from D:/biocbuild/bbs-3.15-bioc/R/library/BH/include/boost/iterator/iterator_facade.hpp:13,
                 from D:/biocbuild/bbs-3.15-bioc/R/library/BH/include/boost/range/iterator_range_core.hpp:27,
                 from D:/biocbuild/bbs-3.15-bioc/R/library/BH/include/boost/range/iterator_range.hpp:13,
                 from D:/biocbuild/bbs-3.15-bioc/R/library/BH/include/boost/range/as_literal.hpp:18,
                 from D:/biocbuild/bbs-3.15-bioc/R/library/BH/include/boost/algorithm/string/trim.hpp:19,
                 from D:/biocbuild/bbs-3.15-bioc/R/library/BH/include/boost/algorithm/string.hpp:19,
                 from ../inst/include/cytolib/transformation.hpp:18,
                 from ../inst/include/cytolib/compensation.hpp:15,
                 from ../inst/include/cytolib/CytoFrame.hpp:16,
                 from ../inst/include/cytolib/MemCytoFrame.hpp:12,
                 from ../inst/include/cytolib/gate.hpp:12,
                 from ../inst/include/cytolib/POPINDICES.hpp:14,
                 from ../inst/include/cytolib/nodeProperties.hpp:13,
                 from ../inst/include/cytolib/populationTree.hpp:13,
                 from ../inst/include/cytolib/GatingHierarchy.hpp:17,
                 from ../inst/include/cytolib/GatingSet.hpp:14,
                 from GatingSet.cpp:3:
D:/biocbuild/bbs-3.15-bioc/R/library/BH/include/boost/mpl/assert.hpp:194:21: warning: unnecessary parentheses in declaration of 'assert_arg' [-Wparentheses]
 failed ************ (Pred::************
                     ^
D:/biocbuild/bbs-3.15-bioc/R/library/BH/include/boost/mpl/assert.hpp:199:21: warning: unnecessary parentheses in declaration of 'assert_not_arg' [-Wparentheses]
 failed ************ (boost::mpl::not_<Pred>::************
                     ^
In file included from ../inst/include/cytolib/CytoFrame.hpp:16,
                 from ../inst/include/cytolib/MemCytoFrame.hpp:12,
                 from ../inst/include/cytolib/gate.hpp:12,
                 from ../inst/include/cytolib/POPINDICES.hpp:14,
                 from ../inst/include/cytolib/nodeProperties.hpp:13,
                 from ../inst/include/cytolib/populationTree.hpp:13,
                 from ../inst/include/cytolib/GatingHierarchy.hpp:17,
                 from ../inst/include/cytolib/GatingSet.hpp:14,
                 from GatingSet.cpp:3:
../inst/include/cytolib/compensation.hpp: In constructor 'cytolib::compensation::compensation(const string&)':
../inst/include/cytolib/compensation.hpp:58:20: warning: comparison of integer expressions of different signedness: 'std::vector<std::__cxx11::basic_string<char>, std::allocator<std::__cxx11::basic_string<char> > >::size_type' {aka 'long long unsigned int'} and 'int' [-Wsign-compare]
   if(valVec.size() != 1+n+n*n){
      ~~~~~~~~~~~~~~^~~~~~~~~~
../inst/include/cytolib/compensation.hpp:62:21: warning: comparison of integer expressions of different signedness: 'std::vector<std::__cxx11::basic_string<char>, std::allocator<std::__cxx11::basic_string<char> > >::size_type' {aka 'long long unsigned int'} and 'int' [-Wsign-compare]
    if(valVec.size() == 1+n+2*n*n){
       ~~~~~~~~~~~~~~^~~~~~~~~~~~
../inst/include/cytolib/compensation.hpp:68:33: warning: comparison of integer expressions of different signedness: 'int' and 'std::vector<std::__cxx11::basic_string<char>, std::allocator<std::__cxx11::basic_string<char> > >::size_type' {aka 'long long unsigned int'} [-Wsign-compare]
     for(int i = 1+n, j = 1+n; i < valVec_fixed.size(); i++, j+=2)
                               ~~^~~~~~~~~~~~~~~~~~~~~
In file included from ../inst/include/cytolib/compensation.hpp:19,
                 from ../inst/include/cytolib/CytoFrame.hpp:16,
                 from ../inst/include/cytolib/MemCytoFrame.hpp:12,
                 from ../inst/include/cytolib/gate.hpp:12,
                 from ../inst/include/cytolib/POPINDICES.hpp:14,
                 from ../inst/include/cytolib/nodeProperties.hpp:13,
                 from ../inst/include/cytolib/populationTree.hpp:13,
                 from ../inst/include/cytolib/GatingHierarchy.hpp:17,
                 from ../inst/include/cytolib/GatingSet.hpp:14,
                 from GatingSet.cpp:3:
../inst/include/cytolib/global.hpp: In constructor 'cytolib::GatingSet::GatingSet(std::__cxx11::string, bool, bool, std::vector<std::__cxx11::basic_string<char>, std::allocator<std::__cxx11::basic_string<char> > >, bool, cytolib::CytoCtx)':
../inst/include/cytolib/global.hpp:29:3: warning: 'fmt' may be used uninitialized in this function [-Wmaybe-uninitialized]
   switch(fmt)
   ^~~~~~
GatingSet.cpp:30:14: note: 'fmt' was declared here
   FileFormat fmt;
              ^~~
"C:/rtools40/mingw64/bin/"g++  -std=gnu++11 -I"D:/biocbuild/bbs-3.15-bioc/R/include" -DNDEBUG -DROUT -I../inst/include -DRCPP_PARALLEL_USE_TBB=1 -fpermissive -DBOOST_NO_AUTO_PTR  -DBOOST_FILESYSTEM_NO_CXX20_ATOMIC_REF -DBOOST_FILESYSTEM_SINGLE_THREADED -I'D:/biocbuild/bbs-3.15-bioc/R/library/Rcpp/include' -I'D:/biocbuild/bbs-3.15-bioc/R/library/BH/include' -I'D:/biocbuild/bbs-3.15-bioc/R/library/RProtoBufLib/include' -I'D:/biocbuild/bbs-3.15-bioc/R/library/Rhdf5lib/include' -I'D:/biocbuild/bbs-3.15-bioc/R/library/RcppArmadillo/include' -I'D:/biocbuild/bbs-3.15-bioc/R/library/RcppParallel/include'   -I"C:/extsoft/include"     -O2 -Wall  -mfpmath=sse -msse2 -mstackrealign -fno-reorder-blocks-and-partition  -c H5CytoFrame.cpp -o H5CytoFrame.o
In file included from D:/biocbuild/bbs-3.15-bioc/R/library/BH/include/boost/mpl/aux_/na_assert.hpp:23,
                 from D:/biocbuild/bbs-3.15-bioc/R/library/BH/include/boost/mpl/arg.hpp:25,
                 from D:/biocbuild/bbs-3.15-bioc/R/library/BH/include/boost/mpl/placeholders.hpp:24,
                 from D:/biocbuild/bbs-3.15-bioc/R/library/BH/include/boost/iterator/iterator_categories.hpp:16,
                 from D:/biocbuild/bbs-3.15-bioc/R/library/BH/include/boost/iterator/iterator_facade.hpp:13,
                 from D:/biocbuild/bbs-3.15-bioc/R/library/BH/include/boost/range/iterator_range_core.hpp:27,
                 from D:/biocbuild/bbs-3.15-bioc/R/library/BH/include/boost/range/iterator_range.hpp:13,
                 from D:/biocbuild/bbs-3.15-bioc/R/library/BH/include/boost/range/as_literal.hpp:18,
                 from D:/biocbuild/bbs-3.15-bioc/R/library/BH/include/boost/algorithm/string/trim.hpp:19,
                 from D:/biocbuild/bbs-3.15-bioc/R/library/BH/include/boost/algorithm/string.hpp:19,
                 from ../inst/include/cytolib/transformation.hpp:18,
                 from ../inst/include/cytolib/compensation.hpp:15,
                 from ../inst/include/cytolib/CytoFrame.hpp:16,
                 from ../inst/include/cytolib/MemCytoFrame.hpp:12,
                 from ../inst/include/cytolib/H5CytoFrame.hpp:12,
                 from H5CytoFrame.cpp:3:
D:/biocbuild/bbs-3.15-bioc/R/library/BH/include/boost/mpl/assert.hpp:194:21: warning: unnecessary parentheses in declaration of 'assert_arg' [-Wparentheses]
 failed ************ (Pred::************
                     ^
D:/biocbuild/bbs-3.15-bioc/R/library/BH/include/boost/mpl/assert.hpp:199:21: warning: unnecessary parentheses in declaration of 'assert_not_arg' [-Wparentheses]
 failed ************ (boost::mpl::not_<Pred>::************
                     ^
In file included from ../inst/include/cytolib/CytoFrame.hpp:16,
                 from ../inst/include/cytolib/MemCytoFrame.hpp:12,
                 from ../inst/include/cytolib/H5CytoFrame.hpp:12,
                 from H5CytoFrame.cpp:3:
../inst/include/cytolib/compensation.hpp: In constructor 'cytolib::compensation::compensation(const string&)':
../inst/include/cytolib/compensation.hpp:58:20: warning: comparison of integer expressions of different signedness: 'std::vector<std::__cxx11::basic_string<char>, std::allocator<std::__cxx11::basic_string<char> > >::size_type' {aka 'long long unsigned int'} and 'int' [-Wsign-compare]
   if(valVec.size() != 1+n+n*n){
      ~~~~~~~~~~~~~~^~~~~~~~~~
../inst/include/cytolib/compensation.hpp:62:21: warning: comparison of integer expressions of different signedness: 'std::vector<std::__cxx11::basic_string<char>, std::allocator<std::__cxx11::basic_string<char> > >::size_type' {aka 'long long unsigned int'} and 'int' [-Wsign-compare]
    if(valVec.size() == 1+n+2*n*n){
       ~~~~~~~~~~~~~~^~~~~~~~~~~~
../inst/include/cytolib/compensation.hpp:68:33: warning: comparison of integer expressions of different signedness: 'int' and 'std::vector<std::__cxx11::basic_string<char>, std::allocator<std::__cxx11::basic_string<char> > >::size_type' {aka 'long long unsigned int'} [-Wsign-compare]
     for(int i = 1+n, j = 1+n; i < valVec_fixed.size(); i++, j+=2)
                               ~~^~~~~~~~~~~~~~~~~~~~~
"C:/rtools40/mingw64/bin/"g++  -std=gnu++11 -I"D:/biocbuild/bbs-3.15-bioc/R/include" -DNDEBUG -DROUT -I../inst/include -DRCPP_PARALLEL_USE_TBB=1 -fpermissive -DBOOST_NO_AUTO_PTR  -DBOOST_FILESYSTEM_NO_CXX20_ATOMIC_REF -DBOOST_FILESYSTEM_SINGLE_THREADED -I'D:/biocbuild/bbs-3.15-bioc/R/library/Rcpp/include' -I'D:/biocbuild/bbs-3.15-bioc/R/library/BH/include' -I'D:/biocbuild/bbs-3.15-bioc/R/library/RProtoBufLib/include' -I'D:/biocbuild/bbs-3.15-bioc/R/library/Rhdf5lib/include' -I'D:/biocbuild/bbs-3.15-bioc/R/library/RcppArmadillo/include' -I'D:/biocbuild/bbs-3.15-bioc/R/library/RcppParallel/include'   -I"C:/extsoft/include"     -O2 -Wall  -mfpmath=sse -msse2 -mstackrealign -fno-reorder-blocks-and-partition  -c MemCytoFrame.cpp -o MemCytoFrame.o
MemCytoFrame.cpp:538: warning: ignoring #pragma omp parallel [-Wunknown-pragmas]
      #pragma omp parallel for
 
In file included from D:/biocbuild/bbs-3.15-bioc/R/library/BH/include/boost/mpl/aux_/na_assert.hpp:23,
                 from D:/biocbuild/bbs-3.15-bioc/R/library/BH/include/boost/mpl/arg.hpp:25,
                 from D:/biocbuild/bbs-3.15-bioc/R/library/BH/include/boost/mpl/placeholders.hpp:24,
                 from D:/biocbuild/bbs-3.15-bioc/R/library/BH/include/boost/iterator/iterator_categories.hpp:16,
                 from D:/biocbuild/bbs-3.15-bioc/R/library/BH/include/boost/iterator/iterator_facade.hpp:13,
                 from D:/biocbuild/bbs-3.15-bioc/R/library/BH/include/boost/range/iterator_range_core.hpp:27,
                 from D:/biocbuild/bbs-3.15-bioc/R/library/BH/include/boost/range/iterator_range.hpp:13,
                 from D:/biocbuild/bbs-3.15-bioc/R/library/BH/include/boost/range/as_literal.hpp:18,
                 from D:/biocbuild/bbs-3.15-bioc/R/library/BH/include/boost/algorithm/string/trim.hpp:19,
                 from D:/biocbuild/bbs-3.15-bioc/R/library/BH/include/boost/algorithm/string.hpp:19,
                 from ../inst/include/cytolib/transformation.hpp:18,
                 from ../inst/include/cytolib/compensation.hpp:15,
                 from ../inst/include/cytolib/CytoFrame.hpp:16,
                 from ../inst/include/cytolib/MemCytoFrame.hpp:12,
                 from MemCytoFrame.cpp:3:
D:/biocbuild/bbs-3.15-bioc/R/library/BH/include/boost/mpl/assert.hpp:194:21: warning: unnecessary parentheses in declaration of 'assert_arg' [-Wparentheses]
 failed ************ (Pred::************
                     ^
D:/biocbuild/bbs-3.15-bioc/R/library/BH/include/boost/mpl/assert.hpp:199:21: warning: unnecessary parentheses in declaration of 'assert_not_arg' [-Wparentheses]
 failed ************ (boost::mpl::not_<Pred>::************
                     ^
In file included from ../inst/include/cytolib/CytoFrame.hpp:16,
                 from ../inst/include/cytolib/MemCytoFrame.hpp:12,
                 from MemCytoFrame.cpp:3:
../inst/include/cytolib/compensation.hpp: In constructor 'cytolib::compensation::compensation(const string&)':
../inst/include/cytolib/compensation.hpp:58:20: warning: comparison of integer expressions of different signedness: 'std::vector<std::__cxx11::basic_string<char>, std::allocator<std::__cxx11::basic_string<char> > >::size_type' {aka 'long long unsigned int'} and 'int' [-Wsign-compare]
   if(valVec.size() != 1+n+n*n){
      ~~~~~~~~~~~~~~^~~~~~~~~~
../inst/include/cytolib/compensation.hpp:62:21: warning: comparison of integer expressions of different signedness: 'std::vector<std::__cxx11::basic_string<char>, std::allocator<std::__cxx11::basic_string<char> > >::size_type' {aka 'long long unsigned int'} and 'int' [-Wsign-compare]
    if(valVec.size() == 1+n+2*n*n){
       ~~~~~~~~~~~~~~^~~~~~~~~~~~
../inst/include/cytolib/compensation.hpp:68:33: warning: comparison of integer expressions of different signedness: 'int' and 'std::vector<std::__cxx11::basic_string<char>, std::allocator<std::__cxx11::basic_string<char> > >::size_type' {aka 'long long unsigned int'} [-Wsign-compare]
     for(int i = 1+n, j = 1+n; i < valVec_fixed.size(); i++, j+=2)
                               ~~^~~~~~~~~~~~~~~~~~~~~
"C:/rtools40/mingw64/bin/"g++  -std=gnu++11 -I"D:/biocbuild/bbs-3.15-bioc/R/include" -DNDEBUG -DROUT -I../inst/include -DRCPP_PARALLEL_USE_TBB=1 -fpermissive -DBOOST_NO_AUTO_PTR  -DBOOST_FILESYSTEM_NO_CXX20_ATOMIC_REF -DBOOST_FILESYSTEM_SINGLE_THREADED -I'D:/biocbuild/bbs-3.15-bioc/R/library/Rcpp/include' -I'D:/biocbuild/bbs-3.15-bioc/R/library/BH/include' -I'D:/biocbuild/bbs-3.15-bioc/R/library/RProtoBufLib/include' -I'D:/biocbuild/bbs-3.15-bioc/R/library/Rhdf5lib/include' -I'D:/biocbuild/bbs-3.15-bioc/R/library/RcppArmadillo/include' -I'D:/biocbuild/bbs-3.15-bioc/R/library/RcppParallel/include'   -I"C:/extsoft/include"     -O2 -Wall  -mfpmath=sse -msse2 -mstackrealign -fno-reorder-blocks-and-partition  -c POPINDICES.cpp -o POPINDICES.o
In file included from D:/biocbuild/bbs-3.15-bioc/R/library/BH/include/boost/mpl/aux_/na_assert.hpp:23,
                 from D:/biocbuild/bbs-3.15-bioc/R/library/BH/include/boost/mpl/arg.hpp:25,
                 from D:/biocbuild/bbs-3.15-bioc/R/library/BH/include/boost/mpl/placeholders.hpp:24,
                 from D:/biocbuild/bbs-3.15-bioc/R/library/BH/include/boost/iterator/iterator_categories.hpp:16,
                 from D:/biocbuild/bbs-3.15-bioc/R/library/BH/include/boost/iterator/iterator_facade.hpp:13,
                 from D:/biocbuild/bbs-3.15-bioc/R/library/BH/include/boost/range/iterator_range_core.hpp:27,
                 from D:/biocbuild/bbs-3.15-bioc/R/library/BH/include/boost/range/iterator_range.hpp:13,
                 from D:/biocbuild/bbs-3.15-bioc/R/library/BH/include/boost/range/as_literal.hpp:18,
                 from D:/biocbuild/bbs-3.15-bioc/R/library/BH/include/boost/algorithm/string/trim.hpp:19,
                 from D:/biocbuild/bbs-3.15-bioc/R/library/BH/include/boost/algorithm/string.hpp:19,
                 from ../inst/include/cytolib/transformation.hpp:18,
                 from ../inst/include/cytolib/compensation.hpp:15,
                 from ../inst/include/cytolib/CytoFrame.hpp:16,
                 from ../inst/include/cytolib/MemCytoFrame.hpp:12,
                 from ../inst/include/cytolib/gate.hpp:12,
                 from ../inst/include/cytolib/POPINDICES.hpp:14,
                 from POPINDICES.cpp:3:
D:/biocbuild/bbs-3.15-bioc/R/library/BH/include/boost/mpl/assert.hpp:194:21: warning: unnecessary parentheses in declaration of 'assert_arg' [-Wparentheses]
 failed ************ (Pred::************
                     ^
D:/biocbuild/bbs-3.15-bioc/R/library/BH/include/boost/mpl/assert.hpp:199:21: warning: unnecessary parentheses in declaration of 'assert_not_arg' [-Wparentheses]
 failed ************ (boost::mpl::not_<Pred>::************
                     ^
In file included from ../inst/include/cytolib/CytoFrame.hpp:16,
                 from ../inst/include/cytolib/MemCytoFrame.hpp:12,
                 from ../inst/include/cytolib/gate.hpp:12,
                 from ../inst/include/cytolib/POPINDICES.hpp:14,
                 from POPINDICES.cpp:3:
../inst/include/cytolib/compensation.hpp: In constructor 'cytolib::compensation::compensation(const string&)':
../inst/include/cytolib/compensation.hpp:58:20: warning: comparison of integer expressions of different signedness: 'std::vector<std::__cxx11::basic_string<char>, std::allocator<std::__cxx11::basic_string<char> > >::size_type' {aka 'long long unsigned int'} and 'int' [-Wsign-compare]
   if(valVec.size() != 1+n+n*n){
      ~~~~~~~~~~~~~~^~~~~~~~~~
../inst/include/cytolib/compensation.hpp:62:21: warning: comparison of integer expressions of different signedness: 'std::vector<std::__cxx11::basic_string<char>, std::allocator<std::__cxx11::basic_string<char> > >::size_type' {aka 'long long unsigned int'} and 'int' [-Wsign-compare]
    if(valVec.size() == 1+n+2*n*n){
       ~~~~~~~~~~~~~~^~~~~~~~~~~~
../inst/include/cytolib/compensation.hpp:68:33: warning: comparison of integer expressions of different signedness: 'int' and 'std::vector<std::__cxx11::basic_string<char>, std::allocator<std::__cxx11::basic_string<char> > >::size_type' {aka 'long long unsigned int'} [-Wsign-compare]
     for(int i = 1+n, j = 1+n; i < valVec_fixed.size(); i++, j+=2)
                               ~~^~~~~~~~~~~~~~~~~~~~~
"C:/rtools40/mingw64/bin/"g++  -std=gnu++11 -I"D:/biocbuild/bbs-3.15-bioc/R/include" -DNDEBUG -DROUT -I../inst/include -DRCPP_PARALLEL_USE_TBB=1 -fpermissive -DBOOST_NO_AUTO_PTR  -DBOOST_FILESYSTEM_NO_CXX20_ATOMIC_REF -DBOOST_FILESYSTEM_SINGLE_THREADED -I'D:/biocbuild/bbs-3.15-bioc/R/library/Rcpp/include' -I'D:/biocbuild/bbs-3.15-bioc/R/library/BH/include' -I'D:/biocbuild/bbs-3.15-bioc/R/library/RProtoBufLib/include' -I'D:/biocbuild/bbs-3.15-bioc/R/library/Rhdf5lib/include' -I'D:/biocbuild/bbs-3.15-bioc/R/library/RcppArmadillo/include' -I'D:/biocbuild/bbs-3.15-bioc/R/library/RcppParallel/include'   -I"C:/extsoft/include"     -O2 -Wall  -mfpmath=sse -msse2 -mstackrealign -fno-reorder-blocks-and-partition  -c calibrationTable.cpp -o calibrationTable.o
In file included from D:/biocbuild/bbs-3.15-bioc/R/library/BH/include/boost/foreach.hpp:76,
                 from calibrationTable.cpp:5:
D:/biocbuild/bbs-3.15-bioc/R/library/BH/include/boost/mpl/assert.hpp:194:21: warning: unnecessary parentheses in declaration of 'assert_arg' [-Wparentheses]
 failed ************ (Pred::************
                     ^
D:/biocbuild/bbs-3.15-bioc/R/library/BH/include/boost/mpl/assert.hpp:199:21: warning: unnecessary parentheses in declaration of 'assert_not_arg' [-Wparentheses]
 failed ************ (boost::mpl::not_<Pred>::************
                     ^
"C:/rtools40/mingw64/bin/"g++  -std=gnu++11 -I"D:/biocbuild/bbs-3.15-bioc/R/include" -DNDEBUG -DROUT -I../inst/include -DRCPP_PARALLEL_USE_TBB=1 -fpermissive -DBOOST_NO_AUTO_PTR  -DBOOST_FILESYSTEM_NO_CXX20_ATOMIC_REF -DBOOST_FILESYSTEM_SINGLE_THREADED -I'D:/biocbuild/bbs-3.15-bioc/R/library/Rcpp/include' -I'D:/biocbuild/bbs-3.15-bioc/R/library/BH/include' -I'D:/biocbuild/bbs-3.15-bioc/R/library/RProtoBufLib/include' -I'D:/biocbuild/bbs-3.15-bioc/R/library/Rhdf5lib/include' -I'D:/biocbuild/bbs-3.15-bioc/R/library/RcppArmadillo/include' -I'D:/biocbuild/bbs-3.15-bioc/R/library/RcppParallel/include'   -I"C:/extsoft/include"     -O2 -Wall  -mfpmath=sse -msse2 -mstackrealign -fno-reorder-blocks-and-partition  -c compensation.cpp -o compensation.o
In file included from D:/biocbuild/bbs-3.15-bioc/R/library/BH/include/boost/mpl/aux_/na_assert.hpp:23,
                 from D:/biocbuild/bbs-3.15-bioc/R/library/BH/include/boost/mpl/arg.hpp:25,
                 from D:/biocbuild/bbs-3.15-bioc/R/library/BH/include/boost/mpl/placeholders.hpp:24,
                 from D:/biocbuild/bbs-3.15-bioc/R/library/BH/include/boost/iterator/iterator_categories.hpp:16,
                 from D:/biocbuild/bbs-3.15-bioc/R/library/BH/include/boost/iterator/iterator_facade.hpp:13,
                 from D:/biocbuild/bbs-3.15-bioc/R/library/BH/include/boost/range/iterator_range_core.hpp:27,
                 from D:/biocbuild/bbs-3.15-bioc/R/library/BH/include/boost/range/iterator_range.hpp:13,
                 from D:/biocbuild/bbs-3.15-bioc/R/library/BH/include/boost/range/as_literal.hpp:18,
                 from D:/biocbuild/bbs-3.15-bioc/R/library/BH/include/boost/algorithm/string/trim.hpp:19,
                 from D:/biocbuild/bbs-3.15-bioc/R/library/BH/include/boost/algorithm/string.hpp:19,
                 from ../inst/include/cytolib/transformation.hpp:18,
                 from ../inst/include/cytolib/compensation.hpp:15,
                 from compensation.cpp:3:
D:/biocbuild/bbs-3.15-bioc/R/library/BH/include/boost/mpl/assert.hpp:194:21: warning: unnecessary parentheses in declaration of 'assert_arg' [-Wparentheses]
 failed ************ (Pred::************
                     ^
D:/biocbuild/bbs-3.15-bioc/R/library/BH/include/boost/mpl/assert.hpp:199:21: warning: unnecessary parentheses in declaration of 'assert_not_arg' [-Wparentheses]
 failed ************ (boost::mpl::not_<Pred>::************
                     ^
In file included from compensation.cpp:3:
../inst/include/cytolib/compensation.hpp: In constructor 'cytolib::compensation::compensation(const string&)':
../inst/include/cytolib/compensation.hpp:58:20: warning: comparison of integer expressions of different signedness: 'std::vector<std::__cxx11::basic_string<char>, std::allocator<std::__cxx11::basic_string<char> > >::size_type' {aka 'long long unsigned int'} and 'int' [-Wsign-compare]
   if(valVec.size() != 1+n+n*n){
      ~~~~~~~~~~~~~~^~~~~~~~~~
../inst/include/cytolib/compensation.hpp:62:21: warning: comparison of integer expressions of different signedness: 'std::vector<std::__cxx11::basic_string<char>, std::allocator<std::__cxx11::basic_string<char> > >::size_type' {aka 'long long unsigned int'} and 'int' [-Wsign-compare]
    if(valVec.size() == 1+n+2*n*n){
       ~~~~~~~~~~~~~~^~~~~~~~~~~~
../inst/include/cytolib/compensation.hpp:68:33: warning: comparison of integer expressions of different signedness: 'int' and 'std::vector<std::__cxx11::basic_string<char>, std::allocator<std::__cxx11::basic_string<char> > >::size_type' {aka 'long long unsigned int'} [-Wsign-compare]
     for(int i = 1+n, j = 1+n; i < valVec_fixed.size(); i++, j+=2)
                               ~~^~~~~~~~~~~~~~~~~~~~~
"C:/rtools40/mingw64/bin/"g++  -std=gnu++11 -I"D:/biocbuild/bbs-3.15-bioc/R/include" -DNDEBUG -DROUT -I../inst/include -DRCPP_PARALLEL_USE_TBB=1 -fpermissive -DBOOST_NO_AUTO_PTR  -DBOOST_FILESYSTEM_NO_CXX20_ATOMIC_REF -DBOOST_FILESYSTEM_SINGLE_THREADED -I'D:/biocbuild/bbs-3.15-bioc/R/library/Rcpp/include' -I'D:/biocbuild/bbs-3.15-bioc/R/library/BH/include' -I'D:/biocbuild/bbs-3.15-bioc/R/library/RProtoBufLib/include' -I'D:/biocbuild/bbs-3.15-bioc/R/library/Rhdf5lib/include' -I'D:/biocbuild/bbs-3.15-bioc/R/library/RcppArmadillo/include' -I'D:/biocbuild/bbs-3.15-bioc/R/library/RcppParallel/include'   -I"C:/extsoft/include"     -O2 -Wall  -mfpmath=sse -msse2 -mstackrealign -fno-reorder-blocks-and-partition  -c dummy.cpp -o dummy.o
"C:/rtools40/mingw64/bin/"g++  -std=gnu++11 -I"D:/biocbuild/bbs-3.15-bioc/R/include" -DNDEBUG -DROUT -I../inst/include -DRCPP_PARALLEL_USE_TBB=1 -fpermissive -DBOOST_NO_AUTO_PTR  -DBOOST_FILESYSTEM_NO_CXX20_ATOMIC_REF -DBOOST_FILESYSTEM_SINGLE_THREADED -I'D:/biocbuild/bbs-3.15-bioc/R/library/Rcpp/include' -I'D:/biocbuild/bbs-3.15-bioc/R/library/BH/include' -I'D:/biocbuild/bbs-3.15-bioc/R/library/RProtoBufLib/include' -I'D:/biocbuild/bbs-3.15-bioc/R/library/Rhdf5lib/include' -I'D:/biocbuild/bbs-3.15-bioc/R/library/RcppArmadillo/include' -I'D:/biocbuild/bbs-3.15-bioc/R/library/RcppParallel/include'   -I"C:/extsoft/include"     -O2 -Wall  -mfpmath=sse -msse2 -mstackrealign -fno-reorder-blocks-and-partition  -c ellipse2points.cpp -o ellipse2points.o
"C:/rtools40/mingw64/bin/"g++  -std=gnu++11 -I"D:/biocbuild/bbs-3.15-bioc/R/include" -DNDEBUG -DROUT -I../inst/include -DRCPP_PARALLEL_USE_TBB=1 -fpermissive -DBOOST_NO_AUTO_PTR  -DBOOST_FILESYSTEM_NO_CXX20_ATOMIC_REF -DBOOST_FILESYSTEM_SINGLE_THREADED -I'D:/biocbuild/bbs-3.15-bioc/R/library/Rcpp/include' -I'D:/biocbuild/bbs-3.15-bioc/R/library/BH/include' -I'D:/biocbuild/bbs-3.15-bioc/R/library/RProtoBufLib/include' -I'D:/biocbuild/bbs-3.15-bioc/R/library/Rhdf5lib/include' -I'D:/biocbuild/bbs-3.15-bioc/R/library/RcppArmadillo/include' -I'D:/biocbuild/bbs-3.15-bioc/R/library/RcppParallel/include'   -I"C:/extsoft/include"     -O2 -Wall  -mfpmath=sse -msse2 -mstackrealign -fno-reorder-blocks-and-partition  -c gate.cpp -o gate.o
In file included from D:/biocbuild/bbs-3.15-bioc/R/library/BH/include/boost/mpl/aux_/na_assert.hpp:23,
                 from D:/biocbuild/bbs-3.15-bioc/R/library/BH/include/boost/mpl/arg.hpp:25,
                 from D:/biocbuild/bbs-3.15-bioc/R/library/BH/include/boost/mpl/placeholders.hpp:24,
                 from D:/biocbuild/bbs-3.15-bioc/R/library/BH/include/boost/iterator/iterator_categories.hpp:16,
                 from D:/biocbuild/bbs-3.15-bioc/R/library/BH/include/boost/iterator/iterator_facade.hpp:13,
                 from D:/biocbuild/bbs-3.15-bioc/R/library/BH/include/boost/range/iterator_range_core.hpp:27,
                 from D:/biocbuild/bbs-3.15-bioc/R/library/BH/include/boost/range/iterator_range.hpp:13,
                 from D:/biocbuild/bbs-3.15-bioc/R/library/BH/include/boost/range/as_literal.hpp:18,
                 from D:/biocbuild/bbs-3.15-bioc/R/library/BH/include/boost/algorithm/string/trim.hpp:19,
                 from D:/biocbuild/bbs-3.15-bioc/R/library/BH/include/boost/algorithm/string.hpp:19,
                 from ../inst/include/cytolib/transformation.hpp:18,
                 from ../inst/include/cytolib/compensation.hpp:15,
                 from ../inst/include/cytolib/CytoFrame.hpp:16,
                 from ../inst/include/cytolib/MemCytoFrame.hpp:12,
                 from ../inst/include/cytolib/gate.hpp:12,
                 from gate.cpp:3:
D:/biocbuild/bbs-3.15-bioc/R/library/BH/include/boost/mpl/assert.hpp:194:21: warning: unnecessary parentheses in declaration of 'assert_arg' [-Wparentheses]
 failed ************ (Pred::************
                     ^
D:/biocbuild/bbs-3.15-bioc/R/library/BH/include/boost/mpl/assert.hpp:199:21: warning: unnecessary parentheses in declaration of 'assert_not_arg' [-Wparentheses]
 failed ************ (boost::mpl::not_<Pred>::************
                     ^
In file included from ../inst/include/cytolib/CytoFrame.hpp:16,
                 from ../inst/include/cytolib/MemCytoFrame.hpp:12,
                 from ../inst/include/cytolib/gate.hpp:12,
                 from gate.cpp:3:
../inst/include/cytolib/compensation.hpp: In constructor 'cytolib::compensation::compensation(const string&)':
../inst/include/cytolib/compensation.hpp:58:20: warning: comparison of integer expressions of different signedness: 'std::vector<std::__cxx11::basic_string<char>, std::allocator<std::__cxx11::basic_string<char> > >::size_type' {aka 'long long unsigned int'} and 'int' [-Wsign-compare]
   if(valVec.size() != 1+n+n*n){
      ~~~~~~~~~~~~~~^~~~~~~~~~
../inst/include/cytolib/compensation.hpp:62:21: warning: comparison of integer expressions of different signedness: 'std::vector<std::__cxx11::basic_string<char>, std::allocator<std::__cxx11::basic_string<char> > >::size_type' {aka 'long long unsigned int'} and 'int' [-Wsign-compare]
    if(valVec.size() == 1+n+2*n*n){
       ~~~~~~~~~~~~~~^~~~~~~~~~~~
../inst/include/cytolib/compensation.hpp:68:33: warning: comparison of integer expressions of different signedness: 'int' and 'std::vector<std::__cxx11::basic_string<char>, std::allocator<std::__cxx11::basic_string<char> > >::size_type' {aka 'long long unsigned int'} [-Wsign-compare]
     for(int i = 1+n, j = 1+n; i < valVec_fixed.size(); i++, j+=2)
                               ~~^~~~~~~~~~~~~~~~~~~~~
"C:/rtools40/mingw64/bin/"g++  -std=gnu++11 -I"D:/biocbuild/bbs-3.15-bioc/R/include" -DNDEBUG -DROUT -I../inst/include -DRCPP_PARALLEL_USE_TBB=1 -fpermissive -DBOOST_NO_AUTO_PTR  -DBOOST_FILESYSTEM_NO_CXX20_ATOMIC_REF -DBOOST_FILESYSTEM_SINGLE_THREADED -I'D:/biocbuild/bbs-3.15-bioc/R/library/Rcpp/include' -I'D:/biocbuild/bbs-3.15-bioc/R/library/BH/include' -I'D:/biocbuild/bbs-3.15-bioc/R/library/RProtoBufLib/include' -I'D:/biocbuild/bbs-3.15-bioc/R/library/Rhdf5lib/include' -I'D:/biocbuild/bbs-3.15-bioc/R/library/RcppArmadillo/include' -I'D:/biocbuild/bbs-3.15-bioc/R/library/RcppParallel/include'   -I"C:/extsoft/include"     -O2 -Wall  -mfpmath=sse -msse2 -mstackrealign -fno-reorder-blocks-and-partition  -c global.cpp -o global.o
In file included from D:/biocbuild/bbs-3.15-bioc/R/library/BH/include/boost/mpl/aux_/na_assert.hpp:23,
                 from D:/biocbuild/bbs-3.15-bioc/R/library/BH/include/boost/mpl/arg.hpp:25,
                 from D:/biocbuild/bbs-3.15-bioc/R/library/BH/include/boost/mpl/placeholders.hpp:24,
                 from D:/biocbuild/bbs-3.15-bioc/R/library/BH/include/boost/iterator/iterator_categories.hpp:16,
                 from D:/biocbuild/bbs-3.15-bioc/R/library/BH/include/boost/iterator/iterator_facade.hpp:13,
                 from D:/biocbuild/bbs-3.15-bioc/R/library/BH/include/boost/filesystem/path.hpp:22,
                 from D:/biocbuild/bbs-3.15-bioc/R/library/BH/include/boost/filesystem.hpp:16,
                 from ../inst/include/cytolib/CytoVFS.hpp:17,
                 from ../inst/include/cytolib/global.hpp:21,
                 from global.cpp:3:
D:/biocbuild/bbs-3.15-bioc/R/library/BH/include/boost/mpl/assert.hpp:194:21: warning: unnecessary parentheses in declaration of 'assert_arg' [-Wparentheses]
 failed ************ (Pred::************
                     ^
D:/biocbuild/bbs-3.15-bioc/R/library/BH/include/boost/mpl/assert.hpp:199:21: warning: unnecessary parentheses in declaration of 'assert_not_arg' [-Wparentheses]
 failed ************ (boost::mpl::not_<Pred>::************
                     ^
global.cpp: In function 'std::__cxx11::string cytolib::s3_to_http(std::__cxx11::string)':
global.cpp:46:20: warning: comparison of integer expressions of different signedness: 'int' and 'std::vector<std::__cxx11::basic_string<char> >::size_type' {aka 'long long unsigned int'} [-Wsign-compare]
   for(int i = 1; i < tokens.size(); i++)
                  ~~^~~~~~~~~~~~~~~
"C:/rtools40/mingw64/bin/"g++  -std=gnu++11 -I"D:/biocbuild/bbs-3.15-bioc/R/include" -DNDEBUG -DROUT -I../inst/include -DRCPP_PARALLEL_USE_TBB=1 -fpermissive -DBOOST_NO_AUTO_PTR  -DBOOST_FILESYSTEM_NO_CXX20_ATOMIC_REF -DBOOST_FILESYSTEM_SINGLE_THREADED -I'D:/biocbuild/bbs-3.15-bioc/R/library/Rcpp/include' -I'D:/biocbuild/bbs-3.15-bioc/R/library/BH/include' -I'D:/biocbuild/bbs-3.15-bioc/R/library/RProtoBufLib/include' -I'D:/biocbuild/bbs-3.15-bioc/R/library/Rhdf5lib/include' -I'D:/biocbuild/bbs-3.15-bioc/R/library/RcppArmadillo/include' -I'D:/biocbuild/bbs-3.15-bioc/R/library/RcppParallel/include'   -I"C:/extsoft/include"     -O2 -Wall  -mfpmath=sse -msse2 -mstackrealign -fno-reorder-blocks-and-partition  -c in_polygon.cpp -o in_polygon.o
"C:/rtools40/mingw64/bin/"g++  -std=gnu++11 -I"D:/biocbuild/bbs-3.15-bioc/R/include" -DNDEBUG -DROUT -I../inst/include -DRCPP_PARALLEL_USE_TBB=1 -fpermissive -DBOOST_NO_AUTO_PTR  -DBOOST_FILESYSTEM_NO_CXX20_ATOMIC_REF -DBOOST_FILESYSTEM_SINGLE_THREADED -I'D:/biocbuild/bbs-3.15-bioc/R/library/Rcpp/include' -I'D:/biocbuild/bbs-3.15-bioc/R/library/BH/include' -I'D:/biocbuild/bbs-3.15-bioc/R/library/RProtoBufLib/include' -I'D:/biocbuild/bbs-3.15-bioc/R/library/Rhdf5lib/include' -I'D:/biocbuild/bbs-3.15-bioc/R/library/RcppArmadillo/include' -I'D:/biocbuild/bbs-3.15-bioc/R/library/RcppParallel/include'   -I"C:/extsoft/include"     -O2 -Wall  -mfpmath=sse -msse2 -mstackrealign -fno-reorder-blocks-and-partition  -c nodeProperties.cpp -o nodeProperties.o
In file included from D:/biocbuild/bbs-3.15-bioc/R/library/BH/include/boost/mpl/aux_/na_assert.hpp:23,
                 from D:/biocbuild/bbs-3.15-bioc/R/library/BH/include/boost/mpl/arg.hpp:25,
                 from D:/biocbuild/bbs-3.15-bioc/R/library/BH/include/boost/mpl/placeholders.hpp:24,
                 from D:/biocbuild/bbs-3.15-bioc/R/library/BH/include/boost/iterator/iterator_categories.hpp:16,
                 from D:/biocbuild/bbs-3.15-bioc/R/library/BH/include/boost/iterator/iterator_facade.hpp:13,
                 from D:/biocbuild/bbs-3.15-bioc/R/library/BH/include/boost/range/iterator_range_core.hpp:27,
                 from D:/biocbuild/bbs-3.15-bioc/R/library/BH/include/boost/range/iterator_range.hpp:13,
                 from D:/biocbuild/bbs-3.15-bioc/R/library/BH/include/boost/range/as_literal.hpp:18,
                 from D:/biocbuild/bbs-3.15-bioc/R/library/BH/include/boost/algorithm/string/trim.hpp:19,
                 from D:/biocbuild/bbs-3.15-bioc/R/library/BH/include/boost/algorithm/string.hpp:19,
                 from ../inst/include/cytolib/transformation.hpp:18,
                 from ../inst/include/cytolib/compensation.hpp:15,
                 from ../inst/include/cytolib/CytoFrame.hpp:16,
                 from ../inst/include/cytolib/MemCytoFrame.hpp:12,
                 from ../inst/include/cytolib/gate.hpp:12,
                 from ../inst/include/cytolib/POPINDICES.hpp:14,
                 from ../inst/include/cytolib/nodeProperties.hpp:13,
                 from nodeProperties.cpp:3:
D:/biocbuild/bbs-3.15-bioc/R/library/BH/include/boost/mpl/assert.hpp:194:21: warning: unnecessary parentheses in declaration of 'assert_arg' [-Wparentheses]
 failed ************ (Pred::************
                     ^
D:/biocbuild/bbs-3.15-bioc/R/library/BH/include/boost/mpl/assert.hpp:199:21: warning: unnecessary parentheses in declaration of 'assert_not_arg' [-Wparentheses]
 failed ************ (boost::mpl::not_<Pred>::************
                     ^
In file included from ../inst/include/cytolib/CytoFrame.hpp:16,
                 from ../inst/include/cytolib/MemCytoFrame.hpp:12,
                 from ../inst/include/cytolib/gate.hpp:12,
                 from ../inst/include/cytolib/POPINDICES.hpp:14,
                 from ../inst/include/cytolib/nodeProperties.hpp:13,
                 from nodeProperties.cpp:3:
../inst/include/cytolib/compensation.hpp: In constructor 'cytolib::compensation::compensation(const string&)':
../inst/include/cytolib/compensation.hpp:58:20: warning: comparison of integer expressions of different signedness: 'std::vector<std::__cxx11::basic_string<char>, std::allocator<std::__cxx11::basic_string<char> > >::size_type' {aka 'long long unsigned int'} and 'int' [-Wsign-compare]
   if(valVec.size() != 1+n+n*n){
      ~~~~~~~~~~~~~~^~~~~~~~~~
../inst/include/cytolib/compensation.hpp:62:21: warning: comparison of integer expressions of different signedness: 'std::vector<std::__cxx11::basic_string<char>, std::allocator<std::__cxx11::basic_string<char> > >::size_type' {aka 'long long unsigned int'} and 'int' [-Wsign-compare]
    if(valVec.size() == 1+n+2*n*n){
       ~~~~~~~~~~~~~~^~~~~~~~~~~~
../inst/include/cytolib/compensation.hpp:68:33: warning: comparison of integer expressions of different signedness: 'int' and 'std::vector<std::__cxx11::basic_string<char>, std::allocator<std::__cxx11::basic_string<char> > >::size_type' {aka 'long long unsigned int'} [-Wsign-compare]
     for(int i = 1+n, j = 1+n; i < valVec_fixed.size(); i++, j+=2)
                               ~~^~~~~~~~~~~~~~~~~~~~~
"C:/rtools40/mingw64/bin/"g++  -std=gnu++11 -I"D:/biocbuild/bbs-3.15-bioc/R/include" -DNDEBUG -DROUT -I../inst/include -DRCPP_PARALLEL_USE_TBB=1 -fpermissive -DBOOST_NO_AUTO_PTR  -DBOOST_FILESYSTEM_NO_CXX20_ATOMIC_REF -DBOOST_FILESYSTEM_SINGLE_THREADED -I'D:/biocbuild/bbs-3.15-bioc/R/library/Rcpp/include' -I'D:/biocbuild/bbs-3.15-bioc/R/library/BH/include' -I'D:/biocbuild/bbs-3.15-bioc/R/library/RProtoBufLib/include' -I'D:/biocbuild/bbs-3.15-bioc/R/library/Rhdf5lib/include' -I'D:/biocbuild/bbs-3.15-bioc/R/library/RcppArmadillo/include' -I'D:/biocbuild/bbs-3.15-bioc/R/library/RcppParallel/include'   -I"C:/extsoft/include"     -O2 -Wall  -mfpmath=sse -msse2 -mstackrealign -fno-reorder-blocks-and-partition  -c spline.cpp -o spline.o
"C:/rtools40/mingw64/bin/"g++  -std=gnu++11 -I"D:/biocbuild/bbs-3.15-bioc/R/include" -DNDEBUG -DROUT -I../inst/include -DRCPP_PARALLEL_USE_TBB=1 -fpermissive -DBOOST_NO_AUTO_PTR  -DBOOST_FILESYSTEM_NO_CXX20_ATOMIC_REF -DBOOST_FILESYSTEM_SINGLE_THREADED -I'D:/biocbuild/bbs-3.15-bioc/R/library/Rcpp/include' -I'D:/biocbuild/bbs-3.15-bioc/R/library/BH/include' -I'D:/biocbuild/bbs-3.15-bioc/R/library/RProtoBufLib/include' -I'D:/biocbuild/bbs-3.15-bioc/R/library/Rhdf5lib/include' -I'D:/biocbuild/bbs-3.15-bioc/R/library/RcppArmadillo/include' -I'D:/biocbuild/bbs-3.15-bioc/R/library/RcppParallel/include'   -I"C:/extsoft/include"     -O2 -Wall  -mfpmath=sse -msse2 -mstackrealign -fno-reorder-blocks-and-partition  -c trans_group.cpp -o trans_group.o
In file included from D:/biocbuild/bbs-3.15-bioc/R/library/BH/include/boost/mpl/aux_/na_assert.hpp:23,
                 from D:/biocbuild/bbs-3.15-bioc/R/library/BH/include/boost/mpl/arg.hpp:25,
                 from D:/biocbuild/bbs-3.15-bioc/R/library/BH/include/boost/mpl/placeholders.hpp:24,
                 from D:/biocbuild/bbs-3.15-bioc/R/library/BH/include/boost/iterator/iterator_categories.hpp:16,
                 from D:/biocbuild/bbs-3.15-bioc/R/library/BH/include/boost/iterator/iterator_facade.hpp:13,
                 from D:/biocbuild/bbs-3.15-bioc/R/library/BH/include/boost/range/iterator_range_core.hpp:27,
                 from D:/biocbuild/bbs-3.15-bioc/R/library/BH/include/boost/range/iterator_range.hpp:13,
                 from D:/biocbuild/bbs-3.15-bioc/R/library/BH/include/boost/range/as_literal.hpp:18,
                 from D:/biocbuild/bbs-3.15-bioc/R/library/BH/include/boost/algorithm/string/trim.hpp:19,
                 from D:/biocbuild/bbs-3.15-bioc/R/library/BH/include/boost/algorithm/string.hpp:19,
                 from ../inst/include/cytolib/transformation.hpp:18,
                 from ../inst/include/cytolib/trans_group.hpp:13,
                 from trans_group.cpp:3:
D:/biocbuild/bbs-3.15-bioc/R/library/BH/include/boost/mpl/assert.hpp:194:21: warning: unnecessary parentheses in declaration of 'assert_arg' [-Wparentheses]
 failed ************ (Pred::************
                     ^
D:/biocbuild/bbs-3.15-bioc/R/library/BH/include/boost/mpl/assert.hpp:199:21: warning: unnecessary parentheses in declaration of 'assert_not_arg' [-Wparentheses]
 failed ************ (boost::mpl::not_<Pred>::************
                     ^
"C:/rtools40/mingw64/bin/"g++  -std=gnu++11 -I"D:/biocbuild/bbs-3.15-bioc/R/include" -DNDEBUG -DROUT -I../inst/include -DRCPP_PARALLEL_USE_TBB=1 -fpermissive -DBOOST_NO_AUTO_PTR  -DBOOST_FILESYSTEM_NO_CXX20_ATOMIC_REF -DBOOST_FILESYSTEM_SINGLE_THREADED -I'D:/biocbuild/bbs-3.15-bioc/R/library/Rcpp/include' -I'D:/biocbuild/bbs-3.15-bioc/R/library/BH/include' -I'D:/biocbuild/bbs-3.15-bioc/R/library/RProtoBufLib/include' -I'D:/biocbuild/bbs-3.15-bioc/R/library/Rhdf5lib/include' -I'D:/biocbuild/bbs-3.15-bioc/R/library/RcppArmadillo/include' -I'D:/biocbuild/bbs-3.15-bioc/R/library/RcppParallel/include'   -I"C:/extsoft/include"     -O2 -Wall  -mfpmath=sse -msse2 -mstackrealign -fno-reorder-blocks-and-partition  -c transformation.cpp -o transformation.o
In file included from D:/biocbuild/bbs-3.15-bioc/R/library/BH/include/boost/mpl/aux_/na_assert.hpp:23,
                 from D:/biocbuild/bbs-3.15-bioc/R/library/BH/include/boost/mpl/arg.hpp:25,
                 from D:/biocbuild/bbs-3.15-bioc/R/library/BH/include/boost/mpl/placeholders.hpp:24,
                 from D:/biocbuild/bbs-3.15-bioc/R/library/BH/include/boost/iterator/iterator_categories.hpp:16,
                 from D:/biocbuild/bbs-3.15-bioc/R/library/BH/include/boost/iterator/iterator_facade.hpp:13,
                 from D:/biocbuild/bbs-3.15-bioc/R/library/BH/include/boost/range/iterator_range_core.hpp:27,
                 from D:/biocbuild/bbs-3.15-bioc/R/library/BH/include/boost/range/iterator_range.hpp:13,
                 from D:/biocbuild/bbs-3.15-bioc/R/library/BH/include/boost/range/as_literal.hpp:18,
                 from D:/biocbuild/bbs-3.15-bioc/R/library/BH/include/boost/algorithm/string/trim.hpp:19,
                 from D:/biocbuild/bbs-3.15-bioc/R/library/BH/include/boost/algorithm/string.hpp:19,
                 from ../inst/include/cytolib/transformation.hpp:18,
                 from transformation.cpp:3:
D:/biocbuild/bbs-3.15-bioc/R/library/BH/include/boost/mpl/assert.hpp:194:21: warning: unnecessary parentheses in declaration of 'assert_arg' [-Wparentheses]
 failed ************ (Pred::************
                     ^
D:/biocbuild/bbs-3.15-bioc/R/library/BH/include/boost/mpl/assert.hpp:199:21: warning: unnecessary parentheses in declaration of 'assert_not_arg' [-Wparentheses]
 failed ************ (boost::mpl::not_<Pred>::************
                     ^
mkdir -p "D:/biocbuild/bbs-3.15-bioc/R/library/00LOCK-cytolib/00new/cytolib/lib/x64"
"C:/rtools40/mingw64/bin/"ar rs "D:/biocbuild/bbs-3.15-bioc/R/library/00LOCK-cytolib/00new/cytolib/lib/x64/libcytolib.a" CytoFrame.o CytoFrameView.o CytoVFS.o GatingHierarchy.o GatingSet.o H5CytoFrame.o MemCytoFrame.o POPINDICES.o calibrationTable.o compensation.o dummy.o ellipse2points.o gate.o global.o in_polygon.o nodeProperties.o spline.o trans_group.o transformation.o boost/libs/filesystem/src/portability.o boost/libs/filesystem/src/unique_path.o boost/libs/filesystem/src/operations.o boost/libs/filesystem/src/path.o boost/libs/filesystem/src/directory.o boost/libs/filesystem/src/exception.o boost/libs/filesystem/src/windows_file_codecvt.o boost/libs/filesystem/src/utf8_codecvt_facet.o boost/libs/filesystem/src/codecvt_error_category.o boost/libs/filesystem/src/path_traits.o boost/libs/system/src/error_code.o
C:\rtools40\mingw64\bin\ar.exe: creating D:/biocbuild/bbs-3.15-bioc/R/library/00LOCK-cytolib/00new/cytolib/lib/x64/libcytolib.a
C:/rtools40/mingw64/bin/g++ -shared -s -static-libgcc -o cytolib.dll tmp.def CytoFrame.o CytoFrameView.o CytoVFS.o GatingHierarchy.o GatingSet.o H5CytoFrame.o MemCytoFrame.o POPINDICES.o calibrationTable.o compensation.o dummy.o ellipse2points.o gate.o global.o in_polygon.o nodeProperties.o spline.o trans_group.o transformation.o boost/libs/filesystem/src/portability.o boost/libs/filesystem/src/unique_path.o boost/libs/filesystem/src/operations.o boost/libs/filesystem/src/path.o boost/libs/filesystem/src/directory.o boost/libs/filesystem/src/exception.o boost/libs/filesystem/src/windows_file_codecvt.o boost/libs/filesystem/src/utf8_codecvt_facet.o boost/libs/filesystem/src/codecvt_error_category.o boost/libs/filesystem/src/path_traits.o boost/libs/system/src/error_code.o -LD:/biocbuild/bbs-3.15-bioc/R/bin/x64 -lRlapack -LD:/biocbuild/bbs-3.15-bioc/R/bin/x64 -lRblas -lgfortran -lm -lquadmath D:/biocbuild/bbs-3.15-bioc/R/library/RProtoBufLib/lib/x64/GatingSet.pb.o -LD:/biocbuild/bbs-3.15-bioc/R/library/RProtoBufLib/lib/x64 -lprotobuf -LD:/biocbuild/bbs-3.15-bioc/R/library/Rhdf5lib/lib/x64 -lhdf5_cpp -lhdf5 -lcurl -lssh2 -lssl -lcrypto -lwldap32 -lws2_32 -lcrypt32 -lszip -lz -lpsapi -LD:/biocbuild/bbs-3.15-bioc/R/library/RcppParallel/lib/x64 -ltbb -ltbbmalloc -lws2_32 -LC:/extsoft/lib/x64 -LC:/extsoft/lib -LD:/biocbuild/bbs-3.15-bioc/R/bin/x64 -lR
installing to D:/biocbuild/bbs-3.15-bioc/R/library/00LOCK-cytolib/00new/cytolib/libs/x64
** R
** inst
** byte-compile and prepare package for lazy loading
** help
*** installing help indices
  converting help for package 'cytolib'
    finding HTML links ... done
    cytolib_LdFlags                         html  
** building package indices
** installing vignettes
** testing if installed package can be loaded from temporary location
** testing if installed package can be loaded from final location
** testing if installed package keeps a record of temporary installation path
* DONE (cytolib)
Making 'packages.html' ...Warning in packageDescription(i, lib.loc = lib, fields = "Title", encoding = "UTF-8") :
  DESCRIPTION file of package 'qckitfastq' is missing or broken
Warning in packageDescription(i, lib.loc = lib, fields = "Title", encoding = "UTF-8") :
  DESCRIPTION file of package 'qvalue' is missing or broken
 done

Tests output


Example timings