Back to Multiple platform build/check report for BioC 3.15
AB[C]DEFGHIJKLMNOPQRSTUVWXYZ

This page was generated on 2022-01-22 11:07:02 -0500 (Sat, 22 Jan 2022).

HostnameOSArch (*)R versionInstalled pkgs
nebbiolo1Linux (Ubuntu 20.04.4 LTS)x86_64R Under development (unstable) (2022-01-05 r81451) -- "Unsuffered Consequences" 4163
riesling1Windows Server 2019 Standardx64R Under development (unstable) (2021-11-21 r81221) -- "Unsuffered Consequences" 4058
palomino3Windows Server 2022 Datacenterx64R Under development (unstable) (2021-12-21 r81400 ucrt) -- "Unsuffered Consequences" 4000
merida1macOS 10.14.6 Mojavex86_64R Under development (unstable) (2022-01-05 r81451) -- "Unsuffered Consequences" 4117
Click on any hostname to see more info about the system (e.g. compilers)      (*) as reported by 'uname -p', except on Windows and Mac OS X

BUILD results for cytolib on riesling1


To the developers/maintainers of the cytolib package:
- Please allow up to 24 hours (and sometimes 48 hours) for your latest push to git@git.bioconductor.org:packages/cytolib.git to
reflect on this report. See How and When does the builder pull? When will my changes propagate? here for more information.
- Make sure to use the following settings in order to reproduce any error or warning you see on this page.

raw results

Package 443/2075HostnameOS / ArchINSTALLBUILDCHECKBUILD BIN
cytolib 2.7.1  (landing page)
Mike Jiang
Snapshot Date: 2022-01-21 13:55:18 -0500 (Fri, 21 Jan 2022)
git_url: https://git.bioconductor.org/packages/cytolib
git_branch: master
git_last_commit: 34ef000
git_last_commit_date: 2021-12-18 18:54:56 -0500 (Sat, 18 Dec 2021)
nebbiolo1Linux (Ubuntu 20.04.4 LTS) / x86_64  OK    OK    OK  UNNEEDED, same version is already published
riesling1Windows Server 2019 Standard / x64  OK    OK    NA    NA  
palomino3Windows Server 2022 Datacenter / x64  ERROR    ERROR  skippedskipped
merida1macOS 10.14.6 Mojave / x86_64  OK    OK    OK    OK  UNNEEDED, same version is already published

Summary

Package: cytolib
Version: 2.7.1
Command: chmod a+r cytolib -R && D:\biocbuild\bbs-3.15-bioc\R\bin\R.exe CMD build --keep-empty-dirs --no-resave-data cytolib
StartedAt: 2022-01-21 16:36:29 -0500 (Fri, 21 Jan 2022)
EndedAt: 2022-01-21 16:38:46 -0500 (Fri, 21 Jan 2022)
EllapsedTime: 136.5 seconds
RetCode: 0
Status:   OK  
PackageFile: cytolib_2.7.1.tar.gz
PackageFileSize: 5.22 MiB

Command output

##############################################################################
##############################################################################
###
### Running command:
###
###   chmod a+r cytolib -R && D:\biocbuild\bbs-3.15-bioc\R\bin\R.exe CMD build --keep-empty-dirs --no-resave-data cytolib
###
##############################################################################
##############################################################################


* checking for file 'cytolib/DESCRIPTION' ... OK
* preparing 'cytolib':
* checking DESCRIPTION meta-information ... OK
* cleaning src
* running 'cleanup.win'
* installing the package to build vignettes
* creating vignettes ... OK
* cleaning src
* running 'cleanup.win'
* checking for LF line-endings in source and make files and shell scripts
* checking for empty or unneeded directories
* building 'cytolib_2.7.1.tar.gz'
Warning: file 'cytolib/cleanup' did not have execute permissions: corrected
Warning: file 'cytolib/configure' did not have execute permissions: corrected